BEGIN:VCALENDAR
VERSION:2.0
PRODID:-//Natur und Heimat e. V. - ECPv6.15.17.1//NONSGML v1.0//EN
CALSCALE:GREGORIAN
METHOD:PUBLISH
X-WR-CALNAME:Natur und Heimat e. V.
X-ORIGINAL-URL:https://natur-und-heimat.de
X-WR-CALDESC:Veranstaltungen für Natur und Heimat e. V.
REFRESH-INTERVAL;VALUE=DURATION:PT1H
X-Robots-Tag:noindex
X-PUBLISHED-TTL:PT1H
BEGIN:VTIMEZONE
TZID:UTC
BEGIN:STANDARD
TZOFFSETFROM:+0000
TZOFFSETTO:+0000
TZNAME:UTC
DTSTART:20250101T000000
END:STANDARD
END:VTIMEZONE
BEGIN:VEVENT
DTSTART;VALUE=DATE:20260207
DTEND;VALUE=DATE:20260208
DTSTAMP:20260419T165601
CREATED:20251202T115921Z
LAST-MODIFIED:20251202T115921Z
UID:4526-1770422400-1770508799@natur-und-heimat.de
SUMMARY:Tageswanderung | Pariner Berg
DESCRIPTION:Streckeninformationen: Einkehr „Restaurant Pariner Berg“ \nStreckenlänge: ca. 17 km \nTreffen: 09.33 Uhr \nTreffpunkt: Haltestelle „Reinsbeker Str.“ (ZOB 09.23 Uhr\, Linie 9) \nTourleitung: Silvia Flinker – Tel. 7073576 \nMobilnummer: 0174/6513957 (Bitte nur während der Wanderung benutzen) \nAls Wanderverein freuen wir uns über Gäste\, die gemeinsam mit uns die Natur erkunden möchten.\nEgal\, ob Sie bereits Mitglied sind oder nicht\, Sie sind herzlich eingeladen\, an unseren Wanderungen teilzunehmen. \nFür Tages- und Halbtagswanderungen erheben wir einen Kostenbeitrag von\n€ 4\,00 pro Person. Für Kurzwanderungen beträgt der Kostenbeitrag lediglich € 2\,00\npro Person.
URL:https://natur-und-heimat.de/event/tageswanderung-pariner-berg-2/
CATEGORIES:Wanderungen
END:VEVENT
BEGIN:VEVENT
DTSTART;VALUE=DATE:20260211
DTEND;VALUE=DATE:20260212
DTSTAMP:20260419T165601
CREATED:20251202T120203Z
LAST-MODIFIED:20251202T120203Z
UID:4528-1770768000-1770854399@natur-und-heimat.de
SUMMARY:Halbtagswanderung | Um den Grönauer Baum
DESCRIPTION:Streckeninformationen: Wanderung durch Wald und Feld \nStreckenlänge: ca. 10 km \nTreffen: 09.05 Uhr \nTreffpunkt: Haltestelle „Universitätsstr.(UKSH)“ (ZOB 08.46 Uhr\, Linie 6) \nTourleitung: Silvia Flinker – Tel. 7073576 \nMobilnummer: 0174/6513957 (Bitte nur während der Wanderung benutzen) \nAls Wanderverein freuen wir uns über Gäste\, die gemeinsam mit uns die Natur erkunden möchten.\nEgal\, ob Sie bereits Mitglied sind oder nicht\, Sie sind herzlich eingeladen\, an unseren Wanderungen teilzunehmen. \nFür Tages- und Halbtagswanderungen erheben wir einen Kostenbeitrag von\n€ 4\,00 pro Person. Für Kurzwanderungen beträgt der Kostenbeitrag lediglich € 2\,00\npro Person.
URL:https://natur-und-heimat.de/event/halbtagswanderung-um-den-groenauer-baum/
CATEGORIES:Wanderungen
END:VEVENT
END:VCALENDAR