BEGIN:VCALENDAR
VERSION:2.0
PRODID:-//Natur und Heimat e. V. - ECPv6.15.17.1//NONSGML v1.0//EN
CALSCALE:GREGORIAN
METHOD:PUBLISH
X-WR-CALNAME:Natur und Heimat e. V.
X-ORIGINAL-URL:https://natur-und-heimat.de
X-WR-CALDESC:Veranstaltungen für Natur und Heimat e. V.
REFRESH-INTERVAL;VALUE=DURATION:PT1H
X-Robots-Tag:noindex
X-PUBLISHED-TTL:PT1H
BEGIN:VTIMEZONE
TZID:UTC
BEGIN:STANDARD
TZOFFSETFROM:+0000
TZOFFSETTO:+0000
TZNAME:UTC
DTSTART:20240101T000000
END:STANDARD
END:VTIMEZONE
BEGIN:VEVENT
DTSTART;VALUE=DATE:20250405
DTEND;VALUE=DATE:20250406
DTSTAMP:20260424T094425
CREATED:20250320T133543Z
LAST-MODIFIED:20250321T114726Z
UID:4100-1743811200-1743897599@natur-und-heimat.de
SUMMARY:Tageswanderung | Auf der alten Lübecker Stadtgrenze
DESCRIPTION:Streckeninformationen: Teil 1: Von Schlutup zum Grönauer Baum / Rucksackverpflegung \nStreckenlänge: ca. 15 km \nTreffen: 09.23 Uhr \nTreffpunkt: Bushaltestelle „Schlutup Markt“ (ZOB 08.45 Uhr)\, Linie 11 \nTourleitung: Silvia Flinker – Tel. 7073576 \nMobilnummer: 0174/6513957 (Bitte nur während der Wanderung benutzen) \nAls Wanderverein freuen wir uns über Gäste\, die gemeinsam mit uns die Natur erkunden möchten.\nEgal\, ob Sie bereits Mitglied sind oder nicht\, Sie sind herzlich eingeladen\, an unseren Wanderungen teilzunehmen. \nFür Tages- und Halbtagswanderungen erheben wir einen Kostenbeitrag von\n€ 4\,00 pro Person. Für Kurzwanderungen beträgt der Kostenbeitrag lediglich € 2\,00\npro Person.
URL:https://natur-und-heimat.de/event/tageswanderung-auf-der-alten-luebecker-stadtgrenze/
CATEGORIES:Wanderungen
END:VEVENT
BEGIN:VEVENT
DTSTART;VALUE=DATE:20250416
DTEND;VALUE=DATE:20250417
DTSTAMP:20260424T094425
CREATED:20250320T153132Z
LAST-MODIFIED:20250320T153132Z
UID:4130-1744761600-1744847999@natur-und-heimat.de
SUMMARY:Halbtagswanderung | Auf der alten Lübecker Stadtgrenze
DESCRIPTION:Streckeninformationen: Teil 2: Vom Grönauer Baum zum Krummesser Baum \nStreckenlänge: ca. 8 km \nTreffen: 09.23 Uhr \nTreffpunkt: Bushaltestelle „UKSH West“ (ZOB 09.01 Uhr)\, Linie 9 \nTourleitung: Silvia Flinker – Tel. 7073576 \nMobilnummer: 0174/6513957 (Bitte nur während der Wanderung benutzen) \nAls Wanderverein freuen wir uns über Gäste\, die gemeinsam mit uns die Natur erkunden möchten.\nEgal\, ob Sie bereits Mitglied sind oder nicht\, Sie sind herzlich eingeladen\, an unseren Wanderungen teilzunehmen. \nFür Tages- und Halbtagswanderungen erheben wir einen Kostenbeitrag von\n€ 4\,00 pro Person. Für Kurzwanderungen beträgt der Kostenbeitrag lediglich € 2\,00\npro Person.
URL:https://natur-und-heimat.de/event/halbtagswanderung-auf-der-alten-luebecker-stadtgrenze/
CATEGORIES:Wanderungen
END:VEVENT
END:VCALENDAR