BEGIN:VCALENDAR
VERSION:2.0
PRODID:-//Natur und Heimat e. V. - ECPv6.15.17.1//NONSGML v1.0//EN
CALSCALE:GREGORIAN
METHOD:PUBLISH
X-ORIGINAL-URL:https://natur-und-heimat.de
X-WR-CALDESC:Veranstaltungen für Natur und Heimat e. V.
REFRESH-INTERVAL;VALUE=DURATION:PT1H
X-Robots-Tag:noindex
X-PUBLISHED-TTL:PT1H
BEGIN:VTIMEZONE
TZID:UTC
BEGIN:STANDARD
TZOFFSETFROM:+0000
TZOFFSETTO:+0000
TZNAME:UTC
DTSTART:20230101T000000
END:STANDARD
END:VTIMEZONE
BEGIN:VEVENT
DTSTART;VALUE=DATE:20241207
DTEND;VALUE=DATE:20241208
DTSTAMP:20260424T160003
CREATED:20240906T125008Z
LAST-MODIFIED:20250221T124111Z
UID:3874-1733529600-1733615999@natur-und-heimat.de
SUMMARY:Tageswanderung | Pariner Berg
DESCRIPTION:Streckeninformationen: Einkehr „Pariner Berg“ \nStreckenlänge: ca. 17 km \nTreffen: 09.26 Uhr \nTreffpunkt: Haltestelle „Reinsbeker Str.“ (ZOB 09.16 Uhr)\, Linie 9 \nTourleitung: Silvia Flinker – Tel. 7073576 \nMobilnummer: 0174/6513957 (Bitte nur während der Wanderung benutzen) \nAls Wanderverein freuen wir uns über Gäste\, die gemeinsam mit uns die Natur erkunden möchten.\nEgal\, ob Sie bereits Mitglied sind oder nicht\, Sie sind herzlich eingeladen\, an unseren Wanderungen teilzunehmen. \nFür Tages- und Halbtagswanderungen erheben wir einen Kostenbeitrag von\n€ 4\,00 pro Person. Für Kurzwanderungen beträgt der Kostenbeitrag lediglich € 2\,00\npro Person.
URL:https://natur-und-heimat.de/event/tageswanderung-pariner-berg/
CATEGORIES:Wanderungen
END:VEVENT
BEGIN:VEVENT
DTSTART;VALUE=DATE:20241231
DTEND;VALUE=DATE:20250101
DTSTAMP:20260424T160003
CREATED:20240906T131102Z
LAST-MODIFIED:20250221T124111Z
UID:3889-1735603200-1735689599@natur-und-heimat.de
SUMMARY:Tagesrundwanderung | Travemünde - Niendorf
DESCRIPTION:Streckeninformationen: Traditionelle Silvester-Wanderung\, Abkürzung möglich\, Rucksackverpflegung oder Fischbrötchen-Essen am Niendorfer Hafen (bitte ein Glas mitbringen) \nStreckenlänge: ca. 16 km \nTreffen: 08.45 Uhr \nTreffpunkt: Bahnhofshalle/Hintereingang\, Zug 09.03 Uhr \nTourleitung: Silvia Flinker – Tel. 7073576 \nMobilnummer: 0174/6513957 (Bitte nur während der Wanderung benutzen) \nAls Wanderverein freuen wir uns über Gäste\, die gemeinsam mit uns die Natur erkunden möchten.\nEgal\, ob Sie bereits Mitglied sind oder nicht\, Sie sind herzlich eingeladen\, an unseren Wanderungen teilzunehmen. \nFür Tages- und Halbtagswanderungen erheben wir einen Kostenbeitrag von\n€ 4\,00 pro Person. Für Kurzwanderungen beträgt der Kostenbeitrag lediglich € 2\,00\npro Person.
URL:https://natur-und-heimat.de/event/tagesrundwanderung-travemuende-nniendorf/
CATEGORIES:Wanderungen
END:VEVENT
END:VCALENDAR