BEGIN:VCALENDAR
VERSION:2.0
PRODID:-//Natur und Heimat e. V. - ECPv6.15.17.1//NONSGML v1.0//EN
CALSCALE:GREGORIAN
METHOD:PUBLISH
X-ORIGINAL-URL:https://natur-und-heimat.de
X-WR-CALDESC:Veranstaltungen für Natur und Heimat e. V.
REFRESH-INTERVAL;VALUE=DURATION:PT1H
X-Robots-Tag:noindex
X-PUBLISHED-TTL:PT1H
BEGIN:VTIMEZONE
TZID:UTC
BEGIN:STANDARD
TZOFFSETFROM:+0000
TZOFFSETTO:+0000
TZNAME:UTC
DTSTART:20240101T000000
END:STANDARD
END:VTIMEZONE
BEGIN:VEVENT
DTSTART;VALUE=DATE:20250615
DTEND;VALUE=DATE:20250622
DTSTAMP:20260424T203902
CREATED:20241211T145838Z
LAST-MODIFIED:20250221T124110Z
UID:4037-1749945600-1750550399@natur-und-heimat.de
SUMMARY:Wanderreise Borkum
DESCRIPTION:Reiseinformation: \nPreis: ca. 710\,– €/EZ\, ca. 550\,– €/DZ\, \njeweils incl\, Frühstück\, Fähre und Kurtaxe\,\nZugfahrt mit Deutschland-Ticket. \nVerbindliche schriftliche Anmeldung ab 01.02.2025 bei \nPeter Doden\, Yorckstr. 25a\, 232564 Lübeck\nE-Mail: doden.borkum@gmail.com
URL:https://natur-und-heimat.de/event/wanderreise-borkum/
CATEGORIES:Wanderreise
END:VEVENT
END:VCALENDAR