BEGIN:VCALENDAR
VERSION:2.0
PRODID:-//Natur und Heimat e. V. - ECPv6.15.17.1//NONSGML v1.0//EN
CALSCALE:GREGORIAN
METHOD:PUBLISH
X-ORIGINAL-URL:https://natur-und-heimat.de
X-WR-CALDESC:Veranstaltungen für Natur und Heimat e. V.
REFRESH-INTERVAL;VALUE=DURATION:PT1H
X-Robots-Tag:noindex
X-PUBLISHED-TTL:PT1H
BEGIN:VTIMEZONE
TZID:UTC
BEGIN:STANDARD
TZOFFSETFROM:+0000
TZOFFSETTO:+0000
TZNAME:UTC
DTSTART:20240101T000000
END:STANDARD
END:VTIMEZONE
BEGIN:VEVENT
DTSTART;VALUE=DATE:20251119
DTEND;VALUE=DATE:20251120
DTSTAMP:20260423T124245
CREATED:20250911T145739Z
LAST-MODIFIED:20250911T145739Z
UID:4433-1763510400-1763596799@natur-und-heimat.de
SUMMARY:Halbtagsrundwanderung | Runde von Badendorf
DESCRIPTION:Streckeninformation: Rucksackverpflegung\, Möglichkeit\, Marzipan ab Fabrik zu kaufen \nStreckenlänge: ca. 10 km \nTreffen: 09.41 Uhr \nTreffpunkt:  Haltestelle „Taschenmacherstr.“ (ZOB 09.23 Uhr)\, L 12 \nTourleitung: Marion Gillwald – Tel. 44890 \nMobilnummer: 0151/18788711 (Bitte nur während der Wanderung benutzen) \nAls Wanderverein freuen wir uns über Gäste\, die gemeinsam mit uns die Natur erkunden möchten.\nEgal\, ob Sie bereits Mitglied sind oder nicht\, Sie sind herzlich eingeladen\, an unseren Wanderungen teilzunehmen. \nFür Tages- und Halbtagswanderungen erheben wir einen Kostenbeitrag von\n€ 4\,00 pro Person. Für Kurzwanderungen beträgt der Kostenbeitrag lediglich € 2\,00\npro Person.
URL:https://natur-und-heimat.de/event/halbtagsrundwanderung-runde-von-badendorf-2/
CATEGORIES:Wanderungen
END:VEVENT
END:VCALENDAR