BEGIN:VCALENDAR
VERSION:2.0
PRODID:-//Natur und Heimat e. V. - ECPv6.15.17.1//NONSGML v1.0//EN
CALSCALE:GREGORIAN
METHOD:PUBLISH
X-WR-CALNAME:Natur und Heimat e. V.
X-ORIGINAL-URL:https://natur-und-heimat.de
X-WR-CALDESC:Veranstaltungen für Natur und Heimat e. V.
REFRESH-INTERVAL;VALUE=DURATION:PT1H
X-Robots-Tag:noindex
X-PUBLISHED-TTL:PT1H
BEGIN:VTIMEZONE
TZID:UTC
BEGIN:STANDARD
TZOFFSETFROM:+0000
TZOFFSETTO:+0000
TZNAME:UTC
DTSTART:20250101T000000
END:STANDARD
END:VTIMEZONE
BEGIN:VEVENT
DTSTART;VALUE=DATE:20260423
DTEND;VALUE=DATE:20260424
DTSTAMP:20260419T153209
CREATED:20260313T130352Z
LAST-MODIFIED:20260313T130352Z
UID:4642-1776902400-1776988799@natur-und-heimat.de
SUMMARY:Projekt Erinnerungskultur: Postkolonialer Spaziergang
DESCRIPTION:Informationen: Führung postkolonialer Spaziergang \nTreffen: 09.45 Uhr \nTreffpunkt: Günter-Grass-Haus\, Glockengießerstr. 21 \nAnmeldung: bis 09.04 (begrenzte Teilnehmerzahl) bei \nAngela Scheer u. Kristine Voigt/Tel. 017678527563 od. kristinevoigt@web.de
URL:https://natur-und-heimat.de/event/projekt-erinnerungskultur-postkolonialer-spaziergang/
CATEGORIES:Wanderungen
END:VEVENT
END:VCALENDAR