BEGIN:VCALENDAR
VERSION:2.0
PRODID:-//Natur und Heimat e. V. - ECPv6.15.17.1//NONSGML v1.0//EN
CALSCALE:GREGORIAN
METHOD:PUBLISH
X-WR-CALNAME:Natur und Heimat e. V.
X-ORIGINAL-URL:https://natur-und-heimat.de
X-WR-CALDESC:Veranstaltungen für Natur und Heimat e. V.
REFRESH-INTERVAL;VALUE=DURATION:PT1H
X-Robots-Tag:noindex
X-PUBLISHED-TTL:PT1H
BEGIN:VTIMEZONE
TZID:UTC
BEGIN:STANDARD
TZOFFSETFROM:+0000
TZOFFSETTO:+0000
TZNAME:UTC
DTSTART:20250101T000000
END:STANDARD
END:VTIMEZONE
BEGIN:VEVENT
DTSTART;VALUE=DATE:20260610
DTEND;VALUE=DATE:20260611
DTSTAMP:20260419T172417
CREATED:20260317T132639Z
LAST-MODIFIED:20260317T132639Z
UID:4684-1781049600-1781135999@natur-und-heimat.de
SUMMARY:Projekt Erinnerungskultur: Jüdische Spuren in Lübeck
DESCRIPTION:Informationen: Führung \nTreffen: 14.45 Uhr \nTreffpunkt: Stadtmodell auf dem Markt \nAnmeldung: bis 27.05. (begrenzte Teilnehmerzahl) bei \nAngela Scheer u. Kristine Voigt/Tel. 017678527563 od. kristinevoigt@web.de
URL:https://natur-und-heimat.de/event/projekt-erinnerungskultur-juedische-spuren-in-luebeck/
CATEGORIES:Wanderungen
END:VEVENT
END:VCALENDAR