BEGIN:VCALENDAR
VERSION:2.0
PRODID:-//Natur und Heimat e. V. - ECPv6.15.17.1//NONSGML v1.0//EN
CALSCALE:GREGORIAN
METHOD:PUBLISH
X-ORIGINAL-URL:https://natur-und-heimat.de
X-WR-CALDESC:Veranstaltungen für Natur und Heimat e. V.
REFRESH-INTERVAL;VALUE=DURATION:PT1H
X-Robots-Tag:noindex
X-PUBLISHED-TTL:PT1H
BEGIN:VTIMEZONE
TZID:UTC
BEGIN:STANDARD
TZOFFSETFROM:+0000
TZOFFSETTO:+0000
TZNAME:UTC
DTSTART:20250101T000000
END:STANDARD
END:VTIMEZONE
BEGIN:VEVENT
DTSTART;VALUE=DATE:20260521
DTEND;VALUE=DATE:20260522
DTSTAMP:20260419T155037
CREATED:20260313T134257Z
LAST-MODIFIED:20260313T134257Z
UID:4667-1779321600-1779407999@natur-und-heimat.de
SUMMARY:Projekt Erinnerungskultur: Jüdisches Museum Rendsburg
DESCRIPTION:Informationen: Führung\, Eintritt 5-7 €\, Kaffeeeinkehr \nTreffen: 08.50 Uhr \nTreffpunkt: Bahnhofshalle/Hintereingang\, Zug 09.06 Uhr \nAnmeldung: bis 07.05. (begrenzte Teilnehmerzahl) bei \nAngela Scheer u. Kristine Voigt/Tel. 017678527563 od. kristinevoigt@web.de
URL:https://natur-und-heimat.de/event/projekt-erinnerungskultur-juedisches-museum-rendsburg/
CATEGORIES:Wanderungen
END:VEVENT
END:VCALENDAR