BEGIN:VCALENDAR
VERSION:2.0
PRODID:-//Natur und Heimat e. V. - ECPv6.15.17.1//NONSGML v1.0//EN
CALSCALE:GREGORIAN
METHOD:PUBLISH
X-WR-CALNAME:Natur und Heimat e. V.
X-ORIGINAL-URL:https://natur-und-heimat.de
X-WR-CALDESC:Veranstaltungen für Natur und Heimat e. V.
REFRESH-INTERVAL;VALUE=DURATION:PT1H
X-Robots-Tag:noindex
X-PUBLISHED-TTL:PT1H
BEGIN:VTIMEZONE
TZID:UTC
BEGIN:STANDARD
TZOFFSETFROM:+0000
TZOFFSETTO:+0000
TZNAME:UTC
DTSTART:20250101T000000
END:STANDARD
END:VTIMEZONE
BEGIN:VEVENT
DTSTART;VALUE=DATE:20260325
DTEND;VALUE=DATE:20260326
DTSTAMP:20260419T154711
CREATED:20251207T115022Z
LAST-MODIFIED:20251207T115022Z
UID:4578-1774396800-1774483199@natur-und-heimat.de
SUMMARY:Projekt Erinnerungskultur: Literarischer Spaziergang
DESCRIPTION:Informationen: Spaziergang und Lesung zum Buch:\n„Hitler kam aus der Dankwartsgrube“ Kosten: 10\,– € \nAnmeldung: bis 15.03. (begrenzte Teilnehmerzahl) bei \nKristine Voigt/Tel. 017678527563 od. kristinevoigt@web.de \nTreffen: 09.20 Uhr \nTreffpunkt: Wortwerft\, Dankwartsgrube 39-41 \nTourleitung: Angela Scheer und Kristine Voigt – Tel. 0176/78527563\nod. kristinevoigt@web.de
URL:https://natur-und-heimat.de/event/projekt-erinnerungskultur-literarischer-spaziergang/
CATEGORIES:Wanderungen
END:VEVENT
END:VCALENDAR