BEGIN:VCALENDAR
VERSION:2.0
PRODID:-//Natur und Heimat e. V. - ECPv6.15.17.1//NONSGML v1.0//EN
CALSCALE:GREGORIAN
METHOD:PUBLISH
X-ORIGINAL-URL:https://natur-und-heimat.de
X-WR-CALDESC:Veranstaltungen für Natur und Heimat e. V.
REFRESH-INTERVAL;VALUE=DURATION:PT1H
X-Robots-Tag:noindex
X-PUBLISHED-TTL:PT1H
BEGIN:VTIMEZONE
TZID:UTC
BEGIN:STANDARD
TZOFFSETFROM:+0000
TZOFFSETTO:+0000
TZNAME:UTC
DTSTART:20240101T000000
END:STANDARD
END:VTIMEZONE
BEGIN:VEVENT
DTSTART;VALUE=DATE:20251015
DTEND;VALUE=DATE:20251016
DTSTAMP:20260419T233912
CREATED:20250911T135824Z
LAST-MODIFIED:20250923T111042Z
UID:4396-1760486400-1760572799@natur-und-heimat.de
SUMMARY:Projekt Erinnerungskultur: Gedenkstätte Ahrensbök
DESCRIPTION:Informationen: Führung ca. 3 Std.\, Rucksackverpflegung \nAnmeldung: vom 29.09. bis 05.10. 2025 (begrenzte Teilnehmerzahl) bei \nKristine Voigt/Tel. 017678527563 od. kristinevoigt@web.de \nTreffen: 10.40 Uhr \nTreffpunkt: ZOB Lübeck\, Steig 13\, Linie 510 (Abfahrt 10.55 Uhr)\nca. 40 min. Fußweg zur Gedenkstätte \nTourleitung: Angela Scheer und Kristine Voigt – Tel. 0176/78527563
URL:https://natur-und-heimat.de/event/projekt-erinnerungskultur-gedenkstaette-ahrensboek/
CATEGORIES:Wanderungen
END:VEVENT
BEGIN:VEVENT
DTSTART;VALUE=DATE:20251029
DTEND;VALUE=DATE:20251030
DTSTAMP:20260419T233913
CREATED:20250911T142440Z
LAST-MODIFIED:20250911T142440Z
UID:4415-1761696000-1761782399@natur-und-heimat.de
SUMMARY:Projekt Erinnerungskultur: Gedenkstätte Neuengamme
DESCRIPTION:Informationen: Führung ca. 3 Std.\, Spenden erbeten\, Rucksackverpflegung \nAnmeldung: vom 12.10. bis 19.10.2025 (begrenzte Teilnehmerzahl) bei \nKristine Voigt/Tel. 017678527563 od. kristinevoigt@web.de \nTreffen: 09.20 Uhr \nTreffpunkt: Bahnhofshalle/Hintereingang\, Zug 09.37 Uhr \nTourleitung: Angela Scheer und Kristine Voigt – Tel. 0176/78527563
URL:https://natur-und-heimat.de/event/projekt-erinnerungskultur-gedenkstaette-neuengamme/
CATEGORIES:Wanderungen
END:VEVENT
END:VCALENDAR