BEGIN:VCALENDAR
VERSION:2.0
PRODID:-//Natur und Heimat e. V. - ECPv6.15.17.1//NONSGML v1.0//EN
CALSCALE:GREGORIAN
METHOD:PUBLISH
X-WR-CALNAME:Natur und Heimat e. V.
X-ORIGINAL-URL:https://natur-und-heimat.de
X-WR-CALDESC:Veranstaltungen für Natur und Heimat e. V.
REFRESH-INTERVAL;VALUE=DURATION:PT1H
X-Robots-Tag:noindex
X-PUBLISHED-TTL:PT1H
BEGIN:VTIMEZONE
TZID:UTC
BEGIN:STANDARD
TZOFFSETFROM:+0000
TZOFFSETTO:+0000
TZNAME:UTC
DTSTART:20240101T000000
END:STANDARD
END:VTIMEZONE
BEGIN:VEVENT
DTSTART;VALUE=DATE:20250607
DTEND;VALUE=DATE:20250608
DTSTAMP:20260420T060859
CREATED:20250320T170525Z
LAST-MODIFIED:20250321T144328Z
UID:4179-1749254400-1749340799@natur-und-heimat.de
SUMMARY:Ohlsdorfer Friedhof
DESCRIPTION:Informationen: Tagesausflug\, Führung Ohlsdorfer Friedhof (Kosten: 5 €)\nAnschließend Wanderung um den Bramfelder See\, ca. 8 km\, evtl. Kaffeeeinkehr  \nAnmeldung: bis 23.05.2025 (begrenzte Teilnehmerzahl) bei kristinevoigt@web.de \nTreffen: 08.55 Uhr \nTreffpunkt: Bahnhofshalle/Hintereingang\, Zug 09.09 Uhr \nTourleitung: Kristine Voigt – Tel. 0176/78527563
URL:https://natur-und-heimat.de/event/ohlsdorfer-friedhof/
CATEGORIES:Wanderungen
END:VEVENT
END:VCALENDAR