BEGIN:VCALENDAR
VERSION:2.0
PRODID:-//Natur und Heimat e. V. - ECPv6.15.17.1//NONSGML v1.0//EN
CALSCALE:GREGORIAN
METHOD:PUBLISH
X-ORIGINAL-URL:https://natur-und-heimat.de
X-WR-CALDESC:Veranstaltungen für Natur und Heimat e. V.
REFRESH-INTERVAL;VALUE=DURATION:PT1H
X-Robots-Tag:noindex
X-PUBLISHED-TTL:PT1H
BEGIN:VTIMEZONE
TZID:UTC
BEGIN:STANDARD
TZOFFSETFROM:+0000
TZOFFSETTO:+0000
TZNAME:UTC
DTSTART:20240101T000000
END:STANDARD
END:VTIMEZONE
BEGIN:VEVENT
DTSTART;VALUE=DATE:20251122
DTEND;VALUE=DATE:20251123
DTSTAMP:20260421T171920
CREATED:20250911T150448Z
LAST-MODIFIED:20250911T150448Z
UID:4435-1763769600-1763855999@natur-und-heimat.de
SUMMARY:1. Winterhalbjahresvortrag
DESCRIPTION:Informationen: Reiseimpressionen aus Oberägypten „Vom Nil bis in die Oasen“\nvon Johanna Wesnigk.  \nKaffeetrinken um 15.00 Uhr (Gedeck = 5\,– €)\, ca. 15.30 Uhr Vortrag \nSeniorentreff Hl.-Geist-Hospital\, Koberg 11 \nAnmeldung: bis 14.11.2025 bei \nKarin Luther/Tel. 01706369298 oder E-Mail luther.karin@gmx.de
URL:https://natur-und-heimat.de/event/1-winterhalbjahresvortrag-2/
CATEGORIES:Wanderungen
END:VEVENT
END:VCALENDAR