BEGIN:VCALENDAR
VERSION:2.0
PRODID:-//Natur und Heimat e. V. - ECPv6.15.17.1//NONSGML v1.0//EN
CALSCALE:GREGORIAN
METHOD:PUBLISH
X-WR-CALNAME:Natur und Heimat e. V.
X-ORIGINAL-URL:https://natur-und-heimat.de
X-WR-CALDESC:Veranstaltungen für Natur und Heimat e. V.
REFRESH-INTERVAL;VALUE=DURATION:PT1H
X-Robots-Tag:noindex
X-PUBLISHED-TTL:PT1H
BEGIN:VTIMEZONE
TZID:UTC
BEGIN:STANDARD
TZOFFSETFROM:+0000
TZOFFSETTO:+0000
TZNAME:UTC
DTSTART:20230101T000000
END:STANDARD
END:VTIMEZONE
BEGIN:VEVENT
DTSTART;VALUE=DATE:20240801
DTEND;VALUE=DATE:20240802
DTSTAMP:20260422T165539
CREATED:20240611T154327Z
LAST-MODIFIED:20250221T124113Z
UID:3713-1722470400-1722556799@natur-und-heimat.de
SUMMARY:Tagesausflug | Boizenburg
DESCRIPTION:Informationen: Tagesausflug\, Stadtführung und Fliesenmuseum\, Eintritt 3\,– €\, Kaffeeeinkehr \nAnmeldung: bis 25.07.2024 (Bei der Tourleitung)\, begrenzte Teilnehmerzahl \nTreffen: 07.55 Uhr \nTreffpunkt:  Bahnhofshalle/Hintereingang\, Zug 08.10 Uhr \nTourleitung: Karin Luther – Tel. 01706369298
URL:https://natur-und-heimat.de/event/tagesausflug-boizenburg/
CATEGORIES:Wanderungen
END:VEVENT
BEGIN:VEVENT
DTSTART;VALUE=DATE:20240815
DTEND;VALUE=DATE:20240816
DTSTAMP:20260422T165539
CREATED:20240611T161026Z
LAST-MODIFIED:20250221T124113Z
UID:3732-1723680000-1723766399@natur-und-heimat.de
SUMMARY:Auf den Wegen des „kleinen Jakob“
DESCRIPTION:Informationen: Auf den Wegen des „kleinen Jakob“ Schnupperpilgern mit Impulsen\, ca. 3 Std.\, Kosten: 1\,50 €. \nAnmeldung: bis 08.08.2024 (Bei der Tourleitung)\, begrenzte Teilnehmerzahl \nTreffen: 12.00 Uhr \nTreffpunkt: St. Jakobi\, Breite Str. \nTourleitung: Karin Luther – Tel. 01706369298
URL:https://natur-und-heimat.de/event/auf-den-wegen-des-kleinen-jakob/
CATEGORIES:Wanderungen
END:VEVENT
END:VCALENDAR