BEGIN:VCALENDAR
VERSION:2.0
PRODID:-//Natur und Heimat e. V. - ECPv6.15.17.1//NONSGML v1.0//EN
CALSCALE:GREGORIAN
METHOD:PUBLISH
X-ORIGINAL-URL:https://natur-und-heimat.de
X-WR-CALDESC:Veranstaltungen für Natur und Heimat e. V.
REFRESH-INTERVAL;VALUE=DURATION:PT1H
X-Robots-Tag:noindex
X-PUBLISHED-TTL:PT1H
BEGIN:VTIMEZONE
TZID:UTC
BEGIN:STANDARD
TZOFFSETFROM:+0000
TZOFFSETTO:+0000
TZNAME:UTC
DTSTART:20230101T000000
END:STANDARD
END:VTIMEZONE
BEGIN:VEVENT
DTSTART;VALUE=DATE:20241221
DTEND;VALUE=DATE:20241222
DTSTAMP:20260423T170102
CREATED:20241210T135551Z
LAST-MODIFIED:20250221T124111Z
UID:4008-1734739200-1734825599@natur-und-heimat.de
SUMMARY:Tagesrundwanderung | Lüneburg - Ilmenau - Hasenburg
DESCRIPTION:Streckeninformation: Einkehr „Zur Hasenburg“\, evtl. Weihnachtsmarkt\, evtl. Gruppenticket \nStreckenlänge: ca. 14 km \nTreffen: 08.55 Uhr \nTreffpunkt: Bahnhofshalle/Hintereingang\, Zug 09.10 Uhr \nTourleitung: Iris Toelle – Tel. 0151/58894910 \nAls Wanderverein freuen wir uns über Gäste\, die gemeinsam mit uns die Natur erkunden möchten.\nEgal\, ob Sie bereits Mitglied sind oder nicht\, Sie sind herzlich eingeladen\, an unseren Wanderungen teilzunehmen. \nFür Tages- und Halbtagswanderungen erheben wir einen Kostenbeitrag von\n€ 4\,00 pro Person. Für Kurzwanderungen beträgt der Kostenbeitrag lediglich € 2\,00\npro Person.
URL:https://natur-und-heimat.de/event/tagesrundwanderung-lueneburg-ilmenau-hasenburg-2/
CATEGORIES:Wanderungen
END:VEVENT
END:VCALENDAR