BEGIN:VCALENDAR
VERSION:2.0
PRODID:-//Natur und Heimat e. V. - ECPv6.15.17.1//NONSGML v1.0//EN
CALSCALE:GREGORIAN
METHOD:PUBLISH
X-ORIGINAL-URL:https://natur-und-heimat.de
X-WR-CALDESC:Veranstaltungen für Natur und Heimat e. V.
REFRESH-INTERVAL;VALUE=DURATION:PT1H
X-Robots-Tag:noindex
X-PUBLISHED-TTL:PT1H
BEGIN:VTIMEZONE
TZID:UTC
BEGIN:STANDARD
TZOFFSETFROM:+0000
TZOFFSETTO:+0000
TZNAME:UTC
DTSTART:20230101T000000
END:STANDARD
END:VTIMEZONE
BEGIN:VEVENT
DTSTART;VALUE=DATE:20241014
DTEND;VALUE=DATE:20241021
DTSTAMP:20260423T200129
CREATED:20240616T101231Z
LAST-MODIFIED:20250221T124112Z
UID:3776-1728864000-1729468799@natur-und-heimat.de
SUMMARY:Wanderreise Neubrandenburg / Tollensesee
DESCRIPTION:Restplätze EZ:\n6 ÜN/F\, 480\,– € Zusatzkosten: Müritzschifffahrt zu den Kranichen mit ornith.\nFührung = 25\,– €\, Stadtführung Neubrandenburg = 8\,– €\, \nAnreise mit Deutschlandticket \nVerbindliche schriftliche Anmeldung bei Iris Toelle\nMönkhofer Weg 11823562 Lübeck\nE-Mail: i.toelle@t-online.de \nMobilnummer: 0151/58894910
URL:https://natur-und-heimat.de/event/wanderreise-neubrandenburg-tollensesee-2/
CATEGORIES:Wanderreise
END:VEVENT
BEGIN:VEVENT
DTSTART;VALUE=DATE:20241026
DTEND;VALUE=DATE:20241027
DTSTAMP:20260423T200129
CREATED:20240906T120602Z
LAST-MODIFIED:20250221T124112Z
UID:3846-1729900800-1729987199@natur-und-heimat.de
SUMMARY:Tagesrundwanderung | Büchen - Nüssauer Heide - Schwarzenbek
DESCRIPTION:Streckeninformation: Rucksackverpflegung\, evtl. Gruppenticket \nStreckenlänge: ca. 18 km \nTreffen: 08.55 Uhr \nTreffpunkt: Bahnhofshalle/Hintereingang\, Zug 09.10 Uhr \nTourleitung: Iris Toelle – Tel. 0151/58894910 \nMobilnummer: 0151/58894910 (Bitte nur während der Wanderung benutzen) \nAls Wanderverein freuen wir uns über Gäste\, die gemeinsam mit uns die Natur erkunden möchten.\nEgal\, ob Sie bereits Mitglied sind oder nicht\, Sie sind herzlich eingeladen\, an unseren Wanderungen teilzunehmen. \nFür Tages- und Halbtagswanderungen erheben wir einen Kostenbeitrag von\n€ 4\,00 pro Person. Für Kurzwanderungen beträgt der Kostenbeitrag lediglich € 2\,00\npro Person.
URL:https://natur-und-heimat.de/event/tagesrundwanderung-buechen-nuessauer-heide-schwarzenbek/
CATEGORIES:Wanderungen
END:VEVENT
END:VCALENDAR