BEGIN:VCALENDAR
VERSION:2.0
PRODID:-//Natur und Heimat e. V. - ECPv6.15.17.1//NONSGML v1.0//EN
CALSCALE:GREGORIAN
METHOD:PUBLISH
X-ORIGINAL-URL:https://natur-und-heimat.de
X-WR-CALDESC:Veranstaltungen für Natur und Heimat e. V.
REFRESH-INTERVAL;VALUE=DURATION:PT1H
X-Robots-Tag:noindex
X-PUBLISHED-TTL:PT1H
BEGIN:VTIMEZONE
TZID:UTC
BEGIN:STANDARD
TZOFFSETFROM:+0000
TZOFFSETTO:+0000
TZNAME:UTC
DTSTART:20230101T000000
END:STANDARD
END:VTIMEZONE
BEGIN:VEVENT
DTSTART;VALUE=DATE:20240504
DTEND;VALUE=DATE:20240505
DTSTAMP:20260424T040500
CREATED:20240311T143325Z
LAST-MODIFIED:20240430T165746Z
UID:3459-1714780800-1714867199@natur-und-heimat.de
SUMMARY:Tageswanderung | Rantzau – Malente
DESCRIPTION:Streckeninformation: Rucksackverpflegung\, evtl. Gruppenticket \nStreckenlänge: ca. 18 km \nTreffen: 08.10 Uhr \nTreffpunkt: Bahnhofshalle/Hintereingang (Zug 08.28 Uhr) \nTourleitung: Iris Toelle \nMobilnummer: 0151/58894910 (Bitte nur während der Wanderung benutzen) \nAls Wanderverein freuen wir uns über Gäste\, die gemeinsam mit uns die Natur erkunden möchten.\nEgal\, ob Sie bereits Mitglied sind oder nicht\, Sie sind herzlich eingeladen\, an unseren Wanderungen teilzunehmen. \nFür Tages- und Halbtagswanderungen erheben wir einen Kostenbeitrag von\n€ 4\,00 pro Person. Für Kurzwanderungen beträgt der Kostenbeitrag lediglich € 2\,00\npro Person.
URL:https://natur-und-heimat.de/event/tageswanderung-rantzau-malente/
CATEGORIES:Wanderungen
END:VEVENT
BEGIN:VEVENT
DTSTART;VALUE=DATE:20240518
DTEND;VALUE=DATE:20240519
DTSTAMP:20260424T040500
CREATED:20240312T104354Z
LAST-MODIFIED:20240430T165745Z
UID:3470-1715990400-1716076799@natur-und-heimat.de
SUMMARY:Tagesrundwanderung | Leonorenwald – Aussicht Hoher Schönberg – Schloss Bothmer
DESCRIPTION:Streckeninformation: Rucksackverpflegung\, evtl. Café\, evtl. Gruppenticket \nStreckenlänge: ca. 17 km \nTreffen: 08.45 Uhr \nTreffpunkt: Bahnhofshalle/Hintereingang (Zug 09.03 Uhr) \nTourleitung: Iris Toelle \nMobilnummer: 0151/58894910 (Bitte nur während der Wanderung benutzen) \nAls Wanderverein freuen wir uns über Gäste\, die gemeinsam mit uns die Natur erkunden möchten.\nEgal\, ob Sie bereits Mitglied sind oder nicht\, Sie sind herzlich eingeladen\, an unseren Wanderungen teilzunehmen. \nFür Tages- und Halbtagswanderungen erheben wir einen Kostenbeitrag von\n€ 4\,00 pro Person. Für Kurzwanderungen beträgt der Kostenbeitrag lediglich € 2\,00\npro Person.
URL:https://natur-und-heimat.de/event/tagesrundwanderung-leonorenwald-aussicht-hoher-schoenberg-schloss-bothmer/
CATEGORIES:Wanderungen
END:VEVENT
END:VCALENDAR