BEGIN:VCALENDAR
VERSION:2.0
PRODID:-//Natur und Heimat e. V. - ECPv6.15.17.1//NONSGML v1.0//EN
CALSCALE:GREGORIAN
METHOD:PUBLISH
X-ORIGINAL-URL:https://natur-und-heimat.de
X-WR-CALDESC:Veranstaltungen für Natur und Heimat e. V.
REFRESH-INTERVAL;VALUE=DURATION:PT1H
X-Robots-Tag:noindex
X-PUBLISHED-TTL:PT1H
BEGIN:VTIMEZONE
TZID:UTC
BEGIN:STANDARD
TZOFFSETFROM:+0000
TZOFFSETTO:+0000
TZNAME:UTC
DTSTART:20230101T000000
END:STANDARD
END:VTIMEZONE
BEGIN:VEVENT
DTSTART;VALUE=DATE:20240203
DTEND;VALUE=DATE:20240204
DTSTAMP:20260424T090311
CREATED:20231127T121047Z
LAST-MODIFIED:20240430T165748Z
UID:2542-1706918400-1707004799@natur-und-heimat.de
SUMMARY:Tageswanderung | Kellenhusener Forst - Yachthafen Grömitz
DESCRIPTION:Streckeninformation: Einkehr in Grömitz\, evtl. Gruppenticket \nStreckenlänge: ca. 14 km \nTreffen: 07.55 Uhr \nTreffpunkt: Bahnhofshalle/Hintereingang (Zug 08.12 Uhr) \nTourleitung: Iris Toelle \nMobilnummer: 0151/58894910 (Bitte nur während der Wanderung benutzen) \nAls Wanderverein freuen wir uns über Gäste\, die gemeinsam mit uns die Natur erkunden möchten.\nEgal\, ob Sie bereits Mitglied sind oder nicht\, Sie sind herzlich eingeladen\, an unseren Wanderungen teilzunehmen. \nFür Tages- und Halbtagswanderungen erheben wir einen Kostenbeitrag von\n€ 4\,00 pro Person. Für Kurzwanderungen beträgt der Kostenbeitrag lediglich € 2\,00\npro Person.
URL:https://natur-und-heimat.de/event/tageswanderung-kellenhusener-forst-yachthafen-groemitz/
CATEGORIES:Wanderungen
END:VEVENT
BEGIN:VEVENT
DTSTART;VALUE=DATE:20240217
DTEND;VALUE=DATE:20240218
DTSTAMP:20260424T090311
CREATED:20231127T123438Z
LAST-MODIFIED:20240430T165747Z
UID:2552-1708128000-1708214399@natur-und-heimat.de
SUMMARY:Tageswanderung | Reinbek – Bergedorf – Allermöhe
DESCRIPTION:Streckeninformation: Einkehr in Bergedorf\, evtl. Gruppenticket \nStreckenlänge: ca. 16 km \nTreffen: 08.50 Uhr \nTreffpunkt: Bahnhofshalle/Hintereingang (Zug 09.09 Uhr) \nTourleitung: Iris Toelle \nMobilnummer: 0151/58894910 (Bitte nur während der Wanderung benutzen) \nAls Wanderverein freuen wir uns über Gäste\, die gemeinsam mit uns die Natur erkunden möchten.\nEgal\, ob Sie bereits Mitglied sind oder nicht\, Sie sind herzlich eingeladen\, an unseren Wanderungen teilzunehmen. \nFür Tages- und Halbtagswanderungen erheben wir einen Kostenbeitrag von\n€ 4\,00 pro Person. Für Kurzwanderungen beträgt der Kostenbeitrag lediglich € 2\,00\npro Person.
URL:https://natur-und-heimat.de/event/tageswanderung-reinbek-bergedorf-allermoehe/
CATEGORIES:Wanderungen
END:VEVENT
END:VCALENDAR