BEGIN:VCALENDAR
VERSION:2.0
PRODID:-//Natur und Heimat e. V. - ECPv6.15.17.1//NONSGML v1.0//EN
CALSCALE:GREGORIAN
METHOD:PUBLISH
X-ORIGINAL-URL:https://natur-und-heimat.de
X-WR-CALDESC:Veranstaltungen für Natur und Heimat e. V.
REFRESH-INTERVAL;VALUE=DURATION:PT1H
X-Robots-Tag:noindex
X-PUBLISHED-TTL:PT1H
BEGIN:VTIMEZONE
TZID:UTC
BEGIN:STANDARD
TZOFFSETFROM:+0000
TZOFFSETTO:+0000
TZNAME:UTC
DTSTART:20250101T000000
END:STANDARD
END:VTIMEZONE
BEGIN:VEVENT
DTSTART;VALUE=DATE:20260502
DTEND;VALUE=DATE:20260503
DTSTAMP:20260421T102852
CREATED:20260313T131616Z
LAST-MODIFIED:20260313T131616Z
UID:4651-1777680000-1777766399@natur-und-heimat.de
SUMMARY:Tageswanderung | Haseldorfer Marsch
DESCRIPTION:Streckeninformationen: Rucksackverpflegung\, Abkürzung möglich\, (Schachbrettblumen?) \nStreckenlänge: ca. 19 km \nTreffen: 08.50 Uhr \nTreffpunkt: Bahnhofshalle/Hintereingang\, Zug 09.09 Uhr \nTourleitung: Ilse Gerlach – Tel. 404820 \nMobilnummer: 0163/4900254 (Bitte nur während der Wanderung benutzen.) \nAls Wanderverein freuen wir uns über Gäste\, die gemeinsam mit uns die Natur erkunden möchten.\nEgal\, ob Sie bereits Mitglied sind oder nicht\, Sie sind herzlich eingeladen\, an unseren Wanderungen teilzunehmen. \nFür Tages- und Halbtagswanderungen erheben wir einen Kostenbeitrag von\n€ 4\,00 pro Person. Für Kurzwanderungen beträgt der Kostenbeitrag lediglich € 2\,00\npro Person.
URL:https://natur-und-heimat.de/event/tageswanderung-haseldorfer-marsch/
CATEGORIES:Wanderungen
END:VEVENT
BEGIN:VEVENT
DTSTART;VALUE=DATE:20260513
DTEND;VALUE=DATE:20260514
DTSTAMP:20260421T102852
CREATED:20260313T132838Z
LAST-MODIFIED:20260313T132838Z
UID:4659-1778630400-1778716799@natur-und-heimat.de
SUMMARY:Halbtagswanderung | Adolfstr. - Eichholz
DESCRIPTION:Streckeninformationen: Wanderung zu den Judasbäumen \nStreckenlänge: ca. 10 km\, Abkürzung möglich \nTreffen: 09.25 Uhr \nTreffpunkt: Haltestelle „Adolfstr.“ (ZOB 09.12 Uhr)\, Linie 12 \nTourleitung: Ilse Gerlach – Tel. 404820 \nMobilnummer: 0163/4900254 (Bitte nur während der Wanderung benutzen.) \nAls Wanderverein freuen wir uns über Gäste\, die gemeinsam mit uns die Natur erkunden möchten.\nEgal\, ob Sie bereits Mitglied sind oder nicht\, Sie sind herzlich eingeladen\, an unseren Wanderungen teilzunehmen. \nFür Tages- und Halbtagswanderungen erheben wir einen Kostenbeitrag von\n€ 4\,00 pro Person. Für Kurzwanderungen beträgt der Kostenbeitrag lediglich € 2\,00\npro Person.
URL:https://natur-und-heimat.de/event/halbtagswanderung-adolfstr-eichholz/
CATEGORIES:Wanderungen
END:VEVENT
END:VCALENDAR