BEGIN:VCALENDAR
VERSION:2.0
PRODID:-//Natur und Heimat e. V. - ECPv6.15.17.1//NONSGML v1.0//EN
CALSCALE:GREGORIAN
METHOD:PUBLISH
X-WR-CALNAME:Natur und Heimat e. V.
X-ORIGINAL-URL:https://natur-und-heimat.de
X-WR-CALDESC:Veranstaltungen für Natur und Heimat e. V.
REFRESH-INTERVAL;VALUE=DURATION:PT1H
X-Robots-Tag:noindex
X-PUBLISHED-TTL:PT1H
BEGIN:VTIMEZONE
TZID:UTC
BEGIN:STANDARD
TZOFFSETFROM:+0000
TZOFFSETTO:+0000
TZNAME:UTC
DTSTART:20250101T000000
END:STANDARD
END:VTIMEZONE
BEGIN:VEVENT
DTSTART;VALUE=DATE:20260214
DTEND;VALUE=DATE:20260215
DTSTAMP:20260419T181846
CREATED:20251207T121859Z
LAST-MODIFIED:20251207T121859Z
UID:4593-1771027200-1771113599@natur-und-heimat.de
SUMMARY:Anmeldeschluss 3. Winterhalbjahresveranstaltung
DESCRIPTION:
URL:https://natur-und-heimat.de/event/anmeldeschluss-3-winterhalbjahresveranstaltung/
CATEGORIES:Wanderungen
END:VEVENT
BEGIN:VEVENT
DTSTART;VALUE=DATE:20260223
DTEND;VALUE=DATE:20260224
DTSTAMP:20260419T181846
CREATED:20251207T122015Z
LAST-MODIFIED:20251207T122015Z
UID:4595-1771804800-1771891199@natur-und-heimat.de
SUMMARY:Anmeldeschluss Musikhochschule
DESCRIPTION:
URL:https://natur-und-heimat.de/event/anmeldeschluss-musikhochschule/
CATEGORIES:Wanderungen
END:VEVENT
BEGIN:VEVENT
DTSTART;VALUE=DATE:20260226
DTEND;VALUE=DATE:20260227
DTSTAMP:20260419T181846
CREATED:20251202T123804Z
LAST-MODIFIED:20251202T124154Z
UID:4548-1772064000-1772150399@natur-und-heimat.de
SUMMARY:Kurzwanderung / Zur Blüchereiche
DESCRIPTION:Streckeninformation: Mit der AWO \nTreffen: 13.30 Uhr \nTreffpunkt: Bad Schwartau/Marktbrunnen (ZOB 13.03 Uhr)\, L 10 \nTourleitung: Hilde Veltman – Tel. 604700 \nMobilnummer: 0157/88293969 (Bitte nur während der Wanderung benutzen) \nAls Wanderverein freuen wir uns über Gäste\, die gemeinsam mit uns die Natur erkunden möchten.\nEgal\, ob Sie bereits Mitglied sind oder nicht\, Sie sind herzlich eingeladen\, an unseren Wanderungen teilzunehmen. \nFür Tages- und Halbtagswanderungen erheben wir einen Kostenbeitrag von\n€ 4\,00 pro Person. Für Kurzwanderungen beträgt der Kostenbeitrag lediglich € 2\,00\npro Person.
URL:https://natur-und-heimat.de/event/kurzwanderung-zur-bluechereiche/
CATEGORIES:Wanderungen
END:VEVENT
BEGIN:VEVENT
DTSTART;VALUE=DATE:20260228
DTEND;VALUE=DATE:20260301
DTSTAMP:20260419T181846
CREATED:20251202T124128Z
LAST-MODIFIED:20251202T124128Z
UID:4550-1772236800-1772323199@natur-und-heimat.de
SUMMARY:Tagesrundwanderung / Immer am Bach entlang
DESCRIPTION:Streckeninformation: Rucksackverpflegung\, evtl. Einkehr am Schluss \nTreffen: 09.35 Uhr \nTreffpunkt: Haltestelle „Reinsbeker Str.“ (ZOB 09.23 Uhr)\, L 9 \nTourleitung: Hilde Veltman – Tel. 604700 \nMobilnummer: 0157/88293969 (Bitte nur während der Wanderung benutzen) \nAls Wanderverein freuen wir uns über Gäste\, die gemeinsam mit uns die Natur erkunden möchten.\nEgal\, ob Sie bereits Mitglied sind oder nicht\, Sie sind herzlich eingeladen\, an unseren Wanderungen teilzunehmen. \nFür Tages- und Halbtagswanderungen erheben wir einen Kostenbeitrag von\n€ 4\,00 pro Person. Für Kurzwanderungen beträgt der Kostenbeitrag lediglich € 2\,00\npro Person.
URL:https://natur-und-heimat.de/event/tagesrundwanderung-immer-am-bach-entlang/
CATEGORIES:Wanderungen
END:VEVENT
END:VCALENDAR