BEGIN:VCALENDAR
VERSION:2.0
PRODID:-//Natur und Heimat e. V. - ECPv6.15.17.1//NONSGML v1.0//EN
CALSCALE:GREGORIAN
METHOD:PUBLISH
X-ORIGINAL-URL:https://natur-und-heimat.de
X-WR-CALDESC:Veranstaltungen für Natur und Heimat e. V.
REFRESH-INTERVAL;VALUE=DURATION:PT1H
X-Robots-Tag:noindex
X-PUBLISHED-TTL:PT1H
BEGIN:VTIMEZONE
TZID:UTC
BEGIN:STANDARD
TZOFFSETFROM:+0000
TZOFFSETTO:+0000
TZNAME:UTC
DTSTART:20250101T000000
END:STANDARD
END:VTIMEZONE
BEGIN:VEVENT
DTSTART;VALUE=DATE:20260606
DTEND;VALUE=DATE:20260607
DTSTAMP:20260419T183121
CREATED:20260317T132407Z
LAST-MODIFIED:20260317T134939Z
UID:4682-1780704000-1780790399@natur-und-heimat.de
SUMMARY:Tageswanderung / Herrnburg - Wüstung - Lenschow - Lübeck
DESCRIPTION:Streckeninformation: Links und rechts entlang der Wakenitz\, Rucksackverpflegung/Kaffeeeinkehr \nTourlänge: ca. 20 km \nTreffen: 10.15 Uhr \nTreffpunkt: Bahnhof Herrnburg (Zug ab HL 10.02 Uhr Richtung Bad Kleinen) \nTourleitung: Helmut Spoo – Tel. 58598833 \nAls Wanderverein freuen wir uns über Gäste\, die gemeinsam mit uns die Natur erkunden möchten.\nEgal\, ob Sie bereits Mitglied sind oder nicht\, Sie sind herzlich eingeladen\, an unseren Wanderungen teilzunehmen. \nFür Tages- und Halbtagswanderungen erheben wir einen Kostenbeitrag von\n€ 4\,00 pro Person. Für Kurzwanderungen beträgt der Kostenbeitrag lediglich € 2\,00\npro Person.
URL:https://natur-und-heimat.de/event/tageswanderung-herrnburg-wuestung-lenschow-luebeck/
CATEGORIES:Wanderungen
END:VEVENT
END:VCALENDAR