BEGIN:VCALENDAR
VERSION:2.0
PRODID:-//Natur und Heimat e. V. - ECPv6.15.17.1//NONSGML v1.0//EN
CALSCALE:GREGORIAN
METHOD:PUBLISH
X-ORIGINAL-URL:https://natur-und-heimat.de
X-WR-CALDESC:Veranstaltungen für Natur und Heimat e. V.
REFRESH-INTERVAL;VALUE=DURATION:PT1H
X-Robots-Tag:noindex
X-PUBLISHED-TTL:PT1H
BEGIN:VTIMEZONE
TZID:UTC
BEGIN:STANDARD
TZOFFSETFROM:+0000
TZOFFSETTO:+0000
TZNAME:UTC
DTSTART:20240101T000000
END:STANDARD
END:VTIMEZONE
BEGIN:VEVENT
DTSTART;VALUE=DATE:20250912
DTEND;VALUE=DATE:20250913
DTSTAMP:20260420T011914
CREATED:20250603T142701Z
LAST-MODIFIED:20250603T142701Z
UID:4296-1757635200-1757721599@natur-und-heimat.de
SUMMARY:Kurzwanderung | Timmendorfer Strand
DESCRIPTION:Streckeninformation: zur neuen Ostseebrücke \nStreckenlänge: ca. 6 km \nTreffen: 14.00 Uhr \nTreffpunkt: Bahnhofshalle/Hintereingang\, Zug 14.12 Uhr \nTourleitung: Heidi Schlichting – Tel. 497849\nAnmeldung bis 20.08. bei der  \nMobilnummer: 0151/58894910 (Bitte nur während der Wanderung benutzen.) \nAls Wanderverein freuen wir uns über Gäste\, die gemeinsam mit uns die Natur erkunden möchten.\nEgal\, ob Sie bereits Mitglied sind oder nicht\, Sie sind herzlich eingeladen\, an unseren Wanderungen teilzunehmen. \nFür Tages- und Halbtagswanderungen erheben wir einen Kostenbeitrag von\n€ 4\,00 pro Person. Für Kurzwanderungen beträgt der Kostenbeitrag lediglich € 2\,00\npro Person.
URL:https://natur-und-heimat.de/event/kurzwanderung-timmendorfer-strand-2/
CATEGORIES:Wanderungen
END:VEVENT
BEGIN:VEVENT
DTSTART;VALUE=DATE:20250924
DTEND;VALUE=DATE:20250925
DTSTAMP:20260420T011914
CREATED:20250604T135038Z
LAST-MODIFIED:20250604T135038Z
UID:4306-1758672000-1758758399@natur-und-heimat.de
SUMMARY:Halbtagswanderung | Bad Schwartau - Curau
DESCRIPTION:Streckeninformation: – \nStreckenlänge: ca. 10 km \nTreffen: 09.25 Uhr \nTreffpunkt: Haltestelle „Bad Schwartau/Mittelstr.“ (ZOB-HL 09.00 Uhr\, Linie 7 \nTourleitung: Heidi Schlichting – Tel. 497849 \nMobilnummer: 0151/58894910 (Bitte nur während der Wanderung benutzen.) \nAls Wanderverein freuen wir uns über Gäste\, die gemeinsam mit uns die Natur erkunden möchten.\nEgal\, ob Sie bereits Mitglied sind oder nicht\, Sie sind herzlich eingeladen\, an unseren Wanderungen teilzunehmen. \nFür Tages- und Halbtagswanderungen erheben wir einen Kostenbeitrag von\n€ 4\,00 pro Person. Für Kurzwanderungen beträgt der Kostenbeitrag lediglich € 2\,00\npro Person.
URL:https://natur-und-heimat.de/event/halbtagswanderung-bad-schwartau-curau/
CATEGORIES:Wanderungen
END:VEVENT
END:VCALENDAR