BEGIN:VCALENDAR
VERSION:2.0
PRODID:-//Natur und Heimat e. V. - ECPv6.15.17.1//NONSGML v1.0//EN
CALSCALE:GREGORIAN
METHOD:PUBLISH
X-ORIGINAL-URL:https://natur-und-heimat.de
X-WR-CALDESC:Veranstaltungen für Natur und Heimat e. V.
REFRESH-INTERVAL;VALUE=DURATION:PT1H
X-Robots-Tag:noindex
X-PUBLISHED-TTL:PT1H
BEGIN:VTIMEZONE
TZID:UTC
BEGIN:STANDARD
TZOFFSETFROM:+0000
TZOFFSETTO:+0000
TZNAME:UTC
DTSTART:20230101T000000
END:STANDARD
END:VTIMEZONE
BEGIN:VEVENT
DTSTART;VALUE=DATE:20240717
DTEND;VALUE=DATE:20240718
DTSTAMP:20260423T050458
CREATED:20240611T102120Z
LAST-MODIFIED:20250221T124113Z
UID:3697-1721174400-1721260799@natur-und-heimat.de
SUMMARY:Halbtagsrundwanderung | Lauerholz
DESCRIPTION:Streckeninformationen: Führung durch das Lauerholz mit Förster Napp\, Rucksackverpflegung \nStreckenlänge: ca. 11 km \nTreffen: 09.10 Uhr \nTreffpunkt: Haltestelle „Kirschenallee“\, Buslinie 11 (ZOB 08.45 Uhr) \nTourleitung: Hartmut Stöven – Tel. 494196 \nAls Wanderverein freuen wir uns über Gäste\, die gemeinsam mit uns die Natur erkunden möchten.\nEgal\, ob Sie bereits Mitglied sind oder nicht\, Sie sind herzlich eingeladen\, an unseren Wanderungen teilzunehmen. \nFür Tages- und Halbtagswanderungen erheben wir einen Kostenbeitrag von\n€ 4\,00 pro Person. Für Kurzwanderungen beträgt der Kostenbeitrag lediglich € 2\,00\npro Person.
URL:https://natur-und-heimat.de/event/halbtagsrundwanderung-lauerholz-2/
CATEGORIES:Wanderungen
END:VEVENT
END:VCALENDAR