BEGIN:VCALENDAR
VERSION:2.0
PRODID:-//Natur und Heimat e. V. - ECPv6.15.17.1//NONSGML v1.0//EN
CALSCALE:GREGORIAN
METHOD:PUBLISH
X-WR-CALNAME:Natur und Heimat e. V.
X-ORIGINAL-URL:https://natur-und-heimat.de
X-WR-CALDESC:Veranstaltungen für Natur und Heimat e. V.
REFRESH-INTERVAL;VALUE=DURATION:PT1H
X-Robots-Tag:noindex
X-PUBLISHED-TTL:PT1H
BEGIN:VTIMEZONE
TZID:UTC
BEGIN:STANDARD
TZOFFSETFROM:+0000
TZOFFSETTO:+0000
TZNAME:UTC
DTSTART:20250101T000000
END:STANDARD
END:VTIMEZONE
BEGIN:VEVENT
DTSTART;VALUE=DATE:20260303
DTEND;VALUE=DATE:20260304
DTSTAMP:20260421T102452
CREATED:20251202T124606Z
LAST-MODIFIED:20251202T131802Z
UID:4553-1772496000-1772582399@natur-und-heimat.de
SUMMARY:Führung Musikhochschule Lübeck
DESCRIPTION:Informationen: „Wissenswertes zur Architektur und den Tätigkeitsprofilen\nder Hochschule“ \n15.00 Uhr Führung (ca. 1-1\,5 Std.) \nTreffpunkt: Gr. Petersgrube 21 (nicht barrierefrei) \nAnmeldung: bis 23.02.2026 (begrenzte Teilnehmerzahl) bei \nKarin Luther/Tel. 01706369298 oder E-Mail luther.karin@gmx.de
URL:https://natur-und-heimat.de/event/fuehrung-musikhochschule-luebeck/
CATEGORIES:Wanderungen
END:VEVENT
BEGIN:VEVENT
DTSTART;VALUE=DATE:20260304
DTEND;VALUE=DATE:20260305
DTSTAMP:20260421T102452
CREATED:20251202T124828Z
LAST-MODIFIED:20251202T124828Z
UID:4555-1772582400-1772668799@natur-und-heimat.de
SUMMARY:Halbtagswanderung |  Schlutup - UKSH
DESCRIPTION:Streckeninformation: – \nStreckenlänge: ca. 11 km \nTreffen: 09.50 Uhr \nTreffpunkt: Haltestelle „Schlutup Markt“ (ZOB 09.15 Uhr)\, L 11 \nTourleitung: Friedel Mark – Tel. 7060274 \nMobilnummer: 0157/38401814 (Bitte nur während der Wanderung benutzen) \nAls Wanderverein freuen wir uns über Gäste\, die gemeinsam mit uns die Natur erkunden möchten.\nEgal\, ob Sie bereits Mitglied sind oder nicht\, Sie sind herzlich eingeladen\, an unseren Wanderungen teilzunehmen. \nFür Tages- und Halbtagswanderungen erheben wir einen Kostenbeitrag von\n€ 4\,00 pro Person. Für Kurzwanderungen beträgt der Kostenbeitrag lediglich € 2\,00\npro Person.
URL:https://natur-und-heimat.de/event/halbtagswanderung-schlutup-uksh/
CATEGORIES:Wanderungen
END:VEVENT
BEGIN:VEVENT
DTSTART;VALUE=DATE:20260307
DTEND;VALUE=DATE:20260308
DTSTAMP:20260421T102452
CREATED:20251202T125142Z
LAST-MODIFIED:20251202T125142Z
UID:4558-1772841600-1772927999@natur-und-heimat.de
SUMMARY:Tageswanderung | Malente - Gremsmühlen - Plön
DESCRIPTION:Streckeninformationen: Rucksackverpflegung\, Einkehrmöglichkeit am Schluss \nStreckenlänge: ca. 16 km \nTreffen: 09.00 Uhr \nTreffpunkt: Bahnhofshalle/Hintereingang\, Zug 09.10 Uhr \nTourleitung: Ilse Gerlach – Tel. 404820 \nMobilnummer: 0163/4900254 (Bitte nur während der Wanderung benutzen.) \nAls Wanderverein freuen wir uns über Gäste\, die gemeinsam mit uns die Natur erkunden möchten.\nEgal\, ob Sie bereits Mitglied sind oder nicht\, Sie sind herzlich eingeladen\, an unseren Wanderungen teilzunehmen. \nFür Tages- und Halbtagswanderungen erheben wir einen Kostenbeitrag von\n€ 4\,00 pro Person. Für Kurzwanderungen beträgt der Kostenbeitrag lediglich € 2\,00\npro Person.
URL:https://natur-und-heimat.de/event/tageswanderung-malente-gremsmuehlen-ploen/
CATEGORIES:Wanderungen
END:VEVENT
BEGIN:VEVENT
DTSTART;VALUE=DATE:20260308
DTEND;VALUE=DATE:20260309
DTSTAMP:20260421T102452
CREATED:20251207T122132Z
LAST-MODIFIED:20251207T122132Z
UID:4597-1772928000-1773014399@natur-und-heimat.de
SUMMARY:Anmeldeschluss Reinfeld
DESCRIPTION:
URL:https://natur-und-heimat.de/event/anmeldeschluss-reinfeld/
CATEGORIES:Wanderungen
END:VEVENT
BEGIN:VEVENT
DTSTART;VALUE=DATE:20260311
DTEND;VALUE=DATE:20260312
DTSTAMP:20260421T102452
CREATED:20251202T125354Z
LAST-MODIFIED:20251202T125354Z
UID:4560-1773187200-1773273599@natur-und-heimat.de
SUMMARY:Halbtagswanderung | Pogeez - Groß Grönau
DESCRIPTION:Streckeninformation: – \nStreckenlänge: ca. 10 km \nTreffen: 09.43 Uhr \nTreffpunkt: Haltestelle „Seeweg/Pogeez“ (ZOB 09.11 Uhr\, Bus 8710) \nTourleitung: Iris Toelle – Tel. 0151/58894910 \nAls Wanderverein freuen wir uns über Gäste\, die gemeinsam mit uns die Natur erkunden möchten.\nEgal\, ob Sie bereits Mitglied sind oder nicht\, Sie sind herzlich eingeladen\, an unseren Wanderungen teilzunehmen. \nFür Tages- und Halbtagswanderungen erheben wir einen Kostenbeitrag von\n€ 4\,00 pro Person. Für Kurzwanderungen beträgt der Kostenbeitrag lediglich € 2\,00\npro Person.
URL:https://natur-und-heimat.de/event/halbtagswanderung-pogeez-gross-groenau/
CATEGORIES:Wanderungen
END:VEVENT
BEGIN:VEVENT
DTSTART;VALUE=DATE:20260314
DTEND;VALUE=DATE:20260315
DTSTAMP:20260421T102452
CREATED:20251202T125837Z
LAST-MODIFIED:20251202T131405Z
UID:4562-1773446400-1773532799@natur-und-heimat.de
SUMMARY:Tageswanderung | Bad Oldesloe - Reinfeld
DESCRIPTION:Streckeninformationen: Einkehr „Forsthaus Bolande“ \nStreckenlänge: ca. 17 km \nTreffen: 08.50 Uhr \nTreffpunkt: Bahnhofshalle/Hintereingang\, Zug 09.09 Uhr \nAnmeldung bis 08.03.2026 mit Angabe des Essenswunsches\n(Auswahl wird dann mitgeteilt) \nTourleitung: Silvia Flinker – Tel. 7073576 \nMobilnummer: 0174/6513957 (Bitte nur während der Wanderung benutzen) \nAls Wanderverein freuen wir uns über Gäste\, die gemeinsam mit uns die Natur erkunden möchten.\nEgal\, ob Sie bereits Mitglied sind oder nicht\, Sie sind herzlich eingeladen\, an unseren Wanderungen teilzunehmen. \nFür Tages- und Halbtagswanderungen erheben wir einen Kostenbeitrag von\n€ 4\,00 pro Person. Für Kurzwanderungen beträgt der Kostenbeitrag lediglich € 2\,00\npro Person.
URL:https://natur-und-heimat.de/event/tageswanderung-bad-oldesloe-reinfeld-2/
CATEGORIES:Wanderungen
END:VEVENT
BEGIN:VEVENT
DTSTART;VALUE=DATE:20260315
DTEND;VALUE=DATE:20260316
DTSTAMP:20260421T102452
CREATED:20251207T122236Z
LAST-MODIFIED:20251207T122236Z
UID:4599-1773532800-1773619199@natur-und-heimat.de
SUMMARY:Anmeldeschluss Erinnerungskultur
DESCRIPTION:
URL:https://natur-und-heimat.de/event/anmeldeschluss-erinnerungskultur/
CATEGORIES:Wanderungen
END:VEVENT
BEGIN:VEVENT
DTSTART;VALUE=DATE:20260318
DTEND;VALUE=DATE:20260319
DTSTAMP:20260421T102452
CREATED:20251202T130045Z
LAST-MODIFIED:20251202T131445Z
UID:4564-1773792000-1773878399@natur-und-heimat.de
SUMMARY:Halbtagswanderung | Puppenbrücke - Hauptbahnhof
DESCRIPTION:Streckeninformationen: – \nStreckenlänge: ca. 9 km \nTreffen: 09.20 Uhr \nTreffpunkt: Puppenbrücke/Wallseite \nTourleitung: Silvia Flinker – Tel. 7073576 \nMobilnummer: 0174/6513957 (Bitte nur während der Wanderung benutzen) \nAls Wanderverein freuen wir uns über Gäste\, die gemeinsam mit uns die Natur erkunden möchten.\nEgal\, ob Sie bereits Mitglied sind oder nicht\, Sie sind herzlich eingeladen\, an unseren Wanderungen teilzunehmen. \nFür Tages- und Halbtagswanderungen erheben wir einen Kostenbeitrag von\n€ 4\,00 pro Person. Für Kurzwanderungen beträgt der Kostenbeitrag lediglich € 2\,00\npro Person.
URL:https://natur-und-heimat.de/event/halbtagswanderung-puppenbruecke-hauptbahnhof-2/
CATEGORIES:Wanderungen
END:VEVENT
BEGIN:VEVENT
DTSTART;VALUE=DATE:20260319
DTEND;VALUE=DATE:20260320
DTSTAMP:20260421T102452
CREATED:20251202T130317Z
LAST-MODIFIED:20251202T130317Z
UID:4566-1773878400-1773964799@natur-und-heimat.de
SUMMARY:Kurzwanderung |  Einmal um die Altstadt
DESCRIPTION:Streckeninformation: Einkehr am Schluss ins Café Junge\, Falkenstr. 29 \nStreckenlänge: ca. 6 km \nTreffen: 13.53 Uhr \nTreffpunkt: Haltestelle „Krähenstr.“ (ZOB 13.46 Uhr)\, L 5 \nTourleitung: Friedel Mark – Tel. 7060274 \nMobilnummer: 0157/38401814 (Bitte nur während der Wanderung benutzen) \nAls Wanderverein freuen wir uns über Gäste\, die gemeinsam mit uns die Natur erkunden möchten.\nEgal\, ob Sie bereits Mitglied sind oder nicht\, Sie sind herzlich eingeladen\, an unseren Wanderungen teilzunehmen. \nFür Tages- und Halbtagswanderungen erheben wir einen Kostenbeitrag von\n€ 4\,00 pro Person. Für Kurzwanderungen beträgt der Kostenbeitrag lediglich € 2\,00\npro Person.
URL:https://natur-und-heimat.de/event/kurzwanderung-einmal-um-die-altstadt-2/
CATEGORIES:Wanderungen
END:VEVENT
BEGIN:VEVENT
DTSTART;VALUE=DATE:20260321
DTEND;VALUE=DATE:20260322
DTSTAMP:20260421T102452
CREATED:20251207T114405Z
LAST-MODIFIED:20251207T114405Z
UID:4576-1774051200-1774137599@natur-und-heimat.de
SUMMARY:Tagesrundwanderung | Ratzeburger und Behlendorfer See
DESCRIPTION:Streckeninformation: Rucksackverpflegung\, evtl. Einkehr am Schluss \nStreckenlänge: ca. 22 km \nTreffen: 08.50 Uhr \nTreffpunkt:  Bahnhofshalle/Hintereingang\, Zug 09.08 Uhr \nTourleitung: Marion Gillwald – Tel. 44890 \nMobilnummer: 0151/18788711 (Bitte nur während der Wanderung benutzen) \nAls Wanderverein freuen wir uns über Gäste\, die gemeinsam mit uns die Natur erkunden möchten.\nEgal\, ob Sie bereits Mitglied sind oder nicht\, Sie sind herzlich eingeladen\, an unseren Wanderungen teilzunehmen. \nFür Tages- und Halbtagswanderungen erheben wir einen Kostenbeitrag von\n€ 4\,00 pro Person. Für Kurzwanderungen beträgt der Kostenbeitrag lediglich € 2\,00\npro Person.
URL:https://natur-und-heimat.de/event/tagesrundwanderung-ratzeburger-und-behlendorfer-see/
CATEGORIES:Wanderungen
END:VEVENT
BEGIN:VEVENT
DTSTART;VALUE=DATE:20260325
DTEND;VALUE=DATE:20260326
DTSTAMP:20260421T102452
CREATED:20251207T115022Z
LAST-MODIFIED:20251207T115022Z
UID:4578-1774396800-1774483199@natur-und-heimat.de
SUMMARY:Projekt Erinnerungskultur: Literarischer Spaziergang
DESCRIPTION:Informationen: Spaziergang und Lesung zum Buch:\n„Hitler kam aus der Dankwartsgrube“ Kosten: 10\,– € \nAnmeldung: bis 15.03. (begrenzte Teilnehmerzahl) bei \nKristine Voigt/Tel. 017678527563 od. kristinevoigt@web.de \nTreffen: 09.20 Uhr \nTreffpunkt: Wortwerft\, Dankwartsgrube 39-41 \nTourleitung: Angela Scheer und Kristine Voigt – Tel. 0176/78527563\nod. kristinevoigt@web.de
URL:https://natur-und-heimat.de/event/projekt-erinnerungskultur-literarischer-spaziergang/
CATEGORIES:Wanderungen
END:VEVENT
BEGIN:VEVENT
DTSTART;VALUE=DATE:20260326
DTEND;VALUE=DATE:20260327
DTSTAMP:20260421T102452
CREATED:20251207T115306Z
LAST-MODIFIED:20251207T115306Z
UID:4580-1774483200-1774569599@natur-und-heimat.de
SUMMARY:Kurzwanderung / Von Niendorf nach Niendorf
DESCRIPTION:Streckeninformation: Mit der AWO\, Rundwanderung \nTreffen: 13.45 Uhr \nTreffpunkt: Haltestelle „Im Block“ (ZOB 13.14 Uhr)\, L 11 \nTourleitung: Hilde Veltman – Tel. 604700 \nMobilnummer: 0157/88293969 (Bitte nur während der Wanderung benutzen) \nAls Wanderverein freuen wir uns über Gäste\, die gemeinsam mit uns die Natur erkunden möchten.\nEgal\, ob Sie bereits Mitglied sind oder nicht\, Sie sind herzlich eingeladen\, an unseren Wanderungen teilzunehmen. \nFür Tages- und Halbtagswanderungen erheben wir einen Kostenbeitrag von\n€ 4\,00 pro Person. Für Kurzwanderungen beträgt der Kostenbeitrag lediglich € 2\,00\npro Person.
URL:https://natur-und-heimat.de/event/kurzwanderung-von-niendorf-nach-niendorf/
CATEGORIES:Wanderungen
END:VEVENT
BEGIN:VEVENT
DTSTART;VALUE=DATE:20260328
DTEND;VALUE=DATE:20260329
DTSTAMP:20260421T102452
CREATED:20251207T115549Z
LAST-MODIFIED:20251207T115549Z
UID:4582-1774656000-1774742399@natur-und-heimat.de
SUMMARY:Tagesrundwanderung / Lensahn - Güldenstein
DESCRIPTION:Streckeninformation: Rucksackverpflegung \nStreckenlänge: ca. 18 km \nTreffen: 08.50 Uhr \nTreffpunkt: Bahnhofshalle/Hintereingang\, SEV X 85 um 09.12 Uhr \nTourleitung: Andreas Sassenhagen/Tel. 2034832 \nMobilnummer: 0162/8581577 (Bitte nur während der Wanderung benutzen) \nAls Wanderverein freuen wir uns über Gäste\, die gemeinsam mit uns die Natur erkunden möchten.\nEgal\, ob Sie bereits Mitglied sind oder nicht\, Sie sind herzlich eingeladen\, an unseren Wanderungen teilzunehmen. \nFür Tages- und Halbtagswanderungen erheben wir einen Kostenbeitrag von\n€ 4\,00 pro Person. Für Kurzwanderungen beträgt der Kostenbeitrag lediglich € 2\,00\npro Person.
URL:https://natur-und-heimat.de/event/tagesrundwanderung-lensahn-gueldenstein/
CATEGORIES:Wanderungen
END:VEVENT
END:VCALENDAR