BEGIN:VCALENDAR
VERSION:2.0
PRODID:-//Natur und Heimat e. V. - ECPv6.15.17.1//NONSGML v1.0//EN
CALSCALE:GREGORIAN
METHOD:PUBLISH
X-WR-CALNAME:Natur und Heimat e. V.
X-ORIGINAL-URL:https://natur-und-heimat.de
X-WR-CALDESC:Veranstaltungen für Natur und Heimat e. V.
REFRESH-INTERVAL;VALUE=DURATION:PT1H
X-Robots-Tag:noindex
X-PUBLISHED-TTL:PT1H
BEGIN:VTIMEZONE
TZID:UTC
BEGIN:STANDARD
TZOFFSETFROM:+0000
TZOFFSETTO:+0000
TZNAME:UTC
DTSTART:20250101T000000
END:STANDARD
END:VTIMEZONE
BEGIN:VEVENT
DTSTART;VALUE=DATE:20260101
DTEND;VALUE=DATE:20260102
DTSTAMP:20260421T134538
CREATED:20251202T094959Z
LAST-MODIFIED:20251202T094959Z
UID:4491-1767225600-1767311999@natur-und-heimat.de
SUMMARY:Neujahrswanderung | Rund um Schlutup
DESCRIPTION:Streckeninformation: Travestrand – Grenzweg\, Kaffeeeinkehr „AWO-Treff Schlutup“ \nStreckenlänge: ca. 10 km \nTreffen: 11.45 Uhr \nTreffpunkt: Haltestelle „Schlutup Markt“ (ZOB 11.16 Uhr\, L 11) \nTourleitung: Iris Toelle – Tel. 0151/58894910 \nAls Wanderverein freuen wir uns über Gäste\, die gemeinsam mit uns die Natur erkunden möchten.\nEgal\, ob Sie bereits Mitglied sind oder nicht\, Sie sind herzlich eingeladen\, an unseren Wanderungen teilzunehmen. \nFür Tages- und Halbtagswanderungen erheben wir einen Kostenbeitrag von\n€ 4\,00 pro Person. Für Kurzwanderungen beträgt der Kostenbeitrag lediglich € 2\,00\npro Person.
URL:https://natur-und-heimat.de/event/neujahrswanderung-rund-um-schlutup-2/
CATEGORIES:Wanderungen
END:VEVENT
BEGIN:VEVENT
DTSTART;VALUE=DATE:20260103
DTEND;VALUE=DATE:20260104
DTSTAMP:20260421T134538
CREATED:20251202T095410Z
LAST-MODIFIED:20251202T095410Z
UID:4493-1767398400-1767484799@natur-und-heimat.de
SUMMARY:Tagesrundwanderung |  Von Eichholz über Herrnburger Gebiet
DESCRIPTION:Streckeninformation: Rucksackverpflegung \nStreckenlänge: ca. 13 km \nTreffen: 09.04 Uhr \nTreffpunkt: Haltestelle „Guerickestr.“ (ZOB 08.45 Uhr)\, L 5 \nTourleitung: Friedel Mark – Tel. 7060274 \nMobilnummer: 0157/38401814 (Bitte nur während der Wanderung benutzen) \nAls Wanderverein freuen wir uns über Gäste\, die gemeinsam mit uns die Natur erkunden möchten.\nEgal\, ob Sie bereits Mitglied sind oder nicht\, Sie sind herzlich eingeladen\, an unseren Wanderungen teilzunehmen. \nFür Tages- und Halbtagswanderungen erheben wir einen Kostenbeitrag von\n€ 4\,00 pro Person. Für Kurzwanderungen beträgt der Kostenbeitrag lediglich € 2\,00\npro Person.
URL:https://natur-und-heimat.de/event/tagesrundwanderung-von-eichholz-ueber-herrnburger-gebiet/
CATEGORIES:Wanderungen
END:VEVENT
BEGIN:VEVENT
DTSTART;VALUE=DATE:20260107
DTEND;VALUE=DATE:20260108
DTSTAMP:20260421T134538
CREATED:20251202T095818Z
LAST-MODIFIED:20251202T095818Z
UID:4495-1767744000-1767830399@natur-und-heimat.de
SUMMARY:Halbtagsrundwanderung | Reinfelder Herrenteich - Hofladen Dölger
DESCRIPTION:Streckeninformation: – \nStreckenlänge: ca. 9 km \nTreffen: 08.50 Uhr \nTreffpunkt: Bahnhofshalle/Hintereingang (Zug 09.09 Uhr) \nTourleitung: Iris Toelle – Tel. 0151/58894910 \nAls Wanderverein freuen wir uns über Gäste\, die gemeinsam mit uns die Natur erkunden möchten.\nEgal\, ob Sie bereits Mitglied sind oder nicht\, Sie sind herzlich eingeladen\, an unseren Wanderungen teilzunehmen. \nFür Tages- und Halbtagswanderungen erheben wir einen Kostenbeitrag von\n€ 4\,00 pro Person. Für Kurzwanderungen beträgt der Kostenbeitrag lediglich € 2\,00\npro Person.
URL:https://natur-und-heimat.de/event/halbtagsrundwanderung-reinfelder-herrenteich-hofladen-doelger/
CATEGORIES:Wanderungen
END:VEVENT
BEGIN:VEVENT
DTSTART;VALUE=DATE:20260110
DTEND;VALUE=DATE:20260111
DTSTAMP:20260421T134538
CREATED:20251202T100331Z
LAST-MODIFIED:20251202T100331Z
UID:4497-1768003200-1768089599@natur-und-heimat.de
SUMMARY:Tageswanderung / Dänischburg - Fackenburger Allee
DESCRIPTION:Streckeninformation: Wanderung ab Dänischburg (Ikea)\, Einkehr Longhorn Steakhaus Bad Schwartau \nStreckenlänge: ca. 15\,5 km \nTreffen: 8.45 Uhr \nTreffpunkt: Bahnhofshalle/Hintereingang\, Zug 09.03 Uhr \nTourleitung: Andreas Sassenhagen/Tel. 2034832 \nMobilnummer: 0162/8581577 (Bitte nur während der Wanderung benutzen) \nAls Wanderverein freuen wir uns über Gäste\, die gemeinsam mit uns die Natur erkunden möchten.\nEgal\, ob Sie bereits Mitglied sind oder nicht\, Sie sind herzlich eingeladen\, an unseren Wanderungen teilzunehmen. \nFür Tages- und Halbtagswanderungen erheben wir einen Kostenbeitrag von\n€ 4\,00 pro Person. Für Kurzwanderungen beträgt der Kostenbeitrag lediglich € 2\,00\npro Person.
URL:https://natur-und-heimat.de/event/tageswanderung-daenischburg-fackenburger-allee/
CATEGORIES:Wanderungen
END:VEVENT
BEGIN:VEVENT
DTSTART;VALUE=DATE:20260114
DTEND;VALUE=DATE:20260115
DTSTAMP:20260421T134538
CREATED:20251202T101224Z
LAST-MODIFIED:20251202T103107Z
UID:4499-1768348800-1768435199@natur-und-heimat.de
SUMMARY:3. Wildessen im Restaurant Müggenbusch
DESCRIPTION:Information: 12.00 Uhr Essen\, Preis 20\,– € (exkl. Getränke\, vegetarisches Gericht à la carte) \nAnfahrt: Buslinie 9 bis Grillenweg (Endstation) \nAnmeldung: bis 10.01. bei Hartmut Stöven\, Tel. 494196 oder E-Mail: hts@gmx.de \nAls Wanderverein freuen wir uns über Gäste\, die gemeinsam mit uns die Natur erkunden möchten.\nEgal\, ob Sie bereits Mitglied sind oder nicht\, Sie sind herzlich eingeladen\, an unseren Wanderungen teilzunehmen. \nFür Tages- und Halbtagswanderungen erheben wir einen Kostenbeitrag von\n€ 4\,00 pro Person. Für Kurzwanderungen beträgt der Kostenbeitrag lediglich € 2\,00\npro Person.
URL:https://natur-und-heimat.de/event/3-wildessen-im-restaurant-mueggenbusch/
CATEGORIES:Wanderungen
END:VEVENT
BEGIN:VEVENT
DTSTART;VALUE=DATE:20260114
DTEND;VALUE=DATE:20260115
DTSTAMP:20260421T134538
CREATED:20251202T101504Z
LAST-MODIFIED:20251202T101504Z
UID:4501-1768348800-1768435199@natur-und-heimat.de
SUMMARY:Kurzwanderung | Zum Restaurant Müggenbusch
DESCRIPTION:Streckeninformation: Wanderung zum 3. Wildessen \nStreckenlänge: ca. 5 km \nTreffen: 10.00 Uhr \nTreffpunkt: Haltestelle „Dieselstr“ (ZOB 09.36 Uhr)\, L 5 \nTourleitung: Heidi Schlichting – Tel. 497849 \nMobilnummer: 0151/58894910 (Bitte nur während der Wanderung benutzen.) \nAls Wanderverein freuen wir uns über Gäste\, die gemeinsam mit uns die Natur erkunden möchten.\nEgal\, ob Sie bereits Mitglied sind oder nicht\, Sie sind herzlich eingeladen\, an unseren Wanderungen teilzunehmen. \nFür Tages- und Halbtagswanderungen erheben wir einen Kostenbeitrag von\n€ 4\,00 pro Person. Für Kurzwanderungen beträgt der Kostenbeitrag lediglich € 2\,00\npro Person.
URL:https://natur-und-heimat.de/event/kurzwanderung-zum-restaurant-mueggenbusch/
CATEGORIES:Wanderungen
END:VEVENT
BEGIN:VEVENT
DTSTART;VALUE=DATE:20260114
DTEND;VALUE=DATE:20260115
DTSTAMP:20260421T134538
CREATED:20251207T121413Z
LAST-MODIFIED:20251207T121413Z
UID:4589-1768348800-1768435199@natur-und-heimat.de
SUMMARY:Anmeldeschluss 2. Winterhalbjahresveranstaltung
DESCRIPTION:
URL:https://natur-und-heimat.de/event/anmeldeschluss-2-winterhalbjahresveranstaltung/
CATEGORIES:Wanderungen
END:VEVENT
BEGIN:VEVENT
DTSTART;VALUE=DATE:20260117
DTEND;VALUE=DATE:20260118
DTSTAMP:20260421T134538
CREATED:20251202T101823Z
LAST-MODIFIED:20251202T115250Z
UID:4503-1768608000-1768694399@natur-und-heimat.de
SUMMARY:Tageswanderung | Moltkebrücke - Müggenbuschweg
DESCRIPTION:Streckeninformation: Einkehr „Restaurant Zeus“ \nStreckenlänge: ca. 14 km \nTreffen: 09.25 Uhr \nTreffpunkt: Haltestelle „Moltkeplatz“ (ZOB 09.15 Uhr\, Linie 5) \nTourleitung: Iris Toelle – Tel. 0151/58894910 \nAls Wanderverein freuen wir uns über Gäste\, die gemeinsam mit uns die Natur erkunden möchten.\nEgal\, ob Sie bereits Mitglied sind oder nicht\, Sie sind herzlich eingeladen\, an unseren Wanderungen teilzunehmen. \nFür Tages- und Halbtagswanderungen erheben wir einen Kostenbeitrag von\n€ 4\,00 pro Person. Für Kurzwanderungen beträgt der Kostenbeitrag lediglich € 2\,00\npro Person.
URL:https://natur-und-heimat.de/event/tageswanderung-moltkebruecke-mueggenbuschweg/
CATEGORIES:Wanderungen
END:VEVENT
BEGIN:VEVENT
DTSTART;VALUE=DATE:20260121
DTEND;VALUE=DATE:20260122
DTSTAMP:20260421T134538
CREATED:20251202T102311Z
LAST-MODIFIED:20251202T103402Z
UID:4505-1768953600-1769039999@natur-und-heimat.de
SUMMARY:Museumsbesuch
DESCRIPTION:Information: Shilpa Gupta: we last met in the mirror. Frau Klockmann führt uns durch \ndie Ausstellung der indischen Künstlerin Shilpa Gupta\, Gewinnerin des diesjährigen Possehl-Preises\nfür internationale Kunst \nTreffen: 13.45 Uhr \nTreffpunkt: Kunsthalle St. Annen (Eintritt 12\,– €\, Führung zahlt der Verein) \nLeitung: Friedel Mark – Tel. 7060274 \nMobilnummer: 0157/38401814 (Bitte nur während der Wanderung benutzen) \nAls Wanderverein freuen wir uns über Gäste\, die gemeinsam mit uns die Natur erkunden möchten.\nEgal\, ob Sie bereits Mitglied sind oder nicht\, Sie sind herzlich eingeladen\, an unseren Wanderungen teilzunehmen. \nFür Tages- und Halbtagswanderungen erheben wir einen Kostenbeitrag von\n€ 4\,00 pro Person. Für Kurzwanderungen beträgt der Kostenbeitrag lediglich € 2\,00\npro Person.
URL:https://natur-und-heimat.de/event/museumsbesuch/
CATEGORIES:Wanderungen
END:VEVENT
BEGIN:VEVENT
DTSTART;VALUE=DATE:20260123
DTEND;VALUE=DATE:20260124
DTSTAMP:20260421T134538
CREATED:20251207T121641Z
LAST-MODIFIED:20251207T121641Z
UID:4591-1769126400-1769212799@natur-und-heimat.de
SUMMARY:Anmeldeschluss "Bäume in der Winterruhe"
DESCRIPTION:
URL:https://natur-und-heimat.de/event/anmeldeschluss-baeume-in-der-winterruhe/
CATEGORIES:Wanderungen
END:VEVENT
BEGIN:VEVENT
DTSTART;VALUE=DATE:20260124
DTEND;VALUE=DATE:20260125
DTSTAMP:20260421T134538
CREATED:20251202T114010Z
LAST-MODIFIED:20251202T114111Z
UID:4512-1769212800-1769299199@natur-und-heimat.de
SUMMARY:2. Winterhalbjahresveranstaltung
DESCRIPTION:Informationen: „Flucht- und Grenzgänge“\, Zeitzeugen berichten:\nmit Dorid Kundrus\, Jügen Gieseler\, Holger Dohmke \nKaffeetrinken um 14.30 Uhr (Gedeck = 5\,– €)\, ca. 15.00 Uhr Veranstaltung \nAWO-Treff Schlutup\, Lauer Weg 1 (ZOB 13.45 Uhr\, L 11\, Haltestelle „Schlutup Markt“)  \nAnmeldung: bis 14.01.2026 bei \nKarin Luther/Tel. 01706369298 oder E-Mail luther.karin@gmx.de
URL:https://natur-und-heimat.de/event/2-winterhalbjahresveranstaltzung/
CATEGORIES:Wanderungen
END:VEVENT
BEGIN:VEVENT
DTSTART;VALUE=DATE:20260128
DTEND;VALUE=DATE:20260129
DTSTAMP:20260421T134538
CREATED:20251202T114351Z
LAST-MODIFIED:20251202T114351Z
UID:4516-1769558400-1769644799@natur-und-heimat.de
SUMMARY:Halbtagswanderung / Rund um die Brandenmühle
DESCRIPTION:Streckeninformation: – \nTreffen: 09.16 Uhr Uhr \nTreffpunkt: Haltestelle „Sterntalerweg“ (ZOB 08.58 Uhr)\, L 5 \nTourleitung: Hilde Veltman – Tel. 604700 \nMobilnummer: 0157/88293969 (Bitte nur während der Wanderung benutzen) \nAls Wanderverein freuen wir uns über Gäste\, die gemeinsam mit uns die Natur erkunden möchten.\nEgal\, ob Sie bereits Mitglied sind oder nicht\, Sie sind herzlich eingeladen\, an unseren Wanderungen teilzunehmen. \nFür Tages- und Halbtagswanderungen erheben wir einen Kostenbeitrag von\n€ 4\,00 pro Person. Für Kurzwanderungen beträgt der Kostenbeitrag lediglich € 2\,00\npro Person.
URL:https://natur-und-heimat.de/event/halbtagswanderung-rund-um-die-brandenmuehle/
CATEGORIES:Wanderungen
END:VEVENT
BEGIN:VEVENT
DTSTART;VALUE=DATE:20260129
DTEND;VALUE=DATE:20260130
DTSTAMP:20260421T134538
CREATED:20251202T114937Z
LAST-MODIFIED:20251202T122637Z
UID:4518-1769644800-1769731199@natur-und-heimat.de
SUMMARY:Bäume in der Winterruhe
DESCRIPTION:Informationen: Wir begleiten Edgar Dünninger\, zert. Waldpädagoge\, durch den\nStadtwald. Er wird uns Spannendes über Bäume\, Moose und Flechten erläutern. \nTreffen: 10.15 Uhr \nTreffpunkt: Marlihofcafé (ZOB 09.45 Uhr\, Linie 11\, Haltestelle „Im Gleisdreieck“) \nAnmeldung: bis 23.01.2026 (begrenzte Teilnehmerzahl) bei \nKarin Luther/Tel. 01706369298 oder E-Mail luther.karin@gmx.de
URL:https://natur-und-heimat.de/event/baeume-in-der-winterruhe/
CATEGORIES:Wanderungen
END:VEVENT
BEGIN:VEVENT
DTSTART;VALUE=DATE:20260131
DTEND;VALUE=DATE:20260201
DTSTAMP:20260421T134538
CREATED:20251202T115217Z
LAST-MODIFIED:20251202T122100Z
UID:4521-1769817600-1769903999@natur-und-heimat.de
SUMMARY:Tagesrundwanderung | Ratzeburg - Küchensee - Dom
DESCRIPTION:Streckeninformation: Einkehr „Restaurant Lavastein“ \nStreckenlänge: ca. 14 km \nTreffen: 08.50 Uhr \nTreffpunkt: Bahnhofshalle/Hintereingang (Zug 09.10 Uhr) \nTourleitung: Iris Toelle – Tel. 0151/58894910 \nAls Wanderverein freuen wir uns über Gäste\, die gemeinsam mit uns die Natur erkunden möchten.\nEgal\, ob Sie bereits Mitglied sind oder nicht\, Sie sind herzlich eingeladen\, an unseren Wanderungen teilzunehmen. \nFür Tages- und Halbtagswanderungen erheben wir einen Kostenbeitrag von\n€ 4\,00 pro Person. Für Kurzwanderungen beträgt der Kostenbeitrag lediglich € 2\,00\npro Person.
URL:https://natur-und-heimat.de/event/tagesrundwanderung-ratzeburg-kuechensee-dom/
CATEGORIES:Wanderungen
END:VEVENT
END:VCALENDAR