BEGIN:VCALENDAR
VERSION:2.0
PRODID:-//Natur und Heimat e. V. - ECPv6.15.17.1//NONSGML v1.0//EN
CALSCALE:GREGORIAN
METHOD:PUBLISH
X-WR-CALNAME:Natur und Heimat e. V.
X-ORIGINAL-URL:https://natur-und-heimat.de
X-WR-CALDESC:Veranstaltungen für Natur und Heimat e. V.
REFRESH-INTERVAL;VALUE=DURATION:PT1H
X-Robots-Tag:noindex
X-PUBLISHED-TTL:PT1H
BEGIN:VTIMEZONE
TZID:UTC
BEGIN:STANDARD
TZOFFSETFROM:+0000
TZOFFSETTO:+0000
TZNAME:UTC
DTSTART:20240101T000000
END:STANDARD
END:VTIMEZONE
BEGIN:VEVENT
DTSTART;VALUE=DATE:20251101
DTEND;VALUE=DATE:20251102
DTSTAMP:20260421T165259
CREATED:20250911T142918Z
LAST-MODIFIED:20250911T142918Z
UID:4419-1761955200-1762041599@natur-und-heimat.de
SUMMARY:Tageswanderung | An der Berner Au und Wandse zur Binnenalster
DESCRIPTION:Streckeninformation: Rucksackverpflegung \nStreckenlänge: ca. 17 km \nTreffen: 08.55 Uhr \nTreffpunkt: Bahnhofshalle/Hintereingang\, Zug 09.09 Uhr \nTourleitung: Iris Toelle – Tel. 0151/58894910 \nAls Wanderverein freuen wir uns über Gäste\, die gemeinsam mit uns die Natur erkunden möchten.\nEgal\, ob Sie bereits Mitglied sind oder nicht\, Sie sind herzlich eingeladen\, an unseren Wanderungen teilzunehmen. \nFür Tages- und Halbtagswanderungen erheben wir einen Kostenbeitrag von\n€ 4\,00 pro Person. Für Kurzwanderungen beträgt der Kostenbeitrag lediglich € 2\,00\npro Person.
URL:https://natur-und-heimat.de/event/tageswanderung-an-der-berner-au-und-wandse-zur-binnenalster/
CATEGORIES:Wanderungen
END:VEVENT
BEGIN:VEVENT
DTSTART;VALUE=DATE:20251105
DTEND;VALUE=DATE:20251106
DTSTAMP:20260421T165259
CREATED:20250911T143226Z
LAST-MODIFIED:20250911T143226Z
UID:4421-1762300800-1762387199@natur-und-heimat.de
SUMMARY:Halbtagswanderung | Bad Schwartau - Meierkamp - Riesebusch
DESCRIPTION:Streckeninformationen: Rucksackverpflegung \nStreckenlänge: ca. 11 km \nTreffen: 10.06 Uhr \nTreffpunkt: ZOB Bad Schwartau (ZOB-HL 09.43 Uhr) \nTourleitung: Ilse Gerlach – Tel. 404820 \nMobilnummer: 0163/4900254 (Bitte nur während der Wanderung benutzen.) \nAls Wanderverein freuen wir uns über Gäste\, die gemeinsam mit uns die Natur erkunden möchten.\nEgal\, ob Sie bereits Mitglied sind oder nicht\, Sie sind herzlich eingeladen\, an unseren Wanderungen teilzunehmen. \nFür Tages- und Halbtagswanderungen erheben wir einen Kostenbeitrag von\n€ 4\,00 pro Person. Für Kurzwanderungen beträgt der Kostenbeitrag lediglich € 2\,00\npro Person.
URL:https://natur-und-heimat.de/event/halbtagswanderung-bad-schwartau-meierkamp-riesebusch/
CATEGORIES:Wanderungen
END:VEVENT
BEGIN:VEVENT
DTSTART;VALUE=DATE:20251107
DTEND;VALUE=DATE:20251108
DTSTAMP:20260421T165259
CREATED:20250911T143828Z
LAST-MODIFIED:20250911T143828Z
UID:4423-1762473600-1762559999@natur-und-heimat.de
SUMMARY:Kurzwanderung | Um den Ruppersdorfer See
DESCRIPTION:Streckeninformation: Kaffeeeinkehr „Café Köster“ \nStreckenlänge: ca. 5 km \nTreffen: 13.45 Uhr \nTreffpunkt: Haltestelle „Ratekauer Dorfplatz (ZOB 12.58 Uhr)\, Bus 500 \nTourleitung: Heidi Schlichting – Tel. 497849 \nMobilnummer: 0151/58894910 (Bitte nur während der Wanderung benutzen.) \nAls Wanderverein freuen wir uns über Gäste\, die gemeinsam mit uns die Natur erkunden möchten.\nEgal\, ob Sie bereits Mitglied sind oder nicht\, Sie sind herzlich eingeladen\, an unseren Wanderungen teilzunehmen. \nFür Tages- und Halbtagswanderungen erheben wir einen Kostenbeitrag von\n€ 4\,00 pro Person. Für Kurzwanderungen beträgt der Kostenbeitrag lediglich € 2\,00\npro Person.
URL:https://natur-und-heimat.de/event/kurzwanderung-um-den-ruppersdorfer-see-2/
CATEGORIES:Wanderungen
END:VEVENT
BEGIN:VEVENT
DTSTART;VALUE=DATE:20251108
DTEND;VALUE=DATE:20251109
DTSTAMP:20260421T165259
CREATED:20250911T144055Z
LAST-MODIFIED:20250911T145237Z
UID:4425-1762560000-1762646399@natur-und-heimat.de
SUMMARY:Tageswanderung / Naturpark Westensee (u.a. Brahmsee)
DESCRIPTION:Streckeninformation: Rucksackverpflegung \nStreckenlänge: ca. 15 km \nTreffen: 08.15 Uhr \nTreffpunkt: Bahnhofshalle/Hintereingang\, Zug 08.28 Uhr \nTourleitung: Hilde Veltman – Tel. 604700 \nMobilnummer: 0157/88293969 (Bitte nur während der Wanderung benutzen) \nAls Wanderverein freuen wir uns über Gäste\, die gemeinsam mit uns die Natur erkunden möchten.\nEgal\, ob Sie bereits Mitglied sind oder nicht\, Sie sind herzlich eingeladen\, an unseren Wanderungen teilzunehmen. \nFür Tages- und Halbtagswanderungen erheben wir einen Kostenbeitrag von\n€ 4\,00 pro Person. Für Kurzwanderungen beträgt der Kostenbeitrag lediglich € 2\,00\npro Person.
URL:https://natur-und-heimat.de/event/tageswanderung-naturpark-westensee-u-a-brahmsee/
CATEGORIES:Wanderungen
END:VEVENT
BEGIN:VEVENT
DTSTART;VALUE=DATE:20251112
DTEND;VALUE=DATE:20251113
DTSTAMP:20260421T165259
CREATED:20250911T144332Z
LAST-MODIFIED:20250911T144332Z
UID:4427-1762905600-1762991999@natur-und-heimat.de
SUMMARY:Halbtagswanderung | Krummesse - Klempauer Hofsee
DESCRIPTION:Streckeninformation: – \nStreckenlänge: ca. 10 km \nTreffen: 09.33 Uhr (ZOB 08.56 Uhr) \nTreffpunkt: Haltestelle „Hohlweg“\, Linie 16 \nTourleitung: Christa Neubeck – Tel. 495741 \nAls Wanderverein freuen wir uns über Gäste\, die gemeinsam mit uns die Natur erkunden möchten.\nEgal\, ob Sie bereits Mitglied sind oder nicht\, Sie sind herzlich eingeladen\, an unseren Wanderungen teilzunehmen. \nFür Tages- und Halbtagswanderungen erheben wir einen Kostenbeitrag von\n€ 4\,00 pro Person. Für Kurzwanderungen beträgt der Kostenbeitrag lediglich € 2\,00\npro Person.
URL:https://natur-und-heimat.de/event/halbtagswanderung-krummesse-klempauer-hofsee-2/
CATEGORIES:Wanderungen
END:VEVENT
BEGIN:VEVENT
DTSTART;VALUE=DATE:20251115
DTEND;VALUE=DATE:20251116
DTSTAMP:20260421T165259
CREATED:20250911T144542Z
LAST-MODIFIED:20250911T144542Z
UID:4429-1763164800-1763251199@natur-und-heimat.de
SUMMARY:Tageswanderung | Ahrensbök - Eutin
DESCRIPTION:Streckeninformationen: Rucksackverpflegung \nStreckenlänge: ca. 20 km \nTreffen: 08.45 Uhr \nTreffpunkt: ZOB\, Steig 13\, Bus 510 um 08.55 Uhr \nTourleitung: Silvia Flinker – Tel. 7073576 \nMobilnummer: 0174/6513957 (Bitte nur während der Wanderung benutzen) \nAls Wanderverein freuen wir uns über Gäste\, die gemeinsam mit uns die Natur erkunden möchten.\nEgal\, ob Sie bereits Mitglied sind oder nicht\, Sie sind herzlich eingeladen\, an unseren Wanderungen teilzunehmen. \nFür Tages- und Halbtagswanderungen erheben wir einen Kostenbeitrag von\n€ 4\,00 pro Person. Für Kurzwanderungen beträgt der Kostenbeitrag lediglich € 2\,00\npro Person.
URL:https://natur-und-heimat.de/event/tageswanderung-ahrensboek-eutin/
CATEGORIES:Wanderungen
END:VEVENT
BEGIN:VEVENT
DTSTART;VALUE=DATE:20251119
DTEND;VALUE=DATE:20251120
DTSTAMP:20260421T165259
CREATED:20250911T145739Z
LAST-MODIFIED:20250911T145739Z
UID:4433-1763510400-1763596799@natur-und-heimat.de
SUMMARY:Halbtagsrundwanderung | Runde von Badendorf
DESCRIPTION:Streckeninformation: Rucksackverpflegung\, Möglichkeit\, Marzipan ab Fabrik zu kaufen \nStreckenlänge: ca. 10 km \nTreffen: 09.41 Uhr \nTreffpunkt:  Haltestelle „Taschenmacherstr.“ (ZOB 09.23 Uhr)\, L 12 \nTourleitung: Marion Gillwald – Tel. 44890 \nMobilnummer: 0151/18788711 (Bitte nur während der Wanderung benutzen) \nAls Wanderverein freuen wir uns über Gäste\, die gemeinsam mit uns die Natur erkunden möchten.\nEgal\, ob Sie bereits Mitglied sind oder nicht\, Sie sind herzlich eingeladen\, an unseren Wanderungen teilzunehmen. \nFür Tages- und Halbtagswanderungen erheben wir einen Kostenbeitrag von\n€ 4\,00 pro Person. Für Kurzwanderungen beträgt der Kostenbeitrag lediglich € 2\,00\npro Person.
URL:https://natur-und-heimat.de/event/halbtagsrundwanderung-runde-von-badendorf-2/
CATEGORIES:Wanderungen
END:VEVENT
BEGIN:VEVENT
DTSTART;VALUE=DATE:20251122
DTEND;VALUE=DATE:20251123
DTSTAMP:20260421T165259
CREATED:20250911T150448Z
LAST-MODIFIED:20250911T150448Z
UID:4435-1763769600-1763855999@natur-und-heimat.de
SUMMARY:1. Winterhalbjahresvortrag
DESCRIPTION:Informationen: Reiseimpressionen aus Oberägypten „Vom Nil bis in die Oasen“\nvon Johanna Wesnigk.  \nKaffeetrinken um 15.00 Uhr (Gedeck = 5\,– €)\, ca. 15.30 Uhr Vortrag \nSeniorentreff Hl.-Geist-Hospital\, Koberg 11 \nAnmeldung: bis 14.11.2025 bei \nKarin Luther/Tel. 01706369298 oder E-Mail luther.karin@gmx.de
URL:https://natur-und-heimat.de/event/1-winterhalbjahresvortrag-2/
CATEGORIES:Wanderungen
END:VEVENT
BEGIN:VEVENT
DTSTART;VALUE=DATE:20251126
DTEND;VALUE=DATE:20251127
DTSTAMP:20260421T165259
CREATED:20250911T150715Z
LAST-MODIFIED:20250911T150715Z
UID:4437-1764115200-1764201599@natur-und-heimat.de
SUMMARY:Halbtagsrundwanderung | Pansdorf
DESCRIPTION:Streckeninformationen: Evtl. zeigt sich die Wasseramsel. \nStreckenlänge: ca. 10 km \nTreffen: 09.10 Uhr \nTreffpunkt: Bahnhofshalle/Hintereingang\, Zug 09.28 Uhr \nTourleitung: Ilse Gerlach – Tel. 404820 \nMobilnummer: 0163/4900254 (Bitte nur während der Wanderung benutzen.) \nAls Wanderverein freuen wir uns über Gäste\, die gemeinsam mit uns die Natur erkunden möchten.\nEgal\, ob Sie bereits Mitglied sind oder nicht\, Sie sind herzlich eingeladen\, an unseren Wanderungen teilzunehmen. \nFür Tages- und Halbtagswanderungen erheben wir einen Kostenbeitrag von\n€ 4\,00 pro Person. Für Kurzwanderungen beträgt der Kostenbeitrag lediglich € 2\,00\npro Person.
URL:https://natur-und-heimat.de/event/halbtagsrundwanderung-pansdorf/
CATEGORIES:Wanderungen
END:VEVENT
BEGIN:VEVENT
DTSTART;VALUE=DATE:20251127
DTEND;VALUE=DATE:20251128
DTSTAMP:20260421T165259
CREATED:20250911T150926Z
LAST-MODIFIED:20250911T150926Z
UID:4439-1764201600-1764287999@natur-und-heimat.de
SUMMARY:Kurzwanderung / Schellbruch - Gothmund
DESCRIPTION:Streckeninformation: Mit der AWO \nTreffen: 14.01 Uhr Uhr \nTreffpunkt: Haltestelle „An der Hülshorst Mitte“ (ZOB 13.42 Uhr)\, L 12 \nTourleitung: Hilde Veltman – Tel. 604700 \nMobilnummer: 0157/88293969 (Bitte nur während der Wanderung benutzen) \nAls Wanderverein freuen wir uns über Gäste\, die gemeinsam mit uns die Natur erkunden möchten.\nEgal\, ob Sie bereits Mitglied sind oder nicht\, Sie sind herzlich eingeladen\, an unseren Wanderungen teilzunehmen. \nFür Tages- und Halbtagswanderungen erheben wir einen Kostenbeitrag von\n€ 4\,00 pro Person. Für Kurzwanderungen beträgt der Kostenbeitrag lediglich € 2\,00\npro Person.
URL:https://natur-und-heimat.de/event/kurzwanderung-schellbruch-gothmund/
CATEGORIES:Wanderungen
END:VEVENT
BEGIN:VEVENT
DTSTART;VALUE=DATE:20251129
DTEND;VALUE=DATE:20251130
DTSTAMP:20260421T165259
CREATED:20250911T151149Z
LAST-MODIFIED:20250911T151149Z
UID:4441-1764374400-1764460799@natur-und-heimat.de
SUMMARY:Tageswanderung | Kanal - Niederbüssau - Hochschulstadtteil
DESCRIPTION:Streckeninformationen: Rucksackverpflegung \nStreckenlänge: ca. 16 km \nTreffen: 09.16 Uhr \nTreffpunkt: Haltestelle „Verwaltungszentrum“\, mehrere Linien \nTourleitung: Silvia Flinker – Tel. 7073576 \nMobilnummer: 0174/6513957 (Bitte nur während der Wanderung benutzen) \nAls Wanderverein freuen wir uns über Gäste\, die gemeinsam mit uns die Natur erkunden möchten.\nEgal\, ob Sie bereits Mitglied sind oder nicht\, Sie sind herzlich eingeladen\, an unseren Wanderungen teilzunehmen. \nFür Tages- und Halbtagswanderungen erheben wir einen Kostenbeitrag von\n€ 4\,00 pro Person. Für Kurzwanderungen beträgt der Kostenbeitrag lediglich € 2\,00\npro Person.
URL:https://natur-und-heimat.de/event/tageswanderung-kanal-niederbuessau-hochschulstadtteil/
CATEGORIES:Wanderungen
END:VEVENT
END:VCALENDAR