BEGIN:VCALENDAR
VERSION:2.0
PRODID:-//Natur und Heimat e. V. - ECPv6.15.17.1//NONSGML v1.0//EN
CALSCALE:GREGORIAN
METHOD:PUBLISH
X-WR-CALNAME:Natur und Heimat e. V.
X-ORIGINAL-URL:https://natur-und-heimat.de
X-WR-CALDESC:Veranstaltungen für Natur und Heimat e. V.
REFRESH-INTERVAL;VALUE=DURATION:PT1H
X-Robots-Tag:noindex
X-PUBLISHED-TTL:PT1H
BEGIN:VTIMEZONE
TZID:UTC
BEGIN:STANDARD
TZOFFSETFROM:+0000
TZOFFSETTO:+0000
TZNAME:UTC
DTSTART:20240101T000000
END:STANDARD
END:VTIMEZONE
BEGIN:VEVENT
DTSTART;VALUE=DATE:20251001
DTEND;VALUE=DATE:20251002
DTSTAMP:20260421T183200
CREATED:20250909T103540Z
LAST-MODIFIED:20250911T140235Z
UID:4382-1759276800-1759363199@natur-und-heimat.de
SUMMARY:Halbtagswanderung / Wennsee - Kammerwald - Scharbeutz
DESCRIPTION:Streckeninformation: ca. 9 km \nTreffen: 09.00 Uhr Uhr \nTreffpunkt: Bahnhofshalle/Hintereingang\, Zug 09.12 Uhr \nTourleitung: Hilde Veltman – Tel. 604700 \nMobilnummer: 0157/88293969 (Bitte nur während der Wanderung benutzen) \nAls Wanderverein freuen wir uns über Gäste\, die gemeinsam mit uns die Natur erkunden möchten.\nEgal\, ob Sie bereits Mitglied sind oder nicht\, Sie sind herzlich eingeladen\, an unseren Wanderungen teilzunehmen. \nFür Tages- und Halbtagswanderungen erheben wir einen Kostenbeitrag von\n€ 4\,00 pro Person. Für Kurzwanderungen beträgt der Kostenbeitrag lediglich € 2\,00\npro Person.
URL:https://natur-und-heimat.de/event/halbtagswanderung-wennsee-kammerwald-scharbeutz/
CATEGORIES:Wanderungen
END:VEVENT
BEGIN:VEVENT
DTSTART;VALUE=DATE:20251004
DTEND;VALUE=DATE:20251005
DTSTAMP:20260421T183200
CREATED:20250911T133835Z
LAST-MODIFIED:20250911T133835Z
UID:4386-1759536000-1759622399@natur-und-heimat.de
SUMMARY:Tagesrundwanderung | Brenner Moor - Kloster Nütschau
DESCRIPTION:Streckeninformationen: Rucksackverpflegung \nStreckenlänge: ca. 15 km \nTreffen: 08.50 Uhr \nTreffpunkt: Bahnhofshalle/Hintereingang\, Zug 09.09 Uhr \nTourleitung: Silvia Flinker – Tel. 7073576 \nMobilnummer: 0174/6513957 (Bitte nur während der Wanderung benutzen) \nAls Wanderverein freuen wir uns über Gäste\, die gemeinsam mit uns die Natur erkunden möchten.\nEgal\, ob Sie bereits Mitglied sind oder nicht\, Sie sind herzlich eingeladen\, an unseren Wanderungen teilzunehmen. \nFür Tages- und Halbtagswanderungen erheben wir einen Kostenbeitrag von\n€ 4\,00 pro Person. Für Kurzwanderungen beträgt der Kostenbeitrag lediglich € 2\,00\npro Person.
URL:https://natur-und-heimat.de/event/tagesrundwanderung-brenner-moor-kloster-nuetschau-2/
CATEGORIES:Wanderungen
END:VEVENT
BEGIN:VEVENT
DTSTART;VALUE=DATE:20251005
DTEND;VALUE=DATE:20251013
DTSTAMP:20260421T183200
CREATED:20241211T150536Z
LAST-MODIFIED:20250221T124108Z
UID:4039-1759622400-1760313599@natur-und-heimat.de
SUMMARY:Wanderreise Elbsandsteingebirge / Bad Schandau-Krippen
DESCRIPTION:Reiseinformation: \n7 Übernachtungen im Hotel mit Frühstücksbüffet\, Saunanutzung\nEZ 830\,– € / DZ 700\,– € incl. Bahnfahrt und Kurtaxe\,\nincl. Königstein sowie einer Besichtigung in Dresden \nVerbindliche schriftliche Anmeldung bei\nIris Toelle\, Mönkhofer Weg 118\, 23562 Lübeck\nE-Mail: i.toelle@t-online.de \nMobilnummer: 0151/58894910
URL:https://natur-und-heimat.de/event/wanderreise-elbsandsteingebirge-bad-schandai-krippen/
CATEGORIES:Wanderreise
END:VEVENT
BEGIN:VEVENT
DTSTART;VALUE=DATE:20251006
DTEND;VALUE=DATE:20251007
DTSTAMP:20260421T183200
CREATED:20250907T111152Z
LAST-MODIFIED:20250911T140326Z
UID:4368-1759708800-1759795199@natur-und-heimat.de
SUMMARY:Botanische Wanderung |  Wakenitzufer
DESCRIPTION:Streckeninformation: Rundwanderung mit botanischen Erklärungen; am Wakenitzufer\nentlang und auf der anderen Seite zurück über den Drägerpark. \nStreckenlänge: ca. 2 Std. \nTreffen: 14.00 Uhr \nTreffpunkt: Gustav-Radbruch-Platz am Kiosk \nTourleitung: Friedel Mark – Tel. 7060274 und Johanna Wesnigk – Tel. 30430206 \nMobilnummer: 0157/38401814 (Bitte nur während der Wanderung benutzen) \nAls Wanderverein freuen wir uns über Gäste\, die gemeinsam mit uns die Natur erkunden möchten.\nEgal\, ob Sie bereits Mitglied sind oder nicht\, Sie sind herzlich eingeladen\, an unseren Wanderungen teilzunehmen. \nFür Tages- und Halbtagswanderungen erheben wir einen Kostenbeitrag von\n€ 4\,00 pro Person. Für Kurzwanderungen beträgt der Kostenbeitrag lediglich € 2\,00\npro Person.
URL:https://natur-und-heimat.de/event/botanische-wanderung-wakenitzufer/
CATEGORIES:Wanderungen
END:VEVENT
BEGIN:VEVENT
DTSTART;VALUE=DATE:20251008
DTEND;VALUE=DATE:20251009
DTSTAMP:20260421T183200
CREATED:20250911T134151Z
LAST-MODIFIED:20250911T134151Z
UID:4388-1759881600-1759967999@natur-und-heimat.de
SUMMARY:Schnupperpilgern | Mit Dankbarkeit in den Herbst
DESCRIPTION:Streckeninformation: Schnupperpilgern durch die Stadt und Wallanlagen mit Gedanken und Impulsen zur Jahreszeit \nStreckenlänge: ca. 6 km (ca. 3 Std.) \nTreffen: 12.00 Uhr \nTreffpunkt: Eingang St. Jakobi \nTourleitung: Sabine Rietman – Tel. 0173/8599507\nAnmeldung bis 05.10. (begrenzte Teilnehmerzahl) \nAls Wanderverein freuen wir uns über Gäste\, die gemeinsam mit uns die Natur erkunden möchten.\nEgal\, ob Sie bereits Mitglied sind oder nicht\, Sie sind herzlich eingeladen\, an unseren Wanderungen teilzunehmen. \nFür Tages- und Halbtagswanderungen erheben wir einen Kostenbeitrag von\n€ 4\,00 pro Person. Für Kurzwanderungen beträgt der Kostenbeitrag lediglich € 2\,00\npro Person.
URL:https://natur-und-heimat.de/event/schnupperpilgern-mit-dankbarkeit-in-den-herbst/
CATEGORIES:Wanderungen
END:VEVENT
BEGIN:VEVENT
DTSTART;VALUE=DATE:20251010
DTEND;VALUE=DATE:20251011
DTSTAMP:20260421T183200
CREATED:20250911T134434Z
LAST-MODIFIED:20250911T134434Z
UID:4390-1760054400-1760140799@natur-und-heimat.de
SUMMARY:Kurzwanderung | Rundweg in Travemünde
DESCRIPTION:Streckeninformation: Kaffeeeinkehr „Café Seebrücke“ \nStreckenlänge: ca. 5 km \nTreffen: 13.50 Uhr \nTreffpunkt: Bahnhofshalle/Hintereingang\, Zug 14.06 Uhr \nTourleitung: Heidi Schlichting – Tel. 497849 \nMobilnummer: 0151/58894910 (Bitte nur während der Wanderung benutzen.) \nAls Wanderverein freuen wir uns über Gäste\, die gemeinsam mit uns die Natur erkunden möchten.\nEgal\, ob Sie bereits Mitglied sind oder nicht\, Sie sind herzlich eingeladen\, an unseren Wanderungen teilzunehmen. \nFür Tages- und Halbtagswanderungen erheben wir einen Kostenbeitrag von\n€ 4\,00 pro Person. Für Kurzwanderungen beträgt der Kostenbeitrag lediglich € 2\,00\npro Person.
URL:https://natur-und-heimat.de/event/kurzwanderung-rundweg-in-travemuende/
CATEGORIES:Wanderungen
END:VEVENT
BEGIN:VEVENT
DTSTART;VALUE=DATE:20251011
DTEND;VALUE=DATE:20251012
DTSTAMP:20260421T183200
CREATED:20250911T134743Z
LAST-MODIFIED:20250911T134743Z
UID:4392-1760140800-1760227199@natur-und-heimat.de
SUMMARY:Tagesrundwanderung / Reinfeld - Zarpener Teiche
DESCRIPTION:Streckeninformation: Rucksackverpflegung \nStreckenlänge: ca. 18\,5 km \nTreffen: 08.50 Uhr \nTreffpunkt: Bahnhofshalle/Hintereingang\, Zug 09.09 Uhr \nTourleitung: Andreas Sassenhagen/Tel. 2034832 \nMobilnummer: 0162/8581577 (Bitte nur während der Wanderung benutzen) \nAls Wanderverein freuen wir uns über Gäste\, die gemeinsam mit uns die Natur erkunden möchten.\nEgal\, ob Sie bereits Mitglied sind oder nicht\, Sie sind herzlich eingeladen\, an unseren Wanderungen teilzunehmen. \nFür Tages- und Halbtagswanderungen erheben wir einen Kostenbeitrag von\n€ 4\,00 pro Person. Für Kurzwanderungen beträgt der Kostenbeitrag lediglich € 2\,00\npro Person.
URL:https://natur-und-heimat.de/event/tagesrundwanderung-reinfeld-zarpener-teiche/
CATEGORIES:Wanderungen
END:VEVENT
BEGIN:VEVENT
DTSTART;VALUE=DATE:20251012
DTEND;VALUE=DATE:20251013
DTSTAMP:20260421T183200
CREATED:20250911T135241Z
LAST-MODIFIED:20250911T135241Z
UID:4394-1760227200-1760313599@natur-und-heimat.de
SUMMARY:Halbtagsrundwanderung |  Von Moltkeplatz zu Moltkeplatz
DESCRIPTION:Streckeninformation: Wakenitz\, Lauerholz\, Stadtpark \nStreckenlänge: ca. 11 km \nTreffen: 10.25 Uhr \nTreffpunkt: Haltestelle „Moltkeplatz“ (ZOB 10.16 Uhr)\, L 5 \nTourleitung: Friedel Mark – Tel. 7060274 \nMobilnummer: 0157/38401814 (Bitte nur während der Wanderung benutzen) \nAls Wanderverein freuen wir uns über Gäste\, die gemeinsam mit uns die Natur erkunden möchten.\nEgal\, ob Sie bereits Mitglied sind oder nicht\, Sie sind herzlich eingeladen\, an unseren Wanderungen teilzunehmen. \nFür Tages- und Halbtagswanderungen erheben wir einen Kostenbeitrag von\n€ 4\,00 pro Person. Für Kurzwanderungen beträgt der Kostenbeitrag lediglich € 2\,00\npro Person.
URL:https://natur-und-heimat.de/event/halbtagsrundwanderung-von-moltkeplatz-zu-moltkeplatz/
CATEGORIES:Wanderungen
END:VEVENT
BEGIN:VEVENT
DTSTART;VALUE=DATE:20251015
DTEND;VALUE=DATE:20251016
DTSTAMP:20260421T183200
CREATED:20250911T135824Z
LAST-MODIFIED:20250923T111042Z
UID:4396-1760486400-1760572799@natur-und-heimat.de
SUMMARY:Projekt Erinnerungskultur: Gedenkstätte Ahrensbök
DESCRIPTION:Informationen: Führung ca. 3 Std.\, Rucksackverpflegung \nAnmeldung: vom 29.09. bis 05.10. 2025 (begrenzte Teilnehmerzahl) bei \nKristine Voigt/Tel. 017678527563 od. kristinevoigt@web.de \nTreffen: 10.40 Uhr \nTreffpunkt: ZOB Lübeck\, Steig 13\, Linie 510 (Abfahrt 10.55 Uhr)\nca. 40 min. Fußweg zur Gedenkstätte \nTourleitung: Angela Scheer und Kristine Voigt – Tel. 0176/78527563
URL:https://natur-und-heimat.de/event/projekt-erinnerungskultur-gedenkstaette-ahrensboek/
CATEGORIES:Wanderungen
END:VEVENT
BEGIN:VEVENT
DTSTART;VALUE=DATE:20251018
DTEND;VALUE=DATE:20251019
DTSTAMP:20260421T183200
CREATED:20250911T141053Z
LAST-MODIFIED:20250911T141053Z
UID:4402-1760745600-1760831999@natur-und-heimat.de
SUMMARY:Tageswanderung | Klütz - Boltenhagen
DESCRIPTION:Streckeninformation: Rucksackverpflegung\, mit Aufenthalt in Boltenhagen \nStreckenlänge: ca. 14 km \nTreffen: 08.50 Uhr \nTreffpunkt: Bahnhofshalle/Hintereingang\, Zug 09.02 Uhr \nTourleitung: Iris Toelle – Tel. 0151/58894910 \nAls Wanderverein freuen wir uns über Gäste\, die gemeinsam mit uns die Natur erkunden möchten.\nEgal\, ob Sie bereits Mitglied sind oder nicht\, Sie sind herzlich eingeladen\, an unseren Wanderungen teilzunehmen. \nFür Tages- und Halbtagswanderungen erheben wir einen Kostenbeitrag von\n€ 4\,00 pro Person. Für Kurzwanderungen beträgt der Kostenbeitrag lediglich € 2\,00\npro Person.
URL:https://natur-und-heimat.de/event/tageswanderung-kluetz-boltenhagen/
CATEGORIES:Wanderungen
END:VEVENT
BEGIN:VEVENT
DTSTART;VALUE=DATE:20251022
DTEND;VALUE=DATE:20251023
DTSTAMP:20260421T183200
CREATED:20250911T141643Z
LAST-MODIFIED:20250911T141643Z
UID:4406-1761091200-1761177599@natur-und-heimat.de
SUMMARY:Halbtagsrundwanderung | Trammersee
DESCRIPTION:Streckeninformation: Rucksackverpflegung \nStreckenlänge: ca. 11 km \nTreffen: 08.15 Uhr \nTreffpunkt:  Bahnhofshalle/Hintereingang\, Zug 08.28 Uhr \nTourleitung: Marion Gillwald – Tel. 44890 \nMobilnummer: 0151/18788711 (Bitte nur während der Wanderung benutzen) \nAls Wanderverein freuen wir uns über Gäste\, die gemeinsam mit uns die Natur erkunden möchten.\nEgal\, ob Sie bereits Mitglied sind oder nicht\, Sie sind herzlich eingeladen\, an unseren Wanderungen teilzunehmen. \nFür Tages- und Halbtagswanderungen erheben wir einen Kostenbeitrag von\n€ 4\,00 pro Person. Für Kurzwanderungen beträgt der Kostenbeitrag lediglich € 2\,00\npro Person.
URL:https://natur-und-heimat.de/event/halbtagsrundwanderung-trammersee/
CATEGORIES:Wanderungen
END:VEVENT
BEGIN:VEVENT
DTSTART;VALUE=DATE:20251025
DTEND;VALUE=DATE:20251026
DTSTAMP:20260421T183200
CREATED:20250911T141924Z
LAST-MODIFIED:20250911T141924Z
UID:4410-1761350400-1761436799@natur-und-heimat.de
SUMMARY:Tageswanderung | Schilksee-Wanderweg - Bülker Leuchtturm
DESCRIPTION:Streckeninformation: Rucksackverpflegung/Einkehrmöglichkeit \nStreckenlänge: ca. 18 km \nTreffen: 08.50 Uhr \nTreffpunkt: Bahnhofshalle/Hintereingang\, Zug 09.06 Uhr \nTourleitung: Iris Toelle – Tel. 0151/58894910 \nAls Wanderverein freuen wir uns über Gäste\, die gemeinsam mit uns die Natur erkunden möchten.\nEgal\, ob Sie bereits Mitglied sind oder nicht\, Sie sind herzlich eingeladen\, an unseren Wanderungen teilzunehmen. \nFür Tages- und Halbtagswanderungen erheben wir einen Kostenbeitrag von\n€ 4\,00 pro Person. Für Kurzwanderungen beträgt der Kostenbeitrag lediglich € 2\,00\npro Person.
URL:https://natur-und-heimat.de/event/tageswanderung-schilksee-wanderweg-buelker-leuchtturm/
CATEGORIES:Wanderungen
END:VEVENT
BEGIN:VEVENT
DTSTART;VALUE=DATE:20251026
DTEND;VALUE=DATE:20251027
DTSTAMP:20260421T183200
CREATED:20250911T142152Z
LAST-MODIFIED:20250911T142152Z
UID:4413-1761436800-1761523199@natur-und-heimat.de
SUMMARY:Halbtagsrundwanderung |  Schellbruch - Lauerholz
DESCRIPTION:Streckeninformation: – \nStreckenlänge: ca. 10 km \nTreffen: 10.19 Uhr \nTreffpunkt: Haltestelle „Ehrenfriedhof“ (ZOB 10.07 Uhr)\, L 31 \nTourleitung: Friedel Mark – Tel. 7060274 \nMobilnummer: 0157/38401814 (Bitte nur während der Wanderung benutzen) \nAls Wanderverein freuen wir uns über Gäste\, die gemeinsam mit uns die Natur erkunden möchten.\nEgal\, ob Sie bereits Mitglied sind oder nicht\, Sie sind herzlich eingeladen\, an unseren Wanderungen teilzunehmen. \nFür Tages- und Halbtagswanderungen erheben wir einen Kostenbeitrag von\n€ 4\,00 pro Person. Für Kurzwanderungen beträgt der Kostenbeitrag lediglich € 2\,00\npro Person.
URL:https://natur-und-heimat.de/event/halbtagsrundwanderung-schellbruch-lauerholz/
CATEGORIES:Wanderungen
END:VEVENT
BEGIN:VEVENT
DTSTART;VALUE=DATE:20251029
DTEND;VALUE=DATE:20251030
DTSTAMP:20260421T183200
CREATED:20250911T142440Z
LAST-MODIFIED:20250911T142440Z
UID:4415-1761696000-1761782399@natur-und-heimat.de
SUMMARY:Projekt Erinnerungskultur: Gedenkstätte Neuengamme
DESCRIPTION:Informationen: Führung ca. 3 Std.\, Spenden erbeten\, Rucksackverpflegung \nAnmeldung: vom 12.10. bis 19.10.2025 (begrenzte Teilnehmerzahl) bei \nKristine Voigt/Tel. 017678527563 od. kristinevoigt@web.de \nTreffen: 09.20 Uhr \nTreffpunkt: Bahnhofshalle/Hintereingang\, Zug 09.37 Uhr \nTourleitung: Angela Scheer und Kristine Voigt – Tel. 0176/78527563
URL:https://natur-und-heimat.de/event/projekt-erinnerungskultur-gedenkstaette-neuengamme/
CATEGORIES:Wanderungen
END:VEVENT
BEGIN:VEVENT
DTSTART;VALUE=DATE:20251030
DTEND;VALUE=DATE:20251031
DTSTAMP:20260421T183200
CREATED:20250911T142659Z
LAST-MODIFIED:20250911T142659Z
UID:4417-1761782400-1761868799@natur-und-heimat.de
SUMMARY:Kurzwanderung / Riesebusch - Pariner Berg
DESCRIPTION:Streckeninformation: Mit der AWO \nTreffen: 14.06 Uhr Uhr \nTreffpunkt: ZOB Bad Schwartau (ZOB-HL 13.43 Uhr)\, L 1 \nTourleitung: Hilde Veltman – Tel. 604700 \nMobilnummer: 0157/88293969 (Bitte nur während der Wanderung benutzen) \nAls Wanderverein freuen wir uns über Gäste\, die gemeinsam mit uns die Natur erkunden möchten.\nEgal\, ob Sie bereits Mitglied sind oder nicht\, Sie sind herzlich eingeladen\, an unseren Wanderungen teilzunehmen. \nFür Tages- und Halbtagswanderungen erheben wir einen Kostenbeitrag von\n€ 4\,00 pro Person. Für Kurzwanderungen beträgt der Kostenbeitrag lediglich € 2\,00\npro Person.
URL:https://natur-und-heimat.de/event/kurzwanderung-riesebusch-pariner-berg/
CATEGORIES:Wanderungen
END:VEVENT
END:VCALENDAR