BEGIN:VCALENDAR
VERSION:2.0
PRODID:-//Natur und Heimat e. V. - ECPv6.15.17.1//NONSGML v1.0//EN
CALSCALE:GREGORIAN
METHOD:PUBLISH
X-ORIGINAL-URL:https://natur-und-heimat.de
X-WR-CALDESC:Veranstaltungen für Natur und Heimat e. V.
REFRESH-INTERVAL;VALUE=DURATION:PT1H
X-Robots-Tag:noindex
X-PUBLISHED-TTL:PT1H
BEGIN:VTIMEZONE
TZID:UTC
BEGIN:STANDARD
TZOFFSETFROM:+0000
TZOFFSETTO:+0000
TZNAME:UTC
DTSTART:20240101T000000
END:STANDARD
END:VTIMEZONE
BEGIN:VEVENT
DTSTART;VALUE=DATE:20250802
DTEND;VALUE=DATE:20250803
DTSTAMP:20260421T212038
CREATED:20250602T123232Z
LAST-MODIFIED:20250602T123232Z
UID:4246-1754092800-1754179199@natur-und-heimat.de
SUMMARY:Tagesrundwanderung / Neustadt - Rettin
DESCRIPTION:Streckeninformation: Rucksackverpflegung\, Badegelegenheit \nStreckenlänge: ca. 16 km \nTreffen: 08.55 Uhr \nTreffpunkt: Bahnhofshalle/Hintereingang\, Zug 09.12 Uhr \nTourleitung: Andreas Sassenhagen/Tel. 2034832 \nMobilnummer: 0162/8581577 (Bitte nur während der Wanderung benutzen) \nAls Wanderverein freuen wir uns über Gäste\, die gemeinsam mit uns die Natur erkunden möchten.\nEgal\, ob Sie bereits Mitglied sind oder nicht\, Sie sind herzlich eingeladen\, an unseren Wanderungen teilzunehmen. \nFür Tages- und Halbtagswanderungen erheben wir einen Kostenbeitrag von\n€ 4\,00 pro Person. Für Kurzwanderungen beträgt der Kostenbeitrag lediglich € 2\,00\npro Person.
URL:https://natur-und-heimat.de/event/tagesrundwanderung-neustadt-rettin/
CATEGORIES:Wanderungen
END:VEVENT
BEGIN:VEVENT
DTSTART;VALUE=DATE:20250804
DTEND;VALUE=DATE:20250805
DTSTAMP:20260421T212038
CREATED:20250602T123727Z
LAST-MODIFIED:20250604T141128Z
UID:4248-1754265600-1754351999@natur-und-heimat.de
SUMMARY:Botanische Wanderung |  Blankensee - Grönauer Heide
DESCRIPTION:Streckeninformation: Wanderung mit botanischen Erklärungen; vom Dorfplatz zum \nBlankensee hinauf und über die Grönauer Heide mit großer Pflanzenvielfalt \nStreckenlänge: ca. 2 1/2 – 3 Std. \nTreffen: 14.18 Uhr \nTreffpunkt: Haltestelle. „Dorfplatz Blankensee“ (ZOB 13.46 Uhr)\, Buslinie 6 \nTourleitung: Friedel Mark – Tel. 7060274 und Johanna Wesnigk – Tel. 30430206 \nMobilnummer: 0157/38401814 (Bitte nur während der Wanderung benutzen) \nAls Wanderverein freuen wir uns über Gäste\, die gemeinsam mit uns die Natur erkunden möchten.\nEgal\, ob Sie bereits Mitglied sind oder nicht\, Sie sind herzlich eingeladen\, an unseren Wanderungen teilzunehmen. \nFür Tages- und Halbtagswanderungen erheben wir einen Kostenbeitrag von\n€ 4\,00 pro Person. Für Kurzwanderungen beträgt der Kostenbeitrag lediglich € 2\,00\npro Person.
URL:https://natur-und-heimat.de/event/botanische-wanderung-blankensee-groenauer-heide/
CATEGORIES:Wanderungen
END:VEVENT
BEGIN:VEVENT
DTSTART;VALUE=DATE:20250805
DTEND;VALUE=DATE:20250806
DTSTAMP:20260421T212038
CREATED:20250602T124613Z
LAST-MODIFIED:20250604T141342Z
UID:4251-1754352000-1754438399@natur-und-heimat.de
SUMMARY:Jüdisches Leben in Lübeck I
DESCRIPTION:Informationen: Führung Jüdischer Friedhof Moisling \nAnmeldung: bis 22.07.2025 (begrenzte Teilnehmerzahl) bei \nKristine Voigt/Tel. 017678527563 od. kristinevoigt@web.de \nTreffen: 10.55 Uhr \nTreffpunkt: Niendorfer Str. 45 (Hbf 10.37 Uhr mit R80 bis Moislinger Bahnhof\noder ZOB 10.28 Uhr mit Linie 5 bis Haltestelle „Ilsebillweg“ \nTourleitung: Kristine Voigt – Tel. 0176/78527563
URL:https://natur-und-heimat.de/event/juedisches-leben-in-luebeck-i/
CATEGORIES:Wanderungen
END:VEVENT
BEGIN:VEVENT
DTSTART;VALUE=DATE:20250806
DTEND;VALUE=DATE:20250807
DTSTAMP:20260421T212038
CREATED:20250602T124825Z
LAST-MODIFIED:20250602T124825Z
UID:4253-1754438400-1754524799@natur-und-heimat.de
SUMMARY:Halbtagsrundwanderung / Großer Eutiner See
DESCRIPTION:Streckeninformation: Wanderung um den See\, Rucksackverpflegung\, Badegelegenheit \nStreckenlänge: ca. 10\,5 km \nTreffen: 08.50 Uhr \nTreffpunkt: Bahnhofshalle/Hintereingang\, Zug 09.06 Uhr \nTourleitung: Andreas Sassenhagen/Tel. 2034832 \nMobilnummer: 0162/8581577 (Bitte nur während der Wanderung benutzen) \nAls Wanderverein freuen wir uns über Gäste\, die gemeinsam mit uns die Natur erkunden möchten.\nEgal\, ob Sie bereits Mitglied sind oder nicht\, Sie sind herzlich eingeladen\, an unseren Wanderungen teilzunehmen. \nFür Tages- und Halbtagswanderungen erheben wir einen Kostenbeitrag von\n€ 4\,00 pro Person. Für Kurzwanderungen beträgt der Kostenbeitrag lediglich € 2\,00\npro Person.
URL:https://natur-und-heimat.de/event/halbtagsrundwanderung-grosser-eutiner-see/
CATEGORIES:Wanderungen
END:VEVENT
BEGIN:VEVENT
DTSTART;VALUE=DATE:20250807
DTEND;VALUE=DATE:20250808
DTSTAMP:20260421T212038
CREATED:20250602T125216Z
LAST-MODIFIED:20250602T125216Z
UID:4255-1754524800-1754611199@natur-und-heimat.de
SUMMARY:Kolumbarium\, Die Eiche
DESCRIPTION:Informationen: 2. exklusive Hausführung durch das denkmalgeschützte Gebäude\, ca. 1\,5 Std. \nAnmeldung: bis 01.08.2025 (Bei der Tourleitung)\, begrenzte Teilnehmerzahl \nTreffen: 11.00 Uhr \nTreffpunkt: An der Untertrave 34 (ZOB 10.35 Uhr\, Linie 21 bis Koberg) \nTourleitung: Karin Luther – Tel. 01706369298
URL:https://natur-und-heimat.de/event/kolumbarium-die-eiche-2/
CATEGORIES:Wanderungen
END:VEVENT
BEGIN:VEVENT
DTSTART;VALUE=DATE:20250809
DTEND;VALUE=DATE:20250810
DTSTAMP:20260421T212038
CREATED:20250602T125522Z
LAST-MODIFIED:20250604T133921Z
UID:4257-1754697600-1754783999@natur-und-heimat.de
SUMMARY:Tagesrundwanderung | Buchholz/Nordheide
DESCRIPTION:Streckeninformation: Anspruchsvolle Strecke mit Steigungen! Rucksackverpflegung \nStreckenlänge: ca. 22 km \nTreffen: 07.55 Uhr \nTreffpunkt:  Bahnhofshalle/Hintereingang\, Zug 08.09 Uhr \nTourleitung: Marion Gillwald – Tel. 44890 \nMobilnummer: 0151/18788711 (Bitte nur während der Wanderung benutzen) \nAls Wanderverein freuen wir uns über Gäste\, die gemeinsam mit uns die Natur erkunden möchten.\nEgal\, ob Sie bereits Mitglied sind oder nicht\, Sie sind herzlich eingeladen\, an unseren Wanderungen teilzunehmen. \nFür Tages- und Halbtagswanderungen erheben wir einen Kostenbeitrag von\n€ 4\,00 pro Person. Für Kurzwanderungen beträgt der Kostenbeitrag lediglich € 2\,00\npro Person.
URL:https://natur-und-heimat.de/event/tagesrundwanderung-buchholu-nordheide/
CATEGORIES:Wanderungen
END:VEVENT
BEGIN:VEVENT
DTSTART;VALUE=DATE:20250812
DTEND;VALUE=DATE:20250813
DTSTAMP:20260421T212038
CREATED:20250602T125900Z
LAST-MODIFIED:20250602T125900Z
UID:4259-1754956800-1755043199@natur-und-heimat.de
SUMMARY:Jüdisches Leben in Lübeck II
DESCRIPTION:Informationen: 11.00 Uhr Führung Carlebach Synagoge Lübeck (Eintritt 5\,– €) \nAnmeldung: bis 29.07.2025 (begrenzte Teilnehmerzahl) bei \nKristine Voigt/Tel. 017678527563 od. kristinevoigt@web.de \nTreffen: 10.55 Uhr \nTreffpunkt: St.-Annen-Str. 11-13 (Haltestelle „Fegefeuer“) \nTourleitung: Kristine Voigt – Tel. 0176/78527563
URL:https://natur-und-heimat.de/event/juedisches-leben-in-luebeck-ii/
CATEGORIES:Wanderungen
END:VEVENT
BEGIN:VEVENT
DTSTART;VALUE=DATE:20250813
DTEND;VALUE=DATE:20250814
DTSTAMP:20260421T212038
CREATED:20250602T130206Z
LAST-MODIFIED:20250602T130206Z
UID:4261-1755043200-1755129599@natur-und-heimat.de
SUMMARY:Halbtagswanderung | Schellbruch - Schlutup
DESCRIPTION:Streckeninformation: – \nStreckenlänge: ca. 9 km \nTreffen: 09.33 Uhr (ab ZOB 09.12 Uhr) \nTreffpunkt: Haltestelle „Forstmeisterweg“\, Linie 12 \nTourleitung: Christa Neubeck – Tel. 495741 \nAls Wanderverein freuen wir uns über Gäste\, die gemeinsam mit uns die Natur erkunden möchten.\nEgal\, ob Sie bereits Mitglied sind oder nicht\, Sie sind herzlich eingeladen\, an unseren Wanderungen teilzunehmen. \nFür Tages- und Halbtagswanderungen erheben wir einen Kostenbeitrag von\n€ 4\,00 pro Person. Für Kurzwanderungen beträgt der Kostenbeitrag lediglich € 2\,00\npro Person.
URL:https://natur-und-heimat.de/event/halbtagswanderung-schellbruch-schlutup/
CATEGORIES:Wanderungen
END:VEVENT
BEGIN:VEVENT
DTSTART;VALUE=DATE:20250815
DTEND;VALUE=DATE:20250816
DTSTAMP:20260421T212038
CREATED:20250602T130418Z
LAST-MODIFIED:20250602T130418Z
UID:4263-1755216000-1755302399@natur-und-heimat.de
SUMMARY:Kurzwanderung | Scharbeutz
DESCRIPTION:Streckeninformation: Wanderung zur neuen Ostseebrücke \nStreckenlänge: ca. 5 km \nTreffen: 14.00 Uhr \nTreffpunkt: Bahnhofshalle/Hintereingang\, Zug 14.12 Uhr \nTourleitung: Heidi Schlichting – Tel. 497849 \nMobilnummer: 0151/58894910 (Bitte nur während der Wanderung benutzen.) \nAls Wanderverein freuen wir uns über Gäste\, die gemeinsam mit uns die Natur erkunden möchten.\nEgal\, ob Sie bereits Mitglied sind oder nicht\, Sie sind herzlich eingeladen\, an unseren Wanderungen teilzunehmen. \nFür Tages- und Halbtagswanderungen erheben wir einen Kostenbeitrag von\n€ 4\,00 pro Person. Für Kurzwanderungen beträgt der Kostenbeitrag lediglich € 2\,00\npro Person.
URL:https://natur-und-heimat.de/event/kurzwanderung-scharbeutz/
CATEGORIES:Wanderungen
END:VEVENT
BEGIN:VEVENT
DTSTART;VALUE=DATE:20250816
DTEND;VALUE=DATE:20250817
DTSTAMP:20260421T212038
CREATED:20250603T133916Z
LAST-MODIFIED:20250603T133916Z
UID:4268-1755302400-1755388799@natur-und-heimat.de
SUMMARY:Tageswanderung / Drei-Heide-Tour
DESCRIPTION:Streckeninformation: Fischbek\, Wulmstorf\, Neugraben mit Besichtigung des Fischbeker Heide-Infohauses „Schafstall“\nund über den Hasselbrack (höchste natürliche Erhebung in HH)\, Rucksackverpflegung \nTourlänge: ca. 18 km/200 hm \nTreffen: 08.20 Uhr Uhr \nTreffpunkt: Bahnhofshalle/Hintereingang\, Zug 08.37 Uhr \nTourleitung: Helmut Spoo – Tel. 58598833 \nAls Wanderverein freuen wir uns über Gäste\, die gemeinsam mit uns die Natur erkunden möchten.\nEgal\, ob Sie bereits Mitglied sind oder nicht\, Sie sind herzlich eingeladen\, an unseren Wanderungen teilzunehmen. \nFür Tages- und Halbtagswanderungen erheben wir einen Kostenbeitrag von\n€ 4\,00 pro Person. Für Kurzwanderungen beträgt der Kostenbeitrag lediglich € 2\,00\npro Person.
URL:https://natur-und-heimat.de/event/tageswanderung-drei-heide-tour/
CATEGORIES:Wanderungen
END:VEVENT
BEGIN:VEVENT
DTSTART;VALUE=DATE:20250820
DTEND;VALUE=DATE:20250821
DTSTAMP:20260421T212038
CREATED:20250603T134226Z
LAST-MODIFIED:20250603T134226Z
UID:4270-1755648000-1755734399@natur-und-heimat.de
SUMMARY:Schnupperpilgern | Die Fülle des Sommers
DESCRIPTION:Streckeninformation: Schnupperpilgern durch die Stadt und Wallanlagen mit Gedanken und Impulsen zur Jahreszeit \nStreckenlänge: ca. 6 km (ca. 3 Std.) \nTreffen: 12.00 Uhr \nTreffpunkt: Eingang St. Jakobi \nTourleitung: Sabine Rietman – Tel. 0173/8599507\nAnmeldung bis 17.08. (begrenzte Teilnehmerzahl) \nAls Wanderverein freuen wir uns über Gäste\, die gemeinsam mit uns die Natur erkunden möchten.\nEgal\, ob Sie bereits Mitglied sind oder nicht\, Sie sind herzlich eingeladen\, an unseren Wanderungen teilzunehmen. \nFür Tages- und Halbtagswanderungen erheben wir einen Kostenbeitrag von\n€ 4\,00 pro Person. Für Kurzwanderungen beträgt der Kostenbeitrag lediglich € 2\,00\npro Person.
URL:https://natur-und-heimat.de/event/schnupperpilgern-die-fuelle-des-sommers/
CATEGORIES:Wanderungen
END:VEVENT
BEGIN:VEVENT
DTSTART;VALUE=DATE:20250823
DTEND;VALUE=DATE:20250824
DTSTAMP:20260421T212038
CREATED:20250603T134507Z
LAST-MODIFIED:20250603T134507Z
UID:4272-1755907200-1755993599@natur-und-heimat.de
SUMMARY:Tageswanderung | Dosenmoor - Einfelder See
DESCRIPTION:Streckeninformation: Rucksackverpflegung/evtl. Kaffeeeinkehr \nStreckenlänge: ca. 18 km \nTreffen: 08.50 Uhr \nTreffpunkt: Bahnhofshalle/Hintereingang\, Zug 09.09 Uhr \nTourleitung: Iris Toelle – Tel. 0151/58894910 \nAls Wanderverein freuen wir uns über Gäste\, die gemeinsam mit uns die Natur erkunden möchten.\nEgal\, ob Sie bereits Mitglied sind oder nicht\, Sie sind herzlich eingeladen\, an unseren Wanderungen teilzunehmen. \nFür Tages- und Halbtagswanderungen erheben wir einen Kostenbeitrag von\n€ 4\,00 pro Person. Für Kurzwanderungen beträgt der Kostenbeitrag lediglich € 2\,00\npro Person.
URL:https://natur-und-heimat.de/event/tageswanderung-dosenmoor-einfelder-see/
CATEGORIES:Wanderungen
END:VEVENT
BEGIN:VEVENT
DTSTART;VALUE=DATE:20250827
DTEND;VALUE=DATE:20250828
DTSTAMP:20260421T212038
CREATED:20250603T134934Z
LAST-MODIFIED:20250604T141846Z
UID:4274-1756252800-1756339199@natur-und-heimat.de
SUMMARY:Kurzwanderung | Eichholz - Müggenbusch
DESCRIPTION:Streckeninformation: Wanderung nach Müggenbusch zur Jahreshauptversammlung/Sommerfest \nStreckenlänge: ca. 5 km \nTreffen: 12.55 Uhr \nTreffpunkt: Haltestelle „Dieselstr.“ (ZOB 12.36 Uhr)\, L 1 \nTourleitung: Heidi Schlichting – Tel. 497849\nAnmeldung bis 20.08. bei der Tourleitung \nMobilnummer: 0151/58894910 (Bitte nur während der Wanderung benutzen.) \nAls Wanderverein freuen wir uns über Gäste\, die gemeinsam mit uns die Natur erkunden möchten.\nEgal\, ob Sie bereits Mitglied sind oder nicht\, Sie sind herzlich eingeladen\, an unseren Wanderungen teilzunehmen. \nFür Tages- und Halbtagswanderungen erheben wir einen Kostenbeitrag von\n€ 4\,00 pro Person. Für Kurzwanderungen beträgt der Kostenbeitrag lediglich € 2\,00\npro Person.
URL:https://natur-und-heimat.de/event/kurzwanderung-eichholz-mueggenbusch-4/
CATEGORIES:Wanderungen
END:VEVENT
BEGIN:VEVENT
DTSTART;VALUE=DATE:20250827
DTEND;VALUE=DATE:20250828
DTSTAMP:20260421T212038
CREATED:20250603T135948Z
LAST-MODIFIED:20250603T135948Z
UID:4278-1756252800-1756339199@natur-und-heimat.de
SUMMARY:Tageswanderung | Eichholz - Müggenbusch
DESCRIPTION:Streckeninformationen: ab Herrnburg zur Jahreshauptversammlung/Sommerfest \nStreckenlänge: ca. 14 km \nTreffen: 11.11 Uhr \nTreffpunkt: Bahnhof Herrnburg (ab HL 11.02 Uhr \nTourleitung: Ilse Gerlach – Tel. 404820\nAnmeldung bis 20.08. bei der Tourleitung \nMobilnummer: 0163/4900254 (Bitte nur während der Wanderung benutzen.) \nAls Wanderverein freuen wir uns über Gäste\, die gemeinsam mit uns die Natur erkunden möchten.\nEgal\, ob Sie bereits Mitglied sind oder nicht\, Sie sind herzlich eingeladen\, an unseren Wanderungen teilzunehmen. \nFür Tages- und Halbtagswanderungen erheben wir einen Kostenbeitrag von\n€ 4\,00 pro Person. Für Kurzwanderungen beträgt der Kostenbeitrag lediglich € 2\,00\npro Person.
URL:https://natur-und-heimat.de/event/tageswanderung-eichholz-mueggenbusch/
CATEGORIES:Wanderungen
END:VEVENT
BEGIN:VEVENT
DTSTART;VALUE=DATE:20250830
DTEND;VALUE=DATE:20250831
DTSTAMP:20260421T212038
CREATED:20250603T140419Z
LAST-MODIFIED:20250603T140419Z
UID:4282-1756512000-1756598399@natur-und-heimat.de
SUMMARY:Tagesrundwanderung | Mölln - Pinnsee
DESCRIPTION:Streckeninformationen: sehr schattig\, Bademöglichkeit\, Rucksackverpflegung \nStreckenlänge: ca. 15 km \nTreffen: 08.55 Uhr \nTreffpunkt: Bahnhofshalle/Hintereingang (Zug 09.10 Uhr) \nTourleitung: Silvia Flinker – Tel. 7073576 \nMobilnummer: 0174/6513957 (Bitte nur während der Wanderung benutzen) \nAls Wanderverein freuen wir uns über Gäste\, die gemeinsam mit uns die Natur erkunden möchten.\nEgal\, ob Sie bereits Mitglied sind oder nicht\, Sie sind herzlich eingeladen\, an unseren Wanderungen teilzunehmen. \nFür Tages- und Halbtagswanderungen erheben wir einen Kostenbeitrag von\n€ 4\,00 pro Person. Für Kurzwanderungen beträgt der Kostenbeitrag lediglich € 2\,00\npro Person.
URL:https://natur-und-heimat.de/event/tagesrundwanderung-moelln-pinnsee-3/
CATEGORIES:Wanderungen
END:VEVENT
END:VCALENDAR