BEGIN:VCALENDAR
VERSION:2.0
PRODID:-//Natur und Heimat e. V. - ECPv6.15.17.1//NONSGML v1.0//EN
CALSCALE:GREGORIAN
METHOD:PUBLISH
X-ORIGINAL-URL:https://natur-und-heimat.de
X-WR-CALDESC:Veranstaltungen für Natur und Heimat e. V.
REFRESH-INTERVAL;VALUE=DURATION:PT1H
X-Robots-Tag:noindex
X-PUBLISHED-TTL:PT1H
BEGIN:VTIMEZONE
TZID:UTC
BEGIN:STANDARD
TZOFFSETFROM:+0000
TZOFFSETTO:+0000
TZNAME:UTC
DTSTART:20240101T000000
END:STANDARD
END:VTIMEZONE
BEGIN:VEVENT
DTSTART;VALUE=DATE:20250702
DTEND;VALUE=DATE:20250703
DTSTAMP:20260421T230948
CREATED:20250602T113848Z
LAST-MODIFIED:20250604T135847Z
UID:4220-1751414400-1751500799@natur-und-heimat.de
SUMMARY:Halbtagswanderung | Vom Industrieort zum schönen Wohnort
DESCRIPTION:Streckeninformation: Halbtagswanderung in Schlutup \nStreckenlänge: ca. 6-8 km \nTreffen: 09.53 Uhr (ab ZOB 09.15 Uhr) \nTreffpunkt: Haltestelle „Schlutup Markt“\, Linie 11 \nTourleitung: Christa Neubeck – Tel. 495741 \nAls Wanderverein freuen wir uns über Gäste\, die gemeinsam mit uns die Natur erkunden möchten.\nEgal\, ob Sie bereits Mitglied sind oder nicht\, Sie sind herzlich eingeladen\, an unseren Wanderungen teilzunehmen. \nFür Tages- und Halbtagswanderungen erheben wir einen Kostenbeitrag von\n€ 4\,00 pro Person. Für Kurzwanderungen beträgt der Kostenbeitrag lediglich € 2\,00\npro Person.
URL:https://natur-und-heimat.de/event/halbtagswanderung-vom-industrieort-zum-schoenen-wohnort/
CATEGORIES:Wanderungen
END:VEVENT
BEGIN:VEVENT
DTSTART;VALUE=DATE:20250705
DTEND;VALUE=DATE:20250706
DTSTAMP:20260421T230948
CREATED:20250602T114143Z
LAST-MODIFIED:20250604T140050Z
UID:4222-1751673600-1751759999@natur-und-heimat.de
SUMMARY:Tagesrundwanderung | Runde von Bornhöved
DESCRIPTION:Streckeninformation: Rucksackverpflegung/evtl. Einkehr \nStreckenlänge: ca. 17 km \nTreffen: 08.00 Uhr \nTreffpunkt:  ZOB\, Steig 15\, Bus 7650 um 08.13 Uhr \nTourleitung: Marion Gillwald – Tel. 44890 \nMobilnummer: 0151/18788711 (Bitte nur während der Wanderung benutzen) \nAls Wanderverein freuen wir uns über Gäste\, die gemeinsam mit uns die Natur erkunden möchten.\nEgal\, ob Sie bereits Mitglied sind oder nicht\, Sie sind herzlich eingeladen\, an unseren Wanderungen teilzunehmen. \nFür Tages- und Halbtagswanderungen erheben wir einen Kostenbeitrag von\n€ 4\,00 pro Person. Für Kurzwanderungen beträgt der Kostenbeitrag lediglich € 2\,00\npro Person.
URL:https://natur-und-heimat.de/event/tagesrundwanderung-runde-von-borhoeved/
CATEGORIES:Wanderungen
END:VEVENT
BEGIN:VEVENT
DTSTART;VALUE=DATE:20250707
DTEND;VALUE=DATE:20250708
DTSTAMP:20260421T230948
CREATED:20250602T113440Z
LAST-MODIFIED:20250605T141355Z
UID:4218-1751846400-1751932799@natur-und-heimat.de
SUMMARY:Botanische Wanderung |  Bad Schwartau - Dänischburg
DESCRIPTION:Streckeninformation: Wanderung mit botanischen Erklärungen; vom Klärwerk zum LSG „Alt Lübeck“)\,\ndann zwischen den Bahnschienen und der Trave entlang bis zum LUV-Center. Wir erwarten schöne Trockenvegetation mit feuchten Stellen. \nStreckenlänge: ca. 2 1/2 – 3 Std. \nTreffen: 14.07 Uhr \nTreffpunkt: Haltestelle. „Tremser Teich“ (ZOB 13.53 Uhr)\, Buslinie 1 \nTourleitung: Friedel Mark – Tel. 7060274 und Johanna Wesnigk – Tel. 30430206 \nMobilnummer: 0157/38401814 (Bitte nur während der Wanderung benutzen) \nAls Wanderverein freuen wir uns über Gäste\, die gemeinsam mit uns die Natur erkunden möchten.\nEgal\, ob Sie bereits Mitglied sind oder nicht\, Sie sind herzlich eingeladen\, an unseren Wanderungen teilzunehmen. \nFür Tages- und Halbtagswanderungen erheben wir einen Kostenbeitrag von\n€ 4\,00 pro Person. Für Kurzwanderungen beträgt der Kostenbeitrag lediglich € 2\,00\npro Person.
URL:https://natur-und-heimat.de/event/botanische-wanderung-bad-schwartau-daenischburg/
CATEGORIES:Wanderungen
END:VEVENT
BEGIN:VEVENT
DTSTART;VALUE=DATE:20250709
DTEND;VALUE=DATE:20250710
DTSTAMP:20260421T230948
CREATED:20250602T115155Z
LAST-MODIFIED:20250602T115209Z
UID:4226-1752019200-1752105599@natur-und-heimat.de
SUMMARY:Rundwanderung / Groß Grönau - Schattiner Zuschlag
DESCRIPTION:Streckeninformation: Rucksackverpflegung\, Trittsicherheit und solides Schuhwerk/hohe Wanderstiefel erforderlich. \nStreckenlänge: ca. 13\,5 km (Hin- u. Rückweg = insges. 11 km\, anschl. Führung durch den Schattiner Zuschlag) \nTreffen: 09.25 Uhr \nTreffpunkt: Haltestelle „Am Vierth“ (Sandstr. 09.02 Uhr) Linie 4 \nTourleitung: Hartmut Stöven/Tel. 494196 und Andreas Sassenhagen/Tel. 2034832 \nMobilnummer: 0162/8581577 (Bitte nur während der Wanderung benutzen) \nAls Wanderverein freuen wir uns über Gäste\, die gemeinsam mit uns die Natur erkunden möchten.\nEgal\, ob Sie bereits Mitglied sind oder nicht\, Sie sind herzlich eingeladen\, an unseren Wanderungen teilzunehmen. \nFür Tages- und Halbtagswanderungen erheben wir einen Kostenbeitrag von\n€ 4\,00 pro Person. Für Kurzwanderungen beträgt der Kostenbeitrag lediglich € 2\,00\npro Person.
URL:https://natur-und-heimat.de/event/rundwanderung-gross-groenau-schattiner-zuschlag/
CATEGORIES:Wanderungen
END:VEVENT
BEGIN:VEVENT
DTSTART;VALUE=DATE:20250711
DTEND;VALUE=DATE:20250712
DTSTAMP:20260421T230948
CREATED:20250602T115426Z
LAST-MODIFIED:20250602T115426Z
UID:4228-1752192000-1752278399@natur-und-heimat.de
SUMMARY:Kurzwanderung | Haffkrug
DESCRIPTION:Streckeninformation: Wanderung zur neuen Ostseebrücke \nStreckenlänge: ca. 5 km \nTreffen: 14.00 Uhr \nTreffpunkt: Bahnhofshalle/Hintereingang\, Zug 14.12 Uhr \nTourleitung: Heidi Schlichting – Tel. 497849 \nMobilnummer: 0151/58894910 (Bitte nur während der Wanderung benutzen.) \nAls Wanderverein freuen wir uns über Gäste\, die gemeinsam mit uns die Natur erkunden möchten.\nEgal\, ob Sie bereits Mitglied sind oder nicht\, Sie sind herzlich eingeladen\, an unseren Wanderungen teilzunehmen. \nFür Tages- und Halbtagswanderungen erheben wir einen Kostenbeitrag von\n€ 4\,00 pro Person. Für Kurzwanderungen beträgt der Kostenbeitrag lediglich € 2\,00\npro Person.
URL:https://natur-und-heimat.de/event/kurzwanderung-haffkrug/
CATEGORIES:Wanderungen
END:VEVENT
BEGIN:VEVENT
DTSTART;VALUE=DATE:20250712
DTEND;VALUE=DATE:20250713
DTSTAMP:20260421T230948
CREATED:20250602T120022Z
LAST-MODIFIED:20250602T120209Z
UID:4230-1752278400-1752364799@natur-und-heimat.de
SUMMARY:Tageswanderung / Ostufer Ratzeburger See
DESCRIPTION:Streckeninformation: Rucksackverpflegung \nStreckenlänge: ca. 15 km \nTreffen: 08.55 Uhr \nTreffpunkt: Bahnhofshalle/Hintereingang\, Zug 09.10 Uhr \nTourleitung: Hilde Veltman – Tel. 604700 \nMobilnummer: 0157/88293969 (Bitte nur während der Wanderung benutzen) \nAls Wanderverein freuen wir uns über Gäste\, die gemeinsam mit uns die Natur erkunden möchten.\nEgal\, ob Sie bereits Mitglied sind oder nicht\, Sie sind herzlich eingeladen\, an unseren Wanderungen teilzunehmen. \nFür Tages- und Halbtagswanderungen erheben wir einen Kostenbeitrag von\n€ 4\,00 pro Person. Für Kurzwanderungen beträgt der Kostenbeitrag lediglich € 2\,00\npro Person.
URL:https://natur-und-heimat.de/event/tageswanderung-ostufer-ratzeburger-see/
CATEGORIES:Wanderungen
END:VEVENT
BEGIN:VEVENT
DTSTART;VALUE=DATE:20250716
DTEND;VALUE=DATE:20250717
DTSTAMP:20260421T230948
CREATED:20250602T120447Z
LAST-MODIFIED:20250602T120447Z
UID:4233-1752624000-1752710399@natur-und-heimat.de
SUMMARY:Halbtagswanderung | Gothmund - Eichholz
DESCRIPTION:Streckeninformationen: – \nStreckenlänge: ca. 10 km \nTreffen: 09.40 Uhr \nTreffpunkt: Bushaltestelle „Normannenweg“ (ZOB 09.12 Uhr)\, Linie 12 \nTourleitung: Silvia Flinker – Tel. 7073576 \nMobilnummer: 0174/6513957 (Bitte nur während der Wanderung benutzen) \nAls Wanderverein freuen wir uns über Gäste\, die gemeinsam mit uns die Natur erkunden möchten.\nEgal\, ob Sie bereits Mitglied sind oder nicht\, Sie sind herzlich eingeladen\, an unseren Wanderungen teilzunehmen. \nFür Tages- und Halbtagswanderungen erheben wir einen Kostenbeitrag von\n€ 4\,00 pro Person. Für Kurzwanderungen beträgt der Kostenbeitrag lediglich € 2\,00\npro Person.
URL:https://natur-und-heimat.de/event/halbtagswanderung-gothmund-eichholz-2/
CATEGORIES:Wanderungen
END:VEVENT
BEGIN:VEVENT
DTSTART;VALUE=DATE:20250717
DTEND;VALUE=DATE:20250718
DTSTAMP:20260421T230948
CREATED:20250602T121138Z
LAST-MODIFIED:20250623T105510Z
UID:4235-1752710400-1752796799@natur-und-heimat.de
SUMMARY:Führung Gleschendorf
DESCRIPTION:Informationen: Auf dem Naturpfad Gleschendorf (ca. 6 km/ca. 3\,5 Std.)\nmit Anja Fingerhut-Fenner und vielen Informationen über diesen Pfad und\ndie Region sowie Besichtigung der Seeadler-Station\, Rucksackverpflegung \nAnmeldung: bis 10.07.2025 (bei der Tourleitung)\, begrenzte Teilnehmerzahl \nTreffen: 08.10 Uhr \nTreffpunkt: Bahnhofshalle/Hintereingang\, Zug 08.28 Uhr \nTourleitung: Karin Luther – Tel. 01706369298 oder E-Mail luther.karin@gmx.de
URL:https://natur-und-heimat.de/event/fuehrung-gleschendorf/
CATEGORIES:Wanderungen
END:VEVENT
BEGIN:VEVENT
DTSTART;VALUE=DATE:20250719
DTEND;VALUE=DATE:20250720
DTSTAMP:20260421T230948
CREATED:20250602T121447Z
LAST-MODIFIED:20250602T121447Z
UID:4237-1752883200-1752969599@natur-und-heimat.de
SUMMARY:Tagesrundwanderung | Wohldorfer Wald
DESCRIPTION:Streckeninformationen: Rund um Ohlstedt\, Rucksackverpflegung \nStreckenlänge: ca. 18 km \nTreffen: 08.55 Uhr \nTreffpunkt: Bahnhofshalle/Hintereingang (Zug 09.08 Uhr) \nTourleitung: Silvia Flinker – Tel. 7073576 \nMobilnummer: 0174/6513957 (Bitte nur während der Wanderung benutzen) \nAls Wanderverein freuen wir uns über Gäste\, die gemeinsam mit uns die Natur erkunden möchten.\nEgal\, ob Sie bereits Mitglied sind oder nicht\, Sie sind herzlich eingeladen\, an unseren Wanderungen teilzunehmen. \nFür Tages- und Halbtagswanderungen erheben wir einen Kostenbeitrag von\n€ 4\,00 pro Person. Für Kurzwanderungen beträgt der Kostenbeitrag lediglich € 2\,00\npro Person.
URL:https://natur-und-heimat.de/event/tagesrundwanderung-wohldorfer-wald/
CATEGORIES:Wanderungen
END:VEVENT
BEGIN:VEVENT
DTSTART;VALUE=DATE:20250723
DTEND;VALUE=DATE:20250724
DTSTAMP:20260421T230948
CREATED:20250602T121934Z
LAST-MODIFIED:20250604T140452Z
UID:4239-1753228800-1753315199@natur-und-heimat.de
SUMMARY:Wanderung |  Ratzeburg - Buchholz
DESCRIPTION:Streckeninformation: Wanderung am Ratzeburger See mit Einkehr zum Himbeeressen in Lödings Bauerncafé \nStreckenlänge: ca. 5 km (Verlängerung der Wanderung nach Groß Sarau/10 km\, Rothenhusen/13 km oder Lübeck/20 km möglich) \nTreffen: 12.55 Uhr \nTreffpunkt: Bahnhofshalle/Hintereingang\, Zug 13.10 Uhr \nTourleitung: Friedel Mark – Tel. 7060274 \nMobilnummer: 0157/38401814 (Bitte nur während der Wanderung benutzen) \nAls Wanderverein freuen wir uns über Gäste\, die gemeinsam mit uns die Natur erkunden möchten.\nEgal\, ob Sie bereits Mitglied sind oder nicht\, Sie sind herzlich eingeladen\, an unseren Wanderungen teilzunehmen. \nFür Tages- und Halbtagswanderungen erheben wir einen Kostenbeitrag von\n€ 4\,00 pro Person. Für Kurzwanderungen beträgt der Kostenbeitrag lediglich € 2\,00\npro Person.
URL:https://natur-und-heimat.de/event/wanderung-ratzeburg-buchholz/
CATEGORIES:Wanderungen
END:VEVENT
BEGIN:VEVENT
DTSTART;VALUE=DATE:20250726
DTEND;VALUE=DATE:20250727
DTSTAMP:20260421T230948
CREATED:20250602T122621Z
LAST-MODIFIED:20250604T140802Z
UID:4241-1753488000-1753574399@natur-und-heimat.de
SUMMARY:Tagesrundwanderung / Stöllnitz
DESCRIPTION:Streckeninformation: Wanderung im Biosphärenreservat Schaalseelandschaft über Bentin\, Döbbersen\, Woez\, Rucksackverpflegung \nStreckenlänge: ca. 18 km \nTreffen: 10.00 Uhr \nTreffpunkt: Dorfplatz Stöllnitz. PKW-Anfahrt; nähere Info zum Ablauf beim Wanderführer \nAnmeldung am 19. und 20.07. bei Andreas Sassenhagen/Tel. 01628581577 od. E-Mail: sassenhagen@web.de\nTourleitung: Andreas Sassenhagen/Tel. 2034832 \nMobilnummer: 0162/8581577 (Bitte nur während der Wanderung benutzen) \nAls Wanderverein freuen wir uns über Gäste\, die gemeinsam mit uns die Natur erkunden möchten.\nEgal\, ob Sie bereits Mitglied sind oder nicht\, Sie sind herzlich eingeladen\, an unseren Wanderungen teilzunehmen. \nFür Tages- und Halbtagswanderungen erheben wir einen Kostenbeitrag von\n€ 4\,00 pro Person. Für Kurzwanderungen beträgt der Kostenbeitrag lediglich € 2\,00\npro Person.
URL:https://natur-und-heimat.de/event/tagesrundwanderung-stoellnitz/
CATEGORIES:Wanderungen
END:VEVENT
BEGIN:VEVENT
DTSTART;VALUE=DATE:20250731
DTEND;VALUE=DATE:20250801
DTSTAMP:20260421T230948
CREATED:20250602T122927Z
LAST-MODIFIED:20250602T122927Z
UID:4244-1753920000-1754006399@natur-und-heimat.de
SUMMARY:Kurzwanderung / Lauerholz - Karlshof
DESCRIPTION:Streckeninformation: Mit der AWO \nTreffen: 13.50 Uhr Uhr \nTreffpunkt: Haltestelle „Am Rittbrook“ (ZOB 13.31 Uhr \nTourleitung: Hilde Veltman – Tel. 604700 \nMobilnummer: 0157/88293969 (Bitte nur während der Wanderung benutzen) \nAls Wanderverein freuen wir uns über Gäste\, die gemeinsam mit uns die Natur erkunden möchten.\nEgal\, ob Sie bereits Mitglied sind oder nicht\, Sie sind herzlich eingeladen\, an unseren Wanderungen teilzunehmen. \nFür Tages- und Halbtagswanderungen erheben wir einen Kostenbeitrag von\n€ 4\,00 pro Person. Für Kurzwanderungen beträgt der Kostenbeitrag lediglich € 2\,00\npro Person.
URL:https://natur-und-heimat.de/event/kurzwanderung-lauerholz-karlshof/
CATEGORIES:Wanderungen
END:VEVENT
END:VCALENDAR