BEGIN:VCALENDAR
VERSION:2.0
PRODID:-//Natur und Heimat e. V. - ECPv6.15.17.1//NONSGML v1.0//EN
CALSCALE:GREGORIAN
METHOD:PUBLISH
X-WR-CALNAME:Natur und Heimat e. V.
X-ORIGINAL-URL:https://natur-und-heimat.de
X-WR-CALDESC:Veranstaltungen für Natur und Heimat e. V.
REFRESH-INTERVAL;VALUE=DURATION:PT1H
X-Robots-Tag:noindex
X-PUBLISHED-TTL:PT1H
BEGIN:VTIMEZONE
TZID:UTC
BEGIN:STANDARD
TZOFFSETFROM:+0000
TZOFFSETTO:+0000
TZNAME:UTC
DTSTART:20240101T000000
END:STANDARD
END:VTIMEZONE
BEGIN:VEVENT
DTSTART;VALUE=DATE:20250602
DTEND;VALUE=DATE:20250603
DTSTAMP:20260422T004856
CREATED:20250320T165254Z
LAST-MODIFIED:20250320T165254Z
UID:4173-1748822400-1748908799@natur-und-heimat.de
SUMMARY:Botanische Wanderung |  Pflanzen im und am Wasser
DESCRIPTION:Streckeninformation: Halbtagsrundwanderung mit botanischen Erklärungen vom Grönauer Baum zum Moltkeplatz \nStreckenlänge: ca. 7 km \nTreffen: 14.28 Uhr \nTreffpunkt: Haltestelle. „Grönauer Baum“ (ZOB 14.01 Uhr)\, Buslinie 9 \nTourleitung: Friedel Mark – Tel. 7060274 und Johanna Wesnigk – Tel. 30430206 \nMobilnummer: 0157/38401814 (Bitte nur während der Wanderung benutzen) \nAls Wanderverein freuen wir uns über Gäste\, die gemeinsam mit uns die Natur erkunden möchten.\nEgal\, ob Sie bereits Mitglied sind oder nicht\, Sie sind herzlich eingeladen\, an unseren Wanderungen teilzunehmen. \nFür Tages- und Halbtagswanderungen erheben wir einen Kostenbeitrag von\n€ 4\,00 pro Person. Für Kurzwanderungen beträgt der Kostenbeitrag lediglich € 2\,00\npro Person.
URL:https://natur-und-heimat.de/event/botanische-wanderung-pflanzen-im-und-am-wasser/
CATEGORIES:Wanderungen
END:VEVENT
BEGIN:VEVENT
DTSTART;VALUE=DATE:20250604
DTEND;VALUE=DATE:20250605
DTSTAMP:20260422T004856
CREATED:20250321T121118Z
LAST-MODIFIED:20250321T121118Z
UID:4175-1748995200-1749081599@natur-und-heimat.de
SUMMARY:Halbtagswanderung |  Lüdersdorf - Warsow - Eichholz
DESCRIPTION:Streckeninformation: – \nStreckenlänge: ca. 10 km \nTreffen: 09.45 Uhr \nTreffpunkt: Bahnhofshalle/Hintereingang\, Zug 10.02 Uhr (Ankunft Bahnhof Lüdersdorf 10.16 Uhr) \nTourleitung: Friedel Mark – Tel. 7060274 \nMobilnummer: 0157/38401814 (Bitte nur während der Wanderung benutzen) \nAls Wanderverein freuen wir uns über Gäste\, die gemeinsam mit uns die Natur erkunden möchten.\nEgal\, ob Sie bereits Mitglied sind oder nicht\, Sie sind herzlich eingeladen\, an unseren Wanderungen teilzunehmen. \nFür Tages- und Halbtagswanderungen erheben wir einen Kostenbeitrag von\n€ 4\,00 pro Person. Für Kurzwanderungen beträgt der Kostenbeitrag lediglich € 2\,00\npro Person.
URL:https://natur-und-heimat.de/event/halbtagswanderung-luedersdorf-warsow-eichholz/
CATEGORIES:Wanderungen
END:VEVENT
BEGIN:VEVENT
DTSTART;VALUE=DATE:20250605
DTEND;VALUE=DATE:20250606
DTSTAMP:20260422T004856
CREATED:20250320T170103Z
LAST-MODIFIED:20250321T121320Z
UID:4177-1749081600-1749167999@natur-und-heimat.de
SUMMARY:Waldführung Lauerholz
DESCRIPTION:Informationen: Führung (ca. 2 Std.) mit Revierförsterin Anna Enderle \n„Die potentiell natürliche Vegetation im Lauerholz. Der Einfluss der Medebek\nauf den Wald\, Baumartenreichtum“ \nAnmeldung: bis 30.05.2025 (Bei der Tourleitung)\, begrenzte Teilnehmerzahl \nTreffen: 14.00Uhr \nTreffpunkt: Rittbrook/Waldparkplatz (ZOB 13.16 Uhr\, Linie 3) \nTourleitung: Karin Luther – Tel. 01706369298
URL:https://natur-und-heimat.de/event/waldfuehrung-lauerholz/
CATEGORIES:Wanderungen
END:VEVENT
BEGIN:VEVENT
DTSTART;VALUE=DATE:20250607
DTEND;VALUE=DATE:20250608
DTSTAMP:20260422T004856
CREATED:20250320T170525Z
LAST-MODIFIED:20250321T144328Z
UID:4179-1749254400-1749340799@natur-und-heimat.de
SUMMARY:Ohlsdorfer Friedhof
DESCRIPTION:Informationen: Tagesausflug\, Führung Ohlsdorfer Friedhof (Kosten: 5 €)\nAnschließend Wanderung um den Bramfelder See\, ca. 8 km\, evtl. Kaffeeeinkehr  \nAnmeldung: bis 23.05.2025 (begrenzte Teilnehmerzahl) bei kristinevoigt@web.de \nTreffen: 08.55 Uhr \nTreffpunkt: Bahnhofshalle/Hintereingang\, Zug 09.09 Uhr \nTourleitung: Kristine Voigt – Tel. 0176/78527563
URL:https://natur-und-heimat.de/event/ohlsdorfer-friedhof/
CATEGORIES:Wanderungen
END:VEVENT
BEGIN:VEVENT
DTSTART;VALUE=DATE:20250611
DTEND;VALUE=DATE:20250612
DTSTAMP:20260422T004856
CREATED:20250320T170722Z
LAST-MODIFIED:20250320T170722Z
UID:4181-1749600000-1749686399@natur-und-heimat.de
SUMMARY:Halbtagswanderung | Ahrensburg - Heidkoppelmoor
DESCRIPTION:Streckeninformation:  – \nStreckenlänge: ca. 11 km \nTreffen: 09.30 Uhr \nTreffpunkt: Bahnhofshalle/Hintereingang \nTourleitung: Gudrun Meßfeldt – Tel. 493844 \nMobilnummer: 0152/02981266 (Bitte nur während der Wanderung benutzen) \nAls Wanderverein freuen wir uns über Gäste\, die gemeinsam mit uns die Natur erkunden möchten.\nEgal\, ob Sie bereits Mitglied sind oder nicht\, Sie sind herzlich eingeladen\, an unseren Wanderungen teilzunehmen. \nFür Tages- und Halbtagswanderungen erheben wir einen Kostenbeitrag von\n€ 4\,00 pro Person. Für Kurzwanderungen beträgt der Kostenbeitrag lediglich € 2\,00\npro Person.
URL:https://natur-und-heimat.de/event/halbtagswanderung-ahrensburg-heidkoppelmoor/
CATEGORIES:Wanderungen
END:VEVENT
BEGIN:VEVENT
DTSTART;VALUE=DATE:20250614
DTEND;VALUE=DATE:20250615
DTSTAMP:20260422T004856
CREATED:20250320T171117Z
LAST-MODIFIED:20250320T171117Z
UID:4183-1749859200-1749945599@natur-und-heimat.de
SUMMARY:Tagesrundwanderung | Fehmarn - Staberhuk
DESCRIPTION:Streckeninformation: Rucksackverpflegung/evtl. Einkehr \nStreckenlänge: ca. 16 km \nTreffen: 10.00 Uhr \nTreffpunkt:  Parkplatz am Strand in Meeschendorf/Fehmarn \nAnmeldung bis 08.06. bei der Tourleitung \nTourleitung: Marion Gillwald – Tel. 44890 \nMobilnummer: 0151/18788711 (Bitte nur während der Wanderung benutzen) \nAls Wanderverein freuen wir uns über Gäste\, die gemeinsam mit uns die Natur erkunden möchten.\nEgal\, ob Sie bereits Mitglied sind oder nicht\, Sie sind herzlich eingeladen\, an unseren Wanderungen teilzunehmen. \nFür Tages- und Halbtagswanderungen erheben wir einen Kostenbeitrag von\n€ 4\,00 pro Person. Für Kurzwanderungen beträgt der Kostenbeitrag lediglich € 2\,00\npro Person.
URL:https://natur-und-heimat.de/event/tagesrundwanderung-fehmarn-staberhuk/
CATEGORIES:Wanderungen
END:VEVENT
BEGIN:VEVENT
DTSTART;VALUE=DATE:20250615
DTEND;VALUE=DATE:20250622
DTSTAMP:20260422T004856
CREATED:20241211T145838Z
LAST-MODIFIED:20250221T124110Z
UID:4037-1749945600-1750550399@natur-und-heimat.de
SUMMARY:Wanderreise Borkum
DESCRIPTION:Reiseinformation: \nPreis: ca. 710\,– €/EZ\, ca. 550\,– €/DZ\, \njeweils incl\, Frühstück\, Fähre und Kurtaxe\,\nZugfahrt mit Deutschland-Ticket. \nVerbindliche schriftliche Anmeldung ab 01.02.2025 bei \nPeter Doden\, Yorckstr. 25a\, 232564 Lübeck\nE-Mail: doden.borkum@gmail.com
URL:https://natur-und-heimat.de/event/wanderreise-borkum/
CATEGORIES:Wanderreise
END:VEVENT
BEGIN:VEVENT
DTSTART;VALUE=DATE:20250618
DTEND;VALUE=DATE:20250619
DTSTAMP:20260422T004856
CREATED:20250320T171429Z
LAST-MODIFIED:20250321T121648Z
UID:4185-1750204800-1750291199@natur-und-heimat.de
SUMMARY:Halbtagswanderung | Reinfeld
DESCRIPTION:Streckeninformation: Nachmittagswanderung\, Seerosen im Herrenteich\,\nevtl. Eisessen am Schluss \nStreckenlänge: ca. 9 km \nTreffen: 13.50 Uhr  \nTreffpunkt: Bahnhofshalle/Hintereingang\, Zug 14.08 Uhr \nTourleitung: Christa Neubeck – Tel. 495741 \nAls Wanderverein freuen wir uns über Gäste\, die gemeinsam mit uns die Natur erkunden möchten.\nEgal\, ob Sie bereits Mitglied sind oder nicht\, Sie sind herzlich eingeladen\, an unseren Wanderungen teilzunehmen. \nFür Tages- und Halbtagswanderungen erheben wir einen Kostenbeitrag von\n€ 4\,00 pro Person. Für Kurzwanderungen beträgt der Kostenbeitrag lediglich € 2\,00\npro Person.
URL:https://natur-und-heimat.de/event/halbtagswanderung-reinfeld-2/
CATEGORIES:Wanderungen
END:VEVENT
BEGIN:VEVENT
DTSTART;VALUE=DATE:20250621
DTEND;VALUE=DATE:20250622
DTSTAMP:20260422T004856
CREATED:20250320T171613Z
LAST-MODIFIED:20250320T171613Z
UID:4187-1750464000-1750550399@natur-und-heimat.de
SUMMARY:Tagesrundwanderung / Die Schwartau - Copy
DESCRIPTION:Streckeninformation: Teil 5: Quellbereich\, Rucksackverpflegung \nStreckenlänge: ca. 17 km \nTreffen: 09.15 Uhr \nTreffpunkt: Bahnhofshalle/Hintereingang\, Zug 09.28 Uhr \nTourleitung: Andreas Sassenhagen – Tel. 2034832 \nMobilnummer: 0162/8581577 (Bitte nur während der Wanderung benutzen) \nAls Wanderverein freuen wir uns über Gäste\, die gemeinsam mit uns die Natur erkunden möchten.\nEgal\, ob Sie bereits Mitglied sind oder nicht\, Sie sind herzlich eingeladen\, an unseren Wanderungen teilzunehmen. \nFür Tages- und Halbtagswanderungen erheben wir einen Kostenbeitrag von\n€ 4\,00 pro Person. Für Kurzwanderungen beträgt der Kostenbeitrag lediglich € 2\,00\npro Person.
URL:https://natur-und-heimat.de/event/tagesrundwanderung-die-schwartau-copy/
CATEGORIES:Wanderungen
END:VEVENT
BEGIN:VEVENT
DTSTART;VALUE=DATE:20250625
DTEND;VALUE=DATE:20250626
DTSTAMP:20260422T004856
CREATED:20250320T171852Z
LAST-MODIFIED:20250321T121840Z
UID:4189-1750809600-1750895999@natur-und-heimat.de
SUMMARY:Halbtagsrundwanderung / Hemmelsdorfer See
DESCRIPTION:Streckeninformation: Rucksackverpflegung\, Badegelegenheit \nStreckenlänge: ca. 11 km \nTreffen: 09.56 Uhr \nTreffpunkt: Haltestelle Sereetz „Am Rugenberg“ (ZOB 09.13 Uhr) Linie 1 \nTourleitung: Andreas Sassenhagen – Tel. 2034832 \nMobilnummer: 0162/8581577 (Bitte nur während der Wanderung benutzen) \nAls Wanderverein freuen wir uns über Gäste\, die gemeinsam mit uns die Natur erkunden möchten.\nEgal\, ob Sie bereits Mitglied sind oder nicht\, Sie sind herzlich eingeladen\, an unseren Wanderungen teilzunehmen. \nFür Tages- und Halbtagswanderungen erheben wir einen Kostenbeitrag von\n€ 4\,00 pro Person. Für Kurzwanderungen beträgt der Kostenbeitrag lediglich € 2\,00\npro Person.
URL:https://natur-und-heimat.de/event/halbtagsrundwanderung-hemmelsdorfer-see/
CATEGORIES:Wanderungen
END:VEVENT
BEGIN:VEVENT
DTSTART;VALUE=DATE:20250626
DTEND;VALUE=DATE:20250627
DTSTAMP:20260422T004856
CREATED:20250320T172157Z
LAST-MODIFIED:20250320T172157Z
UID:4191-1750896000-1750982399@natur-und-heimat.de
SUMMARY:Kurzwanderung / Seedorf Werder (Schaalsee)
DESCRIPTION:Streckeninformation: Mit der AWO \nTreffen: 14.10 Uhr Uhr \nTreffpunkt: Seedorf (Hauptbahnhof Gleis 5 um 13.10 Uhr) \nTourleitung: Hilde Veltman – Tel. 604700 \nMobilnummer: 0157/88293969 (Bitte nur während der Wanderung benutzen) \nAls Wanderverein freuen wir uns über Gäste\, die gemeinsam mit uns die Natur erkunden möchten.\nEgal\, ob Sie bereits Mitglied sind oder nicht\, Sie sind herzlich eingeladen\, an unseren Wanderungen teilzunehmen. \nFür Tages- und Halbtagswanderungen erheben wir einen Kostenbeitrag von\n€ 4\,00 pro Person. Für Kurzwanderungen beträgt der Kostenbeitrag lediglich € 2\,00\npro Person.
URL:https://natur-und-heimat.de/event/kurzwanderung-seedorf-werder-schaalsee/
CATEGORIES:Wanderungen
END:VEVENT
BEGIN:VEVENT
DTSTART;VALUE=DATE:20250628
DTEND;VALUE=DATE:20250629
DTSTAMP:20260422T004856
CREATED:20250320T172424Z
LAST-MODIFIED:20250320T172424Z
UID:4193-1751068800-1751155199@natur-und-heimat.de
SUMMARY:Tageswanderung | An der Tarpenbek (Hamburg)
DESCRIPTION:Streckeninformationen: Rucksackverpflegung \nStreckenlänge: ca. 18 km \nTreffen: 08.50 Uhr \nTreffpunkt: Bahnhofshalle/Hintereingang\, Zug 09.09 Uhr \nTourleitung: Silvia Flinker – Tel. 7073576 \nMobilnummer: 0174/6513957 (Bitte nur während der Wanderung benutzen) \nAls Wanderverein freuen wir uns über Gäste\, die gemeinsam mit uns die Natur erkunden möchten.\nEgal\, ob Sie bereits Mitglied sind oder nicht\, Sie sind herzlich eingeladen\, an unseren Wanderungen teilzunehmen. \nFür Tages- und Halbtagswanderungen erheben wir einen Kostenbeitrag von\n€ 4\,00 pro Person. Für Kurzwanderungen beträgt der Kostenbeitrag lediglich € 2\,00\npro Person.
URL:https://natur-und-heimat.de/event/tageswanderung-an-der-tarpenbek-hamburg/
CATEGORIES:Wanderungen
END:VEVENT
END:VCALENDAR