BEGIN:VCALENDAR
VERSION:2.0
PRODID:-//Natur und Heimat e. V. - ECPv6.15.17.1//NONSGML v1.0//EN
CALSCALE:GREGORIAN
METHOD:PUBLISH
X-ORIGINAL-URL:https://natur-und-heimat.de
X-WR-CALDESC:Veranstaltungen für Natur und Heimat e. V.
REFRESH-INTERVAL;VALUE=DURATION:PT1H
X-Robots-Tag:noindex
X-PUBLISHED-TTL:PT1H
BEGIN:VTIMEZONE
TZID:UTC
BEGIN:STANDARD
TZOFFSETFROM:+0000
TZOFFSETTO:+0000
TZNAME:UTC
DTSTART:20240101T000000
END:STANDARD
END:VTIMEZONE
BEGIN:VEVENT
DTSTART;VALUE=DATE:20250428
DTEND;VALUE=DATE:20250504
DTSTAMP:20260422T023105
CREATED:20241210T150613Z
LAST-MODIFIED:20250221T124110Z
UID:4034-1745798400-1746316799@natur-und-heimat.de
SUMMARY:Wanderreise Kappeln
DESCRIPTION:Reiseinformation: \nÜbernachtung in der Jugendherberge Kappeln\, \nAn- und Abreise mit Deutschlandticket\nPreis: 350\,– € DZ/Person\, 450\,– €/EZ €\, \njeweils incl. Frühstück\, Lunchpaket und Abendessen \nVerbindliche schriftliche Anmeldung bei \nGudrun Meßfeldt\, Ahrensböker Str. 43a\, 23617 Stockelsdorf\nE-Mail: gudrun.messfeldt@gmx.de
URL:https://natur-und-heimat.de/event/wanderreise-kappeln/
CATEGORIES:Wanderreise
END:VEVENT
BEGIN:VEVENT
DTSTART;VALUE=DATE:20250503
DTEND;VALUE=DATE:20250504
DTSTAMP:20260422T023105
CREATED:20250320T155711Z
LAST-MODIFIED:20250320T155711Z
UID:4147-1746230400-1746316799@natur-und-heimat.de
SUMMARY:Tageswanderung | Segeberger Forst - Krattkoppelsee - Wahlstedt
DESCRIPTION:Streckeninformation: Rucksackverpflegung \nStreckenlänge: ca. 17 km \nTreffen: 08.55 Uhr \nTreffpunkt: Bahnhofshalle/Hintereingang\, Bus 7650 um 09.13 Uhr \nTourleitung: Iris Toelle – Tel. 0151/58894910 \nAls Wanderverein freuen wir uns über Gäste\, die gemeinsam mit uns die Natur erkunden möchten.\nEgal\, ob Sie bereits Mitglied sind oder nicht\, Sie sind herzlich eingeladen\, an unseren Wanderungen teilzunehmen. \nFür Tages- und Halbtagswanderungen erheben wir einen Kostenbeitrag von\n€ 4\,00 pro Person. Für Kurzwanderungen beträgt der Kostenbeitrag lediglich € 2\,00\npro Person.
URL:https://natur-und-heimat.de/event/tageswanderung-segeberger-forst-krattkoppelsee-wahlstedt/
CATEGORIES:Wanderungen
END:VEVENT
BEGIN:VEVENT
DTSTART;VALUE=DATE:20250505
DTEND;VALUE=DATE:20250506
DTSTAMP:20260422T023105
CREATED:20250320T160206Z
LAST-MODIFIED:20250320T160206Z
UID:4149-1746403200-1746489599@natur-und-heimat.de
SUMMARY:Botanische Wanderung |  Schellbruch: Kleine und große Pflanzen
DESCRIPTION:Streckeninformation: Halbtagsrundwanderung mit botanischen Erklärungen vom „Schwarzen Weg“ zum Lustholz und durch den Schellbruch \nStreckenlänge: ca. 9 km \nTreffen: 14.31 Uhr \nTreffpunkt: Haltestelle. „An der Hülshorst Mitte“ (ZOB 14.12 Uhr)\, Buslinie 12 \nTourleitung: Friedel Mark – Tel. 7060274 und Johanna Wesnigk – Tel. 30430206 \nMobilnummer: 0157/38401814 (Bitte nur während der Wanderung benutzen) \nAls Wanderverein freuen wir uns über Gäste\, die gemeinsam mit uns die Natur erkunden möchten.\nEgal\, ob Sie bereits Mitglied sind oder nicht\, Sie sind herzlich eingeladen\, an unseren Wanderungen teilzunehmen. \nFür Tages- und Halbtagswanderungen erheben wir einen Kostenbeitrag von\n€ 4\,00 pro Person. Für Kurzwanderungen beträgt der Kostenbeitrag lediglich € 2\,00\npro Person.
URL:https://natur-und-heimat.de/event/botanische-wanderung-schellbruch-kleine-und-grosse-pflanzen/
CATEGORIES:Wanderungen
END:VEVENT
BEGIN:VEVENT
DTSTART;VALUE=DATE:20250507
DTEND;VALUE=DATE:20250508
DTSTAMP:20260422T023105
CREATED:20250320T161430Z
LAST-MODIFIED:20250321T144310Z
UID:4151-1746576000-1746662399@natur-und-heimat.de
SUMMARY:Gerisch Skulpturenpark Neumünster
DESCRIPTION:Informationen: Tagesausflug\, Führung Skulpturenpark und Ausstellung\, Eintritt 5-8 €\nKaffeeeinkehr Café Harry Maasz (Gedeck: 1 Stck. Torte\, Kaffee satt = 9\,50 € od. 1 Stck. Blechkuchen\, Kaffee satt = 8\,50 €; bei Anmeldung angeben!)  \nAnmeldung: bis 22.04.2025 (begrenzte Teilnehmerzahl) bei kristinevoigt@web.de \nTreffen: 09.55 Uhr \nTreffpunkt: Bahnhofshalle/Hintereingang\, Zug 10.09 Uhr \nTourleitung: Kristine Voigt – Tel. 0176/78527563
URL:https://natur-und-heimat.de/event/gerisch-skulpturenpark-neumuenster/
CATEGORIES:Wanderungen
END:VEVENT
BEGIN:VEVENT
DTSTART;VALUE=DATE:20250508
DTEND;VALUE=DATE:20250509
DTSTAMP:20260422T023105
CREATED:20250320T161745Z
LAST-MODIFIED:20250321T120052Z
UID:4153-1746662400-1746748799@natur-und-heimat.de
SUMMARY:Kurzwanderung | Timmendorfer Strand
DESCRIPTION:Streckeninformation: Wanderung zur neuen Ostseebrücke \nStreckenlänge: ca. 6 km \nTreffen: 14.00 Uhr \nTreffpunkt: Bahnhofshalle/Hintereingang\, Zug 14.12 Uhr \nTourleitung: Heidi Schlichting – Tel. 497849 \nMobilnummer: 0151/58894910 (Bitte nur während der Wanderung benutzen.) \nAls Wanderverein freuen wir uns über Gäste\, die gemeinsam mit uns die Natur erkunden möchten.\nEgal\, ob Sie bereits Mitglied sind oder nicht\, Sie sind herzlich eingeladen\, an unseren Wanderungen teilzunehmen. \nFür Tages- und Halbtagswanderungen erheben wir einen Kostenbeitrag von\n€ 4\,00 pro Person. Für Kurzwanderungen beträgt der Kostenbeitrag lediglich € 2\,00\npro Person.
URL:https://natur-und-heimat.de/event/kurzwanderung-timmendorfer-strand/
CATEGORIES:Wanderungen
END:VEVENT
BEGIN:VEVENT
DTSTART;VALUE=DATE:20250510
DTEND;VALUE=DATE:20250511
DTSTAMP:20260422T023105
CREATED:20250320T162126Z
LAST-MODIFIED:20250320T162126Z
UID:4155-1746835200-1746921599@natur-und-heimat.de
SUMMARY:Tageswanderung / Die Schwartau
DESCRIPTION:Streckeninformation: Teil 4: Von Pönitz nach Eutin\, Rucksackverpflegung \nStreckenlänge: ca. 16\,5 km \nTreffen: 09.15 Uhr \nTreffpunkt: Bahnhofshalle/Hintereingang\, Zug 09.28 Uhr \nTourleitung: Andreas Sassenhagen – Tel. 2034832 \nMobilnummer: 0162/8581577 (Bitte nur während der Wanderung benutzen) \nAls Wanderverein freuen wir uns über Gäste\, die gemeinsam mit uns die Natur erkunden möchten.\nEgal\, ob Sie bereits Mitglied sind oder nicht\, Sie sind herzlich eingeladen\, an unseren Wanderungen teilzunehmen. \nFür Tages- und Halbtagswanderungen erheben wir einen Kostenbeitrag von\n€ 4\,00 pro Person. Für Kurzwanderungen beträgt der Kostenbeitrag lediglich € 2\,00\npro Person.
URL:https://natur-und-heimat.de/event/tageswanderung-die-schwartau-2/
CATEGORIES:Wanderungen
END:VEVENT
BEGIN:VEVENT
DTSTART;VALUE=DATE:20250514
DTEND;VALUE=DATE:20250515
DTSTAMP:20260422T023105
CREATED:20250320T162356Z
LAST-MODIFIED:20250320T162356Z
UID:4157-1747180800-1747267199@natur-und-heimat.de
SUMMARY:Halbtagswanderung | Auf der alten Lübecker Stadtgrenze
DESCRIPTION:Streckeninformationen: Teil 3: Vom Krummesser Baum zum Geniner Baum \nStreckenlänge: ca. 11 km \nTreffen: 09.24 Uhr \nTreffpunkt: Bushaltestelle „Krummesser Baum“ (ZOB 08.54 Uhr)\, Linie 16 \nTourleitung: Silvia Flinker – Tel. 7073576 \nMobilnummer: 0174/6513957 (Bitte nur während der Wanderung benutzen) \nAls Wanderverein freuen wir uns über Gäste\, die gemeinsam mit uns die Natur erkunden möchten.\nEgal\, ob Sie bereits Mitglied sind oder nicht\, Sie sind herzlich eingeladen\, an unseren Wanderungen teilzunehmen. \nFür Tages- und Halbtagswanderungen erheben wir einen Kostenbeitrag von\n€ 4\,00 pro Person. Für Kurzwanderungen beträgt der Kostenbeitrag lediglich € 2\,00\npro Person.
URL:https://natur-und-heimat.de/event/halbtagswanderung-auf-der-alten-luebecker-stadtgrenze-2/
CATEGORIES:Wanderungen
END:VEVENT
BEGIN:VEVENT
DTSTART;VALUE=DATE:20250515
DTEND;VALUE=DATE:20250516
DTSTAMP:20260422T023105
CREATED:20250320T162953Z
LAST-MODIFIED:20250321T120331Z
UID:4159-1747267200-1747353599@natur-und-heimat.de
SUMMARY:Naturexkursion Südlicher Priwall
DESCRIPTION:Informationen: Mit Ulrike Westphal\, zertifizierte Natur- und Landschaftsführerin.\nWir durchstreifen eine einmalige Naturoase und einen besonderen Lebensraum.\nWir lernen vermeintliches Unkraut von einer neuen Seite  kennen; ca. 5 km\, ca. 2\,5 Std. \nAnmeldung: bis 06.05.2025 (Bei der Tourleitung)\, begrenzte Teilnehmerzahl \nTreffen: 10.30 Uhr \nTreffpunkt: Priwallseite Autofähre (ZOB 09.27 Uhr\, L 30) \nTourleitung: Karin Luther – Tel. 01706369298
URL:https://natur-und-heimat.de/event/naturexkursion-suedlicher-priwall/
CATEGORIES:Wanderungen
END:VEVENT
BEGIN:VEVENT
DTSTART;VALUE=DATE:20250517
DTEND;VALUE=DATE:20250518
DTSTAMP:20260422T023105
CREATED:20250320T163835Z
LAST-MODIFIED:20250320T163835Z
UID:4161-1747440000-1747526399@natur-und-heimat.de
SUMMARY:Tageswanderung | Ventschow - Bad Kleinen
DESCRIPTION:Streckeninformation: Durch das NSG Döpe\, Rucksackverpflegung \nStreckenlänge: ca. 16 km \nTreffen: 08.50 Uhr \nTreffpunkt: Bahnhofshalle/Hintereingang\, Zug 09.03 Uhr \nTourleitung: Iris Toelle – Tel. 0151/58894910 \nAls Wanderverein freuen wir uns über Gäste\, die gemeinsam mit uns die Natur erkunden möchten.\nEgal\, ob Sie bereits Mitglied sind oder nicht\, Sie sind herzlich eingeladen\, an unseren Wanderungen teilzunehmen. \nFür Tages- und Halbtagswanderungen erheben wir einen Kostenbeitrag von\n€ 4\,00 pro Person. Für Kurzwanderungen beträgt der Kostenbeitrag lediglich € 2\,00\npro Person.
URL:https://natur-und-heimat.de/event/tageswanderung-ventschow-bad-kleinen/
CATEGORIES:Wanderungen
END:VEVENT
BEGIN:VEVENT
DTSTART;VALUE=DATE:20250521
DTEND;VALUE=DATE:20250522
DTSTAMP:20260422T023105
CREATED:20250320T164050Z
LAST-MODIFIED:20250320T164050Z
UID:4163-1747785600-1747871999@natur-und-heimat.de
SUMMARY:Halbtagswanderung | Auf der alten Lübecker Stadtgrenze
DESCRIPTION:Streckeninformationen: Teil 4: Vom Moislinger Baum nach Padelügge/Hohenstiege \nStreckenlänge: ca. 8 km \nTreffen: 09.17 Uhr \nTreffpunkt: Bushaltestelle „Talweg“ (ZOB 09.08 Uhr)\, Linie 16 \nTourleitung: Silvia Flinker – Tel. 7073576 \nMobilnummer: 0174/6513957 (Bitte nur während der Wanderung benutzen) \nAls Wanderverein freuen wir uns über Gäste\, die gemeinsam mit uns die Natur erkunden möchten.\nEgal\, ob Sie bereits Mitglied sind oder nicht\, Sie sind herzlich eingeladen\, an unseren Wanderungen teilzunehmen. \nFür Tages- und Halbtagswanderungen erheben wir einen Kostenbeitrag von\n€ 4\,00 pro Person. Für Kurzwanderungen beträgt der Kostenbeitrag lediglich € 2\,00\npro Person.
URL:https://natur-und-heimat.de/event/halbtagswanderung-auf-der-alten-luebecker-stadtgrenze-3/
CATEGORIES:Wanderungen
END:VEVENT
BEGIN:VEVENT
DTSTART;VALUE=DATE:20250524
DTEND;VALUE=DATE:20250525
DTSTAMP:20260422T023105
CREATED:20250320T164314Z
LAST-MODIFIED:20250518T151502Z
UID:4165-1748044800-1748131199@natur-und-heimat.de
SUMMARY:Tageswanderung | Ratzeburg - Garrensee
DESCRIPTION:Streckeninformation: Von Ratzeburg Domsee zum Mechower und Garrensee\, Rucksackverpflegung/evtl. Einkehr im Waldcafé Mustin \nStreckenlänge: ca. 19 km \nTreffen: 08.55 Uhr \nTreffpunkt: Bahnhofshalle/Hintereingang\, Zug 09.10 Uhr \nTourleitung: Iris Toelle – Tel. 0151/58894910 \nAls Wanderverein freuen wir uns über Gäste\, die gemeinsam mit uns die Natur erkunden möchten.\nEgal\, ob Sie bereits Mitglied sind oder nicht\, Sie sind herzlich eingeladen\, an unseren Wanderungen teilzunehmen. \nFür Tages- und Halbtagswanderungen erheben wir einen Kostenbeitrag von\n€ 4\,00 pro Person. Für Kurzwanderungen beträgt der Kostenbeitrag lediglich € 2\,00\npro Person.
URL:https://natur-und-heimat.de/event/tagesrundwanderung-lueneburg/
CATEGORIES:Wanderungen
END:VEVENT
BEGIN:VEVENT
DTSTART;VALUE=DATE:20250528
DTEND;VALUE=DATE:20250529
DTSTAMP:20260422T023105
CREATED:20250320T164605Z
LAST-MODIFIED:20250320T164605Z
UID:4167-1748390400-1748476799@natur-und-heimat.de
SUMMARY:Tageswanderung | Weißenhäuser Strand - Hohwacht
DESCRIPTION:Streckeninformation: Rucksackverpflegung \nStreckenlänge: ca. 14 km \nTreffen: 09.00 Uhr \nTreffpunkt:  Bahnhofshalle/Vordereingang\, Bus X85 um 09.12 Uhr\, Ankunft HL ca. 18.00 Uhr \nTourleitung: Marion Gillwald – Tel. 44890 \nMobilnummer: 0151/18788711 (Bitte nur während der Wanderung benutzen) \nAls Wanderverein freuen wir uns über Gäste\, die gemeinsam mit uns die Natur erkunden möchten.\nEgal\, ob Sie bereits Mitglied sind oder nicht\, Sie sind herzlich eingeladen\, an unseren Wanderungen teilzunehmen. \nFür Tages- und Halbtagswanderungen erheben wir einen Kostenbeitrag von\n€ 4\,00 pro Person. Für Kurzwanderungen beträgt der Kostenbeitrag lediglich € 2\,00\npro Person.
URL:https://natur-und-heimat.de/event/tageswanderung-weissenhaeuser-strand-hohwacht/
CATEGORIES:Wanderungen
END:VEVENT
BEGIN:VEVENT
DTSTART;VALUE=DATE:20250529
DTEND;VALUE=DATE:20250530
DTSTAMP:20260422T023105
CREATED:20250320T164805Z
LAST-MODIFIED:20250320T164805Z
UID:4169-1748476800-1748563199@natur-und-heimat.de
SUMMARY:Kurzwanderung / Gut Bliestorf
DESCRIPTION:Streckeninformation: Mit der AWO \nTreffen: 13.50 Uhr Uhr \nTreffpunkt: Haltestelle „Neuer Weg“ (ZOB 13.16 Uhr\, Linie 8720) \nTourleitung: Hilde Veltman – Tel. 604700 \nMobilnummer: 0157/88293969 (Bitte nur während der Wanderung benutzen) \nAls Wanderverein freuen wir uns über Gäste\, die gemeinsam mit uns die Natur erkunden möchten.\nEgal\, ob Sie bereits Mitglied sind oder nicht\, Sie sind herzlich eingeladen\, an unseren Wanderungen teilzunehmen. \nFür Tages- und Halbtagswanderungen erheben wir einen Kostenbeitrag von\n€ 4\,00 pro Person. Für Kurzwanderungen beträgt der Kostenbeitrag lediglich € 2\,00\npro Person.
URL:https://natur-und-heimat.de/event/kurzwanderung-gut-bliestorf/
CATEGORIES:Wanderungen
END:VEVENT
BEGIN:VEVENT
DTSTART;VALUE=DATE:20250531
DTEND;VALUE=DATE:20250601
DTSTAMP:20260422T023105
CREATED:20250320T165010Z
LAST-MODIFIED:20250321T120917Z
UID:4171-1748649600-1748735999@natur-und-heimat.de
SUMMARY:Tageswanderung | Pansdorf - Haffkrug
DESCRIPTION:Streckeninformationen: Rucksackverpflegung \nStreckenlänge: ca. 18 km \nTreffen: 09.20 Uhr \nTreffpunkt: Bahnhofshalle/Hintereingang\, Zug 09.28 Uhr \nTourleitung: Ilse Gerlach – Tel. 404820 \nMobilnummer: 0163/4900254 (Bitte nur während der Wanderung benutzen.) \nAls Wanderverein freuen wir uns über Gäste\, die gemeinsam mit uns die Natur erkunden möchten.\nEgal\, ob Sie bereits Mitglied sind oder nicht\, Sie sind herzlich eingeladen\, an unseren Wanderungen teilzunehmen. \nFür Tages- und Halbtagswanderungen erheben wir einen Kostenbeitrag von\n€ 4\,00 pro Person. Für Kurzwanderungen beträgt der Kostenbeitrag lediglich € 2\,00\npro Person.
URL:https://natur-und-heimat.de/event/tageswanderung-pansdorf-haffkrug/
CATEGORIES:Wanderungen
END:VEVENT
END:VCALENDAR