BEGIN:VCALENDAR
VERSION:2.0
PRODID:-//Natur und Heimat e. V. - ECPv6.15.17.1//NONSGML v1.0//EN
CALSCALE:GREGORIAN
METHOD:PUBLISH
X-WR-CALNAME:Natur und Heimat e. V.
X-ORIGINAL-URL:https://natur-und-heimat.de
X-WR-CALDESC:Veranstaltungen für Natur und Heimat e. V.
REFRESH-INTERVAL;VALUE=DURATION:PT1H
X-Robots-Tag:noindex
X-PUBLISHED-TTL:PT1H
BEGIN:VTIMEZONE
TZID:UTC
BEGIN:STANDARD
TZOFFSETFROM:+0000
TZOFFSETTO:+0000
TZNAME:UTC
DTSTART:20240101T000000
END:STANDARD
END:VTIMEZONE
BEGIN:VEVENT
DTSTART;VALUE=DATE:20250402
DTEND;VALUE=DATE:20250403
DTSTAMP:20260422T040656
CREATED:20250320T133129Z
LAST-MODIFIED:20250321T114122Z
UID:4098-1743552000-1743638399@natur-und-heimat.de
SUMMARY:Halbtagswanderung | Klein Grönau - Herrnburg
DESCRIPTION:Streckeninformation:  – \nStreckenlänge: ca. 11 km \nTreffen: 09.35 Uhr \nTreffpunkt: Bushaltestelle „Groß Grönau/Am Torfmoor“ \nTourleitung: Gudrun Meßfeldt – Tel. 493844 \nMobilnummer: 0152/02981266 (Bitte nur während der Wanderung benutzen) \nAls Wanderverein freuen wir uns über Gäste\, die gemeinsam mit uns die Natur erkunden möchten.\nEgal\, ob Sie bereits Mitglied sind oder nicht\, Sie sind herzlich eingeladen\, an unseren Wanderungen teilzunehmen. \nFür Tages- und Halbtagswanderungen erheben wir einen Kostenbeitrag von\n€ 4\,00 pro Person. Für Kurzwanderungen beträgt der Kostenbeitrag lediglich € 2\,00\npro Person.
URL:https://natur-und-heimat.de/event/halbtagswanderung-klein-groenau-herrnburg-2/
CATEGORIES:Wanderungen
END:VEVENT
BEGIN:VEVENT
DTSTART;VALUE=DATE:20250405
DTEND;VALUE=DATE:20250406
DTSTAMP:20260422T040656
CREATED:20250320T133543Z
LAST-MODIFIED:20250321T114726Z
UID:4100-1743811200-1743897599@natur-und-heimat.de
SUMMARY:Tageswanderung | Auf der alten Lübecker Stadtgrenze
DESCRIPTION:Streckeninformationen: Teil 1: Von Schlutup zum Grönauer Baum / Rucksackverpflegung \nStreckenlänge: ca. 15 km \nTreffen: 09.23 Uhr \nTreffpunkt: Bushaltestelle „Schlutup Markt“ (ZOB 08.45 Uhr)\, Linie 11 \nTourleitung: Silvia Flinker – Tel. 7073576 \nMobilnummer: 0174/6513957 (Bitte nur während der Wanderung benutzen) \nAls Wanderverein freuen wir uns über Gäste\, die gemeinsam mit uns die Natur erkunden möchten.\nEgal\, ob Sie bereits Mitglied sind oder nicht\, Sie sind herzlich eingeladen\, an unseren Wanderungen teilzunehmen. \nFür Tages- und Halbtagswanderungen erheben wir einen Kostenbeitrag von\n€ 4\,00 pro Person. Für Kurzwanderungen beträgt der Kostenbeitrag lediglich € 2\,00\npro Person.
URL:https://natur-und-heimat.de/event/tageswanderung-auf-der-alten-luebecker-stadtgrenze/
CATEGORIES:Wanderungen
END:VEVENT
BEGIN:VEVENT
DTSTART;VALUE=DATE:20250407
DTEND;VALUE=DATE:20250408
DTSTAMP:20260422T040656
CREATED:20250320T134211Z
LAST-MODIFIED:20250321T114932Z
UID:4102-1743984000-1744070399@natur-und-heimat.de
SUMMARY:Botanische Wanderung |  Frühlingspflanzen im Lauerholz
DESCRIPTION:Streckeninformation: Vom Rittbrook über Alt Lauerhof zum Volksfestplatz\nHalbtagswanderung mit botanischen Erklärungen \nStreckenlänge: ca. 10 km \nTreffen: 14.18 Uhr \nTreffpunkt: Haltestelle. „Am Rittbrook“ (ZOB 14.01 Uhr)\, Buslinie 10 \nTourleitung: Friedel Mark – Tel. 7060274 und Johanna Wesnigk – Tel. 30430206 \nMobilnummer: 0157/38401814 (Bitte nur während der Wanderung benutzen) \nAls Wanderverein freuen wir uns über Gäste\, die gemeinsam mit uns die Natur erkunden möchten.\nEgal\, ob Sie bereits Mitglied sind oder nicht\, Sie sind herzlich eingeladen\, an unseren Wanderungen teilzunehmen. \nFür Tages- und Halbtagswanderungen erheben wir einen Kostenbeitrag von\n€ 4\,00 pro Person. Für Kurzwanderungen beträgt der Kostenbeitrag lediglich € 2\,00\npro Person.
URL:https://natur-und-heimat.de/event/botanische-wanderung-fruehlingspflanzen-im-lauerholz/
CATEGORIES:Wanderungen
END:VEVENT
BEGIN:VEVENT
DTSTART;VALUE=DATE:20250409
DTEND;VALUE=DATE:20250410
DTSTAMP:20260422T040656
CREATED:20250320T152825Z
LAST-MODIFIED:20250321T144215Z
UID:4128-1744156800-1744243199@natur-und-heimat.de
SUMMARY:Schnupperpilgern | Aufbruch in den Frühling
DESCRIPTION:Streckeninformation: Schnupperpilgern mit Gedanken und Impulsen zur Jahreszeit \nStreckenlänge: ca. 6 km (ca. 3 Std.) \nTreffen: 12.00 Uhr \nTreffpunkt: Eingang St. Jakobi \nTourleitung: Sabine Rietman – Tel. 0173/8599507\nAnmeldung bis 04.04. (begrenzte Teilnehmerzahl) \nAls Wanderverein freuen wir uns über Gäste\, die gemeinsam mit uns die Natur erkunden möchten.\nEgal\, ob Sie bereits Mitglied sind oder nicht\, Sie sind herzlich eingeladen\, an unseren Wanderungen teilzunehmen. \nFür Tages- und Halbtagswanderungen erheben wir einen Kostenbeitrag von\n€ 4\,00 pro Person. Für Kurzwanderungen beträgt der Kostenbeitrag lediglich € 2\,00\npro Person.
URL:https://natur-und-heimat.de/event/schnupperpilgern-aufbruch-in-den-fruehling/
CATEGORIES:Wanderungen
END:VEVENT
BEGIN:VEVENT
DTSTART;VALUE=DATE:20250412
DTEND;VALUE=DATE:20250413
DTSTAMP:20260422T040656
CREATED:20250320T145746Z
LAST-MODIFIED:20250320T151149Z
UID:4113-1744416000-1744502399@natur-und-heimat.de
SUMMARY:Tageswanderung / Die Schwartau
DESCRIPTION:Streckeninformation: Teil 3: Von Pansdorf bis Pönitz\, Rucksackverpflegung \nStreckenlänge: ca. 14 km \nTreffen: 09.15 Uhr \nTreffpunkt: Bahnhofshalle/Hintereingang\, Zug 09.28 Uhr \nTourleitung: Andreas Sassenhagen – Tel. 2034832 \nMobilnummer: 0162/8581577 (Bitte nur während der Wanderung benutzen) \nAls Wanderverein freuen wir uns über Gäste\, die gemeinsam mit uns die Natur erkunden möchten.\nEgal\, ob Sie bereits Mitglied sind oder nicht\, Sie sind herzlich eingeladen\, an unseren Wanderungen teilzunehmen. \nFür Tages- und Halbtagswanderungen erheben wir einen Kostenbeitrag von\n€ 4\,00 pro Person. Für Kurzwanderungen beträgt der Kostenbeitrag lediglich € 2\,00\npro Person.
URL:https://natur-und-heimat.de/event/tageswanderung-die-schwartau/
CATEGORIES:Wanderungen
END:VEVENT
BEGIN:VEVENT
DTSTART;VALUE=DATE:20250416
DTEND;VALUE=DATE:20250417
DTSTAMP:20260422T040656
CREATED:20250320T153132Z
LAST-MODIFIED:20250320T153132Z
UID:4130-1744761600-1744847999@natur-und-heimat.de
SUMMARY:Halbtagswanderung | Auf der alten Lübecker Stadtgrenze
DESCRIPTION:Streckeninformationen: Teil 2: Vom Grönauer Baum zum Krummesser Baum \nStreckenlänge: ca. 8 km \nTreffen: 09.23 Uhr \nTreffpunkt: Bushaltestelle „UKSH West“ (ZOB 09.01 Uhr)\, Linie 9 \nTourleitung: Silvia Flinker – Tel. 7073576 \nMobilnummer: 0174/6513957 (Bitte nur während der Wanderung benutzen) \nAls Wanderverein freuen wir uns über Gäste\, die gemeinsam mit uns die Natur erkunden möchten.\nEgal\, ob Sie bereits Mitglied sind oder nicht\, Sie sind herzlich eingeladen\, an unseren Wanderungen teilzunehmen. \nFür Tages- und Halbtagswanderungen erheben wir einen Kostenbeitrag von\n€ 4\,00 pro Person. Für Kurzwanderungen beträgt der Kostenbeitrag lediglich € 2\,00\npro Person.
URL:https://natur-und-heimat.de/event/halbtagswanderung-auf-der-alten-luebecker-stadtgrenze/
CATEGORIES:Wanderungen
END:VEVENT
BEGIN:VEVENT
DTSTART;VALUE=DATE:20250419
DTEND;VALUE=DATE:20250420
DTSTAMP:20260422T040656
CREATED:20250320T153437Z
LAST-MODIFIED:20250320T153437Z
UID:4132-1745020800-1745107199@natur-und-heimat.de
SUMMARY:Tagesrundwanderung | Ahrensbök: Heidmoor - Kattenberg
DESCRIPTION:Streckeninformation: Rucksackverpflegung \nStreckenlänge: ca. 20 km \nTreffen: 08.45 Uhr \nTreffpunkt:  ZOB/Bussteig 13\, Linie 510 \nTourleitung: Marion Gillwald – Tel. 44890 \nMobilnummer: 0151/18788711 (Bitte nur während der Wanderung benutzen) \nAls Wanderverein freuen wir uns über Gäste\, die gemeinsam mit uns die Natur erkunden möchten.\nEgal\, ob Sie bereits Mitglied sind oder nicht\, Sie sind herzlich eingeladen\, an unseren Wanderungen teilzunehmen. \nFür Tages- und Halbtagswanderungen erheben wir einen Kostenbeitrag von\n€ 4\,00 pro Person. Für Kurzwanderungen beträgt der Kostenbeitrag lediglich € 2\,00\npro Person.
URL:https://natur-und-heimat.de/event/tagesrundwanderung-ahrensboek-heidmoor-kattenberg/
CATEGORIES:Wanderungen
END:VEVENT
BEGIN:VEVENT
DTSTART;VALUE=DATE:20250423
DTEND;VALUE=DATE:20250424
DTSTAMP:20260422T040656
CREATED:20241210T143011Z
LAST-MODIFIED:20250320T154831Z
UID:4018-1745366400-1745452799@natur-und-heimat.de
SUMMARY:Kurzwanderung | Sachsenwald und Schmetterlingspark
DESCRIPTION:Streckeninformationen: Kurzwanderung im Sachsenwald u. Besuch des Schmetterlingsparks\nFriedrichsruh (Eintritt 10-12 €)\, Rucksackverpflegung/evtl. Kaffeeeinkehr im Park\,\nevtl. Gruppenticket \nStreckenlänge: ca. 6 km \nTreffen: 08.55 Uhr \nTreffpunkt: Bahnhofshalle/Hintereingang\, Zug 09.10 Uhr \nTourleitung: Ilse Gerlach – Tel. 404820 \nAls Wanderverein freuen wir uns über Gäste\, die gemeinsam mit uns die Natur erkunden möchten.\nEgal\, ob Sie bereits Mitglied sind oder nicht\, Sie sind herzlich eingeladen\, an unseren Wanderungen teilzunehmen. \nFür Tages- und Halbtagswanderungen erheben wir einen Kostenbeitrag von\n€ 4\,00 pro Person. Für Kurzwanderungen beträgt der Kostenbeitrag lediglich € 2\,00\npro Person.
URL:https://natur-und-heimat.de/event/kurzwanderung-sachsenwald-und-schmetterlingspark/
CATEGORIES:Wanderungen
END:VEVENT
BEGIN:VEVENT
DTSTART;VALUE=DATE:20250424
DTEND;VALUE=DATE:20250425
DTSTAMP:20260422T040656
CREATED:20250320T154127Z
LAST-MODIFIED:20250320T154127Z
UID:4136-1745452800-1745539199@natur-und-heimat.de
SUMMARY:Kolumbarium\, Die Eiche
DESCRIPTION:Informationen: Exklusive Hausführung durch das denkmalgeschützte Gebäude\, ca. 1\,5 Std. \nAnmeldung: bis 14.04.2025 (Bei der Tourleitung)\, begrenzte Teilnehmerzahl \nTreffen: 11.00 Uhr \nTreffpunkt: An der Untertrave 34 (ZOB 10.35 Uhr\, Linie 21 bis Koberg) \nTourleitung: Karin Luther – Tel. 01706369298
URL:https://natur-und-heimat.de/event/kolumbarium-die-eiche/
CATEGORIES:Wanderungen
END:VEVENT
BEGIN:VEVENT
DTSTART;VALUE=DATE:20250424
DTEND;VALUE=DATE:20250425
DTSTAMP:20260422T040656
CREATED:20250320T154506Z
LAST-MODIFIED:20250320T154506Z
UID:4138-1745452800-1745539199@natur-und-heimat.de
SUMMARY:Kurzwanderung / Vorrade - Grönauer Baum
DESCRIPTION:Streckeninformation: Mit der AWO \nTreffen: 14.03 Uhr Uhr \nTreffpunkt: Haltestelle „Vorrade“ (ZOB 13.36 Uhr\, Linie 26) \nTourleitung: Hilde Veltman – Tel. 604700 \nMobilnummer: 0157/88293969 (Bitte nur während der Wanderung benutzen) \nAls Wanderverein freuen wir uns über Gäste\, die gemeinsam mit uns die Natur erkunden möchten.\nEgal\, ob Sie bereits Mitglied sind oder nicht\, Sie sind herzlich eingeladen\, an unseren Wanderungen teilzunehmen. \nFür Tages- und Halbtagswanderungen erheben wir einen Kostenbeitrag von\n€ 4\,00 pro Person. Für Kurzwanderungen beträgt der Kostenbeitrag lediglich € 2\,00\npro Person.
URL:https://natur-und-heimat.de/event/kurzwanderung-vorrade-groenauer-baum/
CATEGORIES:Wanderungen
END:VEVENT
BEGIN:VEVENT
DTSTART;VALUE=DATE:20250426
DTEND;VALUE=DATE:20250427
DTSTAMP:20260422T040656
CREATED:20250320T154802Z
LAST-MODIFIED:20250321T115637Z
UID:4140-1745625600-1745711999@natur-und-heimat.de
SUMMARY:Tageswanderung | Kayhude - Bad Oldesloe
DESCRIPTION:Streckeninformationen: Auf dem Hanseatenweg\, Rucksackverpflegung \nStreckenlänge: ca. 20 km \nTreffen: 09.55 Uhr \nTreffpunkt: Bahnhofshalle/Hintereingang\, Zug 10.09 Uhr \nTourleitung: Ilse Gerlach – Tel. 404820 \nMobilnummer: 0163/4900254 (Bitte nur während der Wanderung benutzen.) \nAls Wanderverein freuen wir uns über Gäste\, die gemeinsam mit uns die Natur erkunden möchten.\nEgal\, ob Sie bereits Mitglied sind oder nicht\, Sie sind herzlich eingeladen\, an unseren Wanderungen teilzunehmen. \nFür Tages- und Halbtagswanderungen erheben wir einen Kostenbeitrag von\n€ 4\,00 pro Person. Für Kurzwanderungen beträgt der Kostenbeitrag lediglich € 2\,00\npro Person.
URL:https://natur-und-heimat.de/event/tageswanderung-kayhude-bad-oldesloe/
CATEGORIES:Wanderungen
END:VEVENT
BEGIN:VEVENT
DTSTART;VALUE=DATE:20250427
DTEND;VALUE=DATE:20250428
DTSTAMP:20260422T040656
CREATED:20250320T155111Z
LAST-MODIFIED:20250320T155111Z
UID:4143-1745712000-1745798399@natur-und-heimat.de
SUMMARY:Halbtagsrundwanderung |  Moislinger Aue - Christinen-Quelle
DESCRIPTION:Streckeninformation: – \nStreckenlänge: ca. 10 km \nTreffen: 10.27 Uhr \nTreffpunkt: Haltestelle. „August-Bebel-Str.“ (ZOB 10.16Uhr)\, Buslinie 5 \nTourleitung: Friedel Mark – Tel. 7060274 \nMobilnummer: 0157/38401814 (Bitte nur während der Wanderung benutzen) \nAls Wanderverein freuen wir uns über Gäste\, die gemeinsam mit uns die Natur erkunden möchten.\nEgal\, ob Sie bereits Mitglied sind oder nicht\, Sie sind herzlich eingeladen\, an unseren Wanderungen teilzunehmen. \nFür Tages- und Halbtagswanderungen erheben wir einen Kostenbeitrag von\n€ 4\,00 pro Person. Für Kurzwanderungen beträgt der Kostenbeitrag lediglich € 2\,00\npro Person.
URL:https://natur-und-heimat.de/event/halbtagsrundwanderung-moislinger-aue-christinen-quelle/
CATEGORIES:Wanderungen
END:VEVENT
BEGIN:VEVENT
DTSTART;VALUE=DATE:20250428
DTEND;VALUE=DATE:20250504
DTSTAMP:20260422T040656
CREATED:20241210T150613Z
LAST-MODIFIED:20250221T124110Z
UID:4034-1745798400-1746316799@natur-und-heimat.de
SUMMARY:Wanderreise Kappeln
DESCRIPTION:Reiseinformation: \nÜbernachtung in der Jugendherberge Kappeln\, \nAn- und Abreise mit Deutschlandticket\nPreis: 350\,– € DZ/Person\, 450\,– €/EZ €\, \njeweils incl. Frühstück\, Lunchpaket und Abendessen \nVerbindliche schriftliche Anmeldung bei \nGudrun Meßfeldt\, Ahrensböker Str. 43a\, 23617 Stockelsdorf\nE-Mail: gudrun.messfeldt@gmx.de
URL:https://natur-und-heimat.de/event/wanderreise-kappeln/
CATEGORIES:Wanderreise
END:VEVENT
BEGIN:VEVENT
DTSTART;VALUE=DATE:20250430
DTEND;VALUE=DATE:20250501
DTSTAMP:20260422T040656
CREATED:20250320T155334Z
LAST-MODIFIED:20250320T155334Z
UID:4145-1745971200-1746057599@natur-und-heimat.de
SUMMARY:Halbtagswanderung | Stülper Huk
DESCRIPTION:Streckenlänge: ca. 9 km \nTreffen: 09.37 Uhr  \nTreffpunkt: Haltestelle „Hirtenbergweg“ (ZOB 08.55 Uhr)\, Linie 31 \nTourleitung: Christa Neubeck – Tel. 495741 \nAls Wanderverein freuen wir uns über Gäste\, die gemeinsam mit uns die Natur erkunden möchten.\nEgal\, ob Sie bereits Mitglied sind oder nicht\, Sie sind herzlich eingeladen\, an unseren Wanderungen teilzunehmen. \nFür Tages- und Halbtagswanderungen erheben wir einen Kostenbeitrag von\n€ 4\,00 pro Person. Für Kurzwanderungen beträgt der Kostenbeitrag lediglich € 2\,00\npro Person.
URL:https://natur-und-heimat.de/event/halbtagswanderung-stuelper-huk/
CATEGORIES:Wanderungen
END:VEVENT
END:VCALENDAR