BEGIN:VCALENDAR
VERSION:2.0
PRODID:-//Natur und Heimat e. V. - ECPv6.15.17.1//NONSGML v1.0//EN
CALSCALE:GREGORIAN
METHOD:PUBLISH
X-ORIGINAL-URL:https://natur-und-heimat.de
X-WR-CALDESC:Veranstaltungen für Natur und Heimat e. V.
REFRESH-INTERVAL;VALUE=DURATION:PT1H
X-Robots-Tag:noindex
X-PUBLISHED-TTL:PT1H
BEGIN:VTIMEZONE
TZID:UTC
BEGIN:STANDARD
TZOFFSETFROM:+0000
TZOFFSETTO:+0000
TZNAME:UTC
DTSTART:20240101T000000
END:STANDARD
END:VTIMEZONE
BEGIN:VEVENT
DTSTART;VALUE=DATE:20250201
DTEND;VALUE=DATE:20250202
DTSTAMP:20260422T072207
CREATED:20241210T124853Z
LAST-MODIFIED:20250221T124111Z
UID:3977-1738368000-1738454399@natur-und-heimat.de
SUMMARY:Tageswanderung | Steiluferweg Grömitz - Neustadt
DESCRIPTION:Streckeninformation: Einkehr „Café&Bistro“ Südstrand\, evtl. Gruppenticket \nStreckenlänge: ca. 16 km \nTreffen: 07.55 Uhr \nTreffpunkt: Bahnhofshalle/Hintereingang\, Zug 08.12 Uhr \nTourleitung: Iris Toelle – Tel. 0151/58894910 \nAls Wanderverein freuen wir uns über Gäste\, die gemeinsam mit uns die Natur erkunden möchten.\nEgal\, ob Sie bereits Mitglied sind oder nicht\, Sie sind herzlich eingeladen\, an unseren Wanderungen teilzunehmen. \nFür Tages- und Halbtagswanderungen erheben wir einen Kostenbeitrag von\n€ 4\,00 pro Person. Für Kurzwanderungen beträgt der Kostenbeitrag lediglich € 2\,00\npro Person.
URL:https://natur-und-heimat.de/event/tageswanderung-steiluferweg-groemitz-neustadt/
CATEGORIES:Wanderungen
END:VEVENT
BEGIN:VEVENT
DTSTART;VALUE=DATE:20250205
DTEND;VALUE=DATE:20250206
DTSTAMP:20260422T072207
CREATED:20241210T125133Z
LAST-MODIFIED:20250221T124111Z
UID:3979-1738713600-1738799999@natur-und-heimat.de
SUMMARY:Halbtagswanderung | Pönitz - Haffkrug
DESCRIPTION:Streckeninformation: Rucksackverpflegung\, evtl. Gruppenticket \nStreckenlänge: ca. 12 km \nTreffen: 09.15 Uhr \nTreffpunkt:  Bahnhofshalle/Hintereingang\, Zug 09.28 Uhr \nTourleitung: Marion Gillwald – Tel. 44890 \nMobilnummer: 0151/18788711 (Bitte nur während der Wanderung benutzen) \nAls Wanderverein freuen wir uns über Gäste\, die gemeinsam mit uns die Natur erkunden möchten.\nEgal\, ob Sie bereits Mitglied sind oder nicht\, Sie sind herzlich eingeladen\, an unseren Wanderungen teilzunehmen. \nFür Tages- und Halbtagswanderungen erheben wir einen Kostenbeitrag von\n€ 4\,00 pro Person. Für Kurzwanderungen beträgt der Kostenbeitrag lediglich € 2\,00\npro Person.
URL:https://natur-und-heimat.de/event/halbtagswanderung-poenitz-haffkrug/
CATEGORIES:Wanderungen
END:VEVENT
BEGIN:VEVENT
DTSTART;VALUE=DATE:20250208
DTEND;VALUE=DATE:20250209
DTSTAMP:20260422T072207
CREATED:20241210T125922Z
LAST-MODIFIED:20250221T124111Z
UID:3981-1738972800-1739059199@natur-und-heimat.de
SUMMARY:Tageswanderung / Büchen - Lauenburg
DESCRIPTION:Streckeninformation: Einkehr Gaststätte „Lanzer See“\, evtl. Gruppenticket \nStreckenlänge: ca. 15 km \nTreffen: 08.50 Uhr \nTreffpunkt: Bahnhofshalle/Hintereingang\, Zug 09.10 Uhr \nTourleitung: Andreas Sassenhagen – Tel. 2034832 \nAnmeldung bis 02.02. über E-Mail sassenhagen@web.de od. WhatsApp 01628581577\nAm 03.02. wird eine Speisekarte verschickt\, von der jeder Teilnehmer bis 05.02. seinen Essenswunsch\ndem Wanderleiter (s.o.) meldet. \nMobilnummer: 0162/8581577 (Bitte nur während der Wanderung benutzen) \nAls Wanderverein freuen wir uns über Gäste\, die gemeinsam mit uns die Natur erkunden möchten.\nEgal\, ob Sie bereits Mitglied sind oder nicht\, Sie sind herzlich eingeladen\, an unseren Wanderungen teilzunehmen. \nFür Tages- und Halbtagswanderungen erheben wir einen Kostenbeitrag von\n€ 4\,00 pro Person. Für Kurzwanderungen beträgt der Kostenbeitrag lediglich € 2\,00\npro Person.
URL:https://natur-und-heimat.de/event/tageswanderung-buechen-lauenburg-2/
CATEGORIES:Wanderungen
END:VEVENT
BEGIN:VEVENT
DTSTART;VALUE=DATE:20250212
DTEND;VALUE=DATE:20250213
DTSTAMP:20260422T072207
CREATED:20241210T130311Z
LAST-MODIFIED:20250221T124111Z
UID:3983-1739318400-1739404799@natur-und-heimat.de
SUMMARY:Mondwanderung | In Gothmund
DESCRIPTION:Streckeninformation:  Mondaufgang 17.10 Uhr \nStreckenlänge: ca. 7 km \nTreffen: 15.45 Uhr \nTreffpunkt: Haltestelle „An der Hülshorst“ (ZOB 15.12 Uhr\, Linie 12) \nTourleitung: Gudrun Meßfeldt – Tel. 493844 \nMobilnummer: 0152/02981266 (Bitte nur während der Wanderung benutzen) \nAls Wanderverein freuen wir uns über Gäste\, die gemeinsam mit uns die Natur erkunden möchten.\nEgal\, ob Sie bereits Mitglied sind oder nicht\, Sie sind herzlich eingeladen\, an unseren Wanderungen teilzunehmen. \nFür Tages- und Halbtagswanderungen erheben wir einen Kostenbeitrag von\n€ 4\,00 pro Person. Für Kurzwanderungen beträgt der Kostenbeitrag lediglich € 2\,00\npro Person.
URL:https://natur-und-heimat.de/event/mondwanderung-in-gothmund/
CATEGORIES:Wanderungen
END:VEVENT
BEGIN:VEVENT
DTSTART;VALUE=DATE:20250213
DTEND;VALUE=DATE:20250214
DTSTAMP:20260422T072207
CREATED:20241210T130612Z
LAST-MODIFIED:20250221T124111Z
UID:3985-1739404800-1739491199@natur-und-heimat.de
SUMMARY:Kurzwanderung | Rund um Stockelsdorf
DESCRIPTION:Streckeninformation: Runde in Stockelsdorf\, Kaffeeeinkehr „Café Ährenback“ \nStreckenlänge: ca. 5 km \nTreffen: 14.00 Uhr \nTreffpunkt: Haltestelle „Hohlweg“ (ZOB 13.43 Uhr\, Linie 9) \nTourleitung: Heidi Schlichting – Tel. 497849 \nMobilnummer: 0151/58894910(Bitte nur während der Wanderung benutzen) \nAls Wanderverein freuen wir uns über Gäste\, die gemeinsam mit uns die Natur erkunden möchten.\nEgal\, ob Sie bereits Mitglied sind oder nicht\, Sie sind herzlich eingeladen\, an unseren Wanderungen teilzunehmen. \nFür Tages- und Halbtagswanderungen erheben wir einen Kostenbeitrag von\n€ 4\,00 pro Person. Für Kurzwanderungen beträgt der Kostenbeitrag lediglich € 2\,00\npro Person.
URL:https://natur-und-heimat.de/event/kurzwanderung-rund-um-stockelsdorf/
CATEGORIES:Wanderungen
END:VEVENT
BEGIN:VEVENT
DTSTART;VALUE=DATE:20250215
DTEND;VALUE=DATE:20250216
DTSTAMP:20260422T072207
CREATED:20241210T130825Z
LAST-MODIFIED:20250221T124111Z
UID:3987-1739577600-1739663999@natur-und-heimat.de
SUMMARY:Tageswanderung | Schwentinemündung Kiel
DESCRIPTION:Streckeninformation: Einkehr „Oppendorfer Mühle“\, evtl. Gruppenticket \nStreckenlänge: ca. 17 km \nTreffen: 08.50 Uhr \nTreffpunkt: Bahnhofshalle/Hintereingang\, Zug 09.06 Uhr \nTourleitung: Iris Toelle – Tel. 0151/58894910 \nAls Wanderverein freuen wir uns über Gäste\, die gemeinsam mit uns die Natur erkunden möchten.\nEgal\, ob Sie bereits Mitglied sind oder nicht\, Sie sind herzlich eingeladen\, an unseren Wanderungen teilzunehmen. \nFür Tages- und Halbtagswanderungen erheben wir einen Kostenbeitrag von\n€ 4\,00 pro Person. Für Kurzwanderungen beträgt der Kostenbeitrag lediglich € 2\,00\npro Person.
URL:https://natur-und-heimat.de/event/tageswanderung-schwentinemuendung-kiel/
CATEGORIES:Wanderungen
END:VEVENT
BEGIN:VEVENT
DTSTART;VALUE=DATE:20250216
DTEND;VALUE=DATE:20250217
DTSTAMP:20260422T072207
CREATED:20241210T131342Z
LAST-MODIFIED:20250221T124110Z
UID:3989-1739664000-1739750399@natur-und-heimat.de
SUMMARY:Halbtagswanderung |  Wesloe - Schlutup
DESCRIPTION:Streckeninformation: Wanderung über Palingen und Selmsdorf\nMittagseinkehr in Selmsdorf möglich; Anmeldung dazu bis 09.02.\nbei Friedel Mark\, Tel. 7060274 \nStreckenlänge: ca. 11 km \nTreffen: 09.44 Uhr \nTreffpunkt: Haltestelle. „An den Schießständen“ (ZOB 09.16 Uhr)\, Buslinie 3 \nTourleitung: Friedel Mark – Tel. 7060274 \nMobilnummer: 0157/38401814 (Bitte nur während der Wanderung benutzen) \nAls Wanderverein freuen wir uns über Gäste\, die gemeinsam mit uns die Natur erkunden möchten.\nEgal\, ob Sie bereits Mitglied sind oder nicht\, Sie sind herzlich eingeladen\, an unseren Wanderungen teilzunehmen. \nFür Tages- und Halbtagswanderungen erheben wir einen Kostenbeitrag von\n€ 4\,00 pro Person. Für Kurzwanderungen beträgt der Kostenbeitrag lediglich € 2\,00\npro Person.
URL:https://natur-und-heimat.de/event/halbtagswanderung-wesloe-schlutup/
CATEGORIES:Wanderungen
END:VEVENT
BEGIN:VEVENT
DTSTART;VALUE=DATE:20250219
DTEND;VALUE=DATE:20250220
DTSTAMP:20260422T072207
CREATED:20241210T131624Z
LAST-MODIFIED:20250221T124110Z
UID:3991-1739923200-1740009599@natur-und-heimat.de
SUMMARY:Halbtagswanderung | Berkenthin - Pogeez
DESCRIPTION:Streckeninformationen: Wanderung durch den Bartelsbusch \nStreckenlänge: ca. 10 km \nTreffen: 09.10 Uhr \nTreffpunkt: ZOB Lübeck\, Buslinie 8720 um 09.16 Uhr \nTourleitung: Silvia Flinker – Tel. 7073576 \nMobilnummer: 0174/6513957 (Bitte nur während der Wanderung benutzen) \nAls Wanderverein freuen wir uns über Gäste\, die gemeinsam mit uns die Natur erkunden möchten.\nEgal\, ob Sie bereits Mitglied sind oder nicht\, Sie sind herzlich eingeladen\, an unseren Wanderungen teilzunehmen. \nFür Tages- und Halbtagswanderungen erheben wir einen Kostenbeitrag von\n€ 4\,00 pro Person. Für Kurzwanderungen beträgt der Kostenbeitrag lediglich € 2\,00\npro Person.
URL:https://natur-und-heimat.de/event/halbtagswanderung-berkenthin-pogeez/
CATEGORIES:Wanderungen
END:VEVENT
BEGIN:VEVENT
DTSTART;VALUE=DATE:20250220
DTEND;VALUE=DATE:20250221
DTSTAMP:20260422T072207
CREATED:20241210T133022Z
LAST-MODIFIED:20250221T124110Z
UID:3997-1740009600-1740095999@natur-und-heimat.de
SUMMARY:Industriemuseum Herrenwyk
DESCRIPTION:Informationen: Führung durch das Museum\, Eintritt 4\,– € \nAnmeldung: bis 06.02.2025 (Bei der Tourleitung)\, begrenzte Teilnehmerzahl \nTreffen: 10.00 Uhr \nTreffpunkt: Industriemuseum\, Kokerstr. 1-3 \nTourleitung: Karin Luther – Tel. 01706369298
URL:https://natur-und-heimat.de/event/industriemuseum-herrenwyk/
CATEGORIES:Wanderungen
END:VEVENT
BEGIN:VEVENT
DTSTART;VALUE=DATE:20250222
DTEND;VALUE=DATE:20250223
DTSTAMP:20260422T072207
CREATED:20241210T133416Z
LAST-MODIFIED:20250221T124110Z
UID:3999-1740182400-1740268799@natur-und-heimat.de
SUMMARY:Tageswanderung | Reinfeld
DESCRIPTION:Streckeninformationen: Einkehr „Forsthaus Bolande“ (Karpfen od. 4 andere Gerichte\nzur Auswahl)\, evtl. Gruppenticket \nStreckenlänge: ca. 17 km \nTreffen: 08.45 Uhr \nTreffpunkt: Bahnhofshalle/Hintereingang\, Zug 09.09 Uhr \nTourleitung: Silvia Flinker – Tel. 7073576\nAnmeldung mit Essenswunsch bis 18.02.2025 \nMobilnummer: 0174/6513957 (Bitte nur während der Wanderung benutzen) \nAls Wanderverein freuen wir uns über Gäste\, die gemeinsam mit uns die Natur erkunden möchten.\nEgal\, ob Sie bereits Mitglied sind oder nicht\, Sie sind herzlich eingeladen\, an unseren Wanderungen teilzunehmen. \nFür Tages- und Halbtagswanderungen erheben wir einen Kostenbeitrag von\n€ 4\,00 pro Person. Für Kurzwanderungen beträgt der Kostenbeitrag lediglich € 2\,00\npro Person.
URL:https://natur-und-heimat.de/event/tageswanderung-reinfeld/
CATEGORIES:Wanderungen
END:VEVENT
BEGIN:VEVENT
DTSTART;VALUE=DATE:20250226
DTEND;VALUE=DATE:20250227
DTSTAMP:20260422T072207
CREATED:20241210T133629Z
LAST-MODIFIED:20250221T124110Z
UID:4001-1740528000-1740614399@natur-und-heimat.de
SUMMARY:Halbtagswanderung | Herbartweg - Wesloer Tannen
DESCRIPTION:Streckenlänge: ca. 9 km \nTreffen: 09.38 Uhr  \nTreffpunkt: Haltestelle „Herbartweg“\, mehrere Linien \nTourleitung: Christa Neubeck – Tel. 495741 \nAls Wanderverein freuen wir uns über Gäste\, die gemeinsam mit uns die Natur erkunden möchten.\nEgal\, ob Sie bereits Mitglied sind oder nicht\, Sie sind herzlich eingeladen\, an unseren Wanderungen teilzunehmen. \nFür Tages- und Halbtagswanderungen erheben wir einen Kostenbeitrag von\n€ 4\,00 pro Person. Für Kurzwanderungen beträgt der Kostenbeitrag lediglich € 2\,00\npro Person.
URL:https://natur-und-heimat.de/event/halbtagswanderung-herbartweg-wesloer-tannen/
CATEGORIES:Wanderungen
END:VEVENT
BEGIN:VEVENT
DTSTART;VALUE=DATE:20250227
DTEND;VALUE=DATE:20250228
DTSTAMP:20260422T072207
CREATED:20241210T133855Z
LAST-MODIFIED:20250221T124110Z
UID:4003-1740614400-1740700799@natur-und-heimat.de
SUMMARY:Kurzwanderung / Klein Grönau - Müggenbusch
DESCRIPTION:Streckeninformation: mit der AWO \nTreffen: 13.54 Uhr Uhr \nTreffpunkt: Haltestelle „Klein Grönau“ (Sandstr. 13.32 Uhr\, L 4) \nTourleitung: Hilde Veltman – Tel. 604700 \nMobilnummer: 0157/88293969 (Bitte nur während der Wanderung benutzen) \nAls Wanderverein freuen wir uns über Gäste\, die gemeinsam mit uns die Natur erkunden möchten.\nEgal\, ob Sie bereits Mitglied sind oder nicht\, Sie sind herzlich eingeladen\, an unseren Wanderungen teilzunehmen. \nFür Tages- und Halbtagswanderungen erheben wir einen Kostenbeitrag von\n€ 4\,00 pro Person. Für Kurzwanderungen beträgt der Kostenbeitrag lediglich € 2\,00\npro Person.
URL:https://natur-und-heimat.de/event/kurzwanderung-klein-groenau-mueggenbusch/
CATEGORIES:Wanderungen
END:VEVENT
END:VCALENDAR