BEGIN:VCALENDAR
VERSION:2.0
PRODID:-//Natur und Heimat e. V. - ECPv6.15.17.1//NONSGML v1.0//EN
CALSCALE:GREGORIAN
METHOD:PUBLISH
X-ORIGINAL-URL:https://natur-und-heimat.de
X-WR-CALDESC:Veranstaltungen für Natur und Heimat e. V.
REFRESH-INTERVAL;VALUE=DURATION:PT1H
X-Robots-Tag:noindex
X-PUBLISHED-TTL:PT1H
BEGIN:VTIMEZONE
TZID:UTC
BEGIN:STANDARD
TZOFFSETFROM:+0000
TZOFFSETTO:+0000
TZNAME:UTC
DTSTART:20240101T000000
END:STANDARD
END:VTIMEZONE
BEGIN:VEVENT
DTSTART;VALUE=DATE:20250101
DTEND;VALUE=DATE:20250102
DTSTAMP:20260424T094315
CREATED:20241209T093949Z
LAST-MODIFIED:20250221T124111Z
UID:3941-1735689600-1735775999@natur-und-heimat.de
SUMMARY:Neujahrswanderung | Rund um Schlutup
DESCRIPTION:Streckeninformation:  „Einkehr“ im AWO-Treff Schlutup\, Lauer Weg 1 \nStreckenlänge: ca. 8 km \nTreffen: 11.46 Uhr \nTreffpunkt: Haltestelle „Schlutup Markt“ (ZOB 11.16 Uhr\, Linie 11) \nTourleitung: Gudrun Meßfeldt – Tel. 493844 \nAnmeldung: bis 28.12.2024 \nMobilnummer: 0152/02981266 (Bitte nur während der Wanderung benutzen) \nAls Wanderverein freuen wir uns über Gäste\, die gemeinsam mit uns die Natur erkunden möchten.\nEgal\, ob Sie bereits Mitglied sind oder nicht\, Sie sind herzlich eingeladen\, an unseren Wanderungen teilzunehmen. \nFür Tages- und Halbtagswanderungen erheben wir einen Kostenbeitrag von\n€ 4\,00 pro Person. Für Kurzwanderungen beträgt der Kostenbeitrag lediglich € 2\,00\npro Person.
URL:https://natur-und-heimat.de/event/neujahrswanderung-rund-um-schlutup/
CATEGORIES:Wanderungen
END:VEVENT
BEGIN:VEVENT
DTSTART;VALUE=DATE:20250104
DTEND;VALUE=DATE:20250105
DTSTAMP:20260424T094315
CREATED:20241209T153031Z
LAST-MODIFIED:20250221T124111Z
UID:3968-1735948800-1736035199@natur-und-heimat.de
SUMMARY:Tagesrundwanderung | Schwerin\, Schlossrunde\, Fauler See
DESCRIPTION:Streckeninformation: Einkehr „Vielfalter Bistro am Zoo““\, evtl. Gruppenticket \nStreckenlänge: ca. 16 km \nTreffen: 08.55 Uhr \nTreffpunkt: Bahnhofshalle/Hintereingang\, Zug 09.10 Uhr \nTourleitung: Iris Toelle – Tel. 0151/58894910 \nAls Wanderverein freuen wir uns über Gäste\, die gemeinsam mit uns die Natur erkunden möchten.\nEgal\, ob Sie bereits Mitglied sind oder nicht\, Sie sind herzlich eingeladen\, an unseren Wanderungen teilzunehmen. \nFür Tages- und Halbtagswanderungen erheben wir einen Kostenbeitrag von\n€ 4\,00 pro Person. Für Kurzwanderungen beträgt der Kostenbeitrag lediglich € 2\,00\npro Person.
URL:https://natur-und-heimat.de/event/tagesrundwanderung-schwerin-schlossrunde-fauler-see/
CATEGORIES:Wanderungen
END:VEVENT
BEGIN:VEVENT
DTSTART;VALUE=DATE:20250108
DTEND;VALUE=DATE:20250109
DTSTAMP:20260424T094315
CREATED:20241209T143557Z
LAST-MODIFIED:20250221T124111Z
UID:3950-1736294400-1736380799@natur-und-heimat.de
SUMMARY:Halbtagswanderung | Grevesmühlen
DESCRIPTION:Streckenlänge: ca. 10 km \nTreffen: 08.50 Uhr \nTreffpunkt: Bahnhofshalle/Hintereingang \nTourleitung: Gudrun Meßfeldt – Tel. 493844 \nMobilnummer: 0152/02981266 (Bitte nur während der Wanderung benutzen) \nAls Wanderverein freuen wir uns über Gäste\, die gemeinsam mit uns die Natur erkunden möchten.\nEgal\, ob Sie bereits Mitglied sind oder nicht\, Sie sind herzlich eingeladen\, an unseren Wanderungen teilzunehmen. \nFür Tages- und Halbtagswanderungen erheben wir einen Kostenbeitrag von\n€ 4\,00 pro Person. Für Kurzwanderungen beträgt der Kostenbeitrag lediglich € 2\,00\npro Person.
URL:https://natur-und-heimat.de/event/halbtagswanderung-grevesmuehlen/
CATEGORIES:Wanderungen
END:VEVENT
BEGIN:VEVENT
DTSTART;VALUE=DATE:20250111
DTEND;VALUE=DATE:20250112
DTSTAMP:20260424T094315
CREATED:20241209T144137Z
LAST-MODIFIED:20250221T124111Z
UID:3952-1736553600-1736639999@natur-und-heimat.de
SUMMARY:Tagesrundwanderung | Brandenbaum - Herrnburger Dünen
DESCRIPTION:Streckeninformationen: Einkehr bei „Ulli“ \nStreckenlänge: ca. 17 km \nTreffen: 09.20 Uhr \nTreffpunkt: Bushaltestelle „Herbartweg“\, Linie 3\, 4\, 11 \nTourleitung: Silvia Flinker – Tel. 7073576 \nMobilnummer: 0174/6513957 (Bitte nur während der Wanderung benutzen) \nAls Wanderverein freuen wir uns über Gäste\, die gemeinsam mit uns die Natur erkunden möchten.\nEgal\, ob Sie bereits Mitglied sind oder nicht\, Sie sind herzlich eingeladen\, an unseren Wanderungen teilzunehmen. \nFür Tages- und Halbtagswanderungen erheben wir einen Kostenbeitrag von\n€ 4\,00 pro Person. Für Kurzwanderungen beträgt der Kostenbeitrag lediglich € 2\,00\npro Person.
URL:https://natur-und-heimat.de/event/tagesrundwanderung-brandenbaum-herrnburger-duenen/
CATEGORIES:Wanderungen
END:VEVENT
BEGIN:VEVENT
DTSTART;VALUE=DATE:20250115
DTEND;VALUE=DATE:20250116
DTSTAMP:20260424T094315
CREATED:20241209T150229Z
LAST-MODIFIED:20250221T124111Z
UID:3954-1736899200-1736985599@natur-und-heimat.de
SUMMARY:2. Jagdessen | Müggenbusch
DESCRIPTION:11.30 Uhr Vortrag über „Wald und Jagd“\,\nanschließend Blasen von Jagdsignalen einer Jagdhornbläsergruppe\,\ndanach Essen dreierlei Braten (Kosten: 22\,– €)\nSchriftliche Anmeldung bis 07.01.2025 \nBus ab ZOB: 10.31 Uhr\, Linie 9\, Hst. „Grillenweg“ \nLeitung: Hartmut Stöven\, Hermannstr. 4\, 23617 Stockelsdorf\, E-Mail: htst@gmx.de \nAls Wanderverein freuen wir uns über Gäste\, die gemeinsam mit uns die Natur erkunden möchten.\nEgal\, ob Sie bereits Mitglied sind oder nicht\, Sie sind herzlich eingeladen\, an unseren Wanderungen teilzunehmen. \nFür Tages- und Halbtagswanderungen erheben wir einen Kostenbeitrag von\n€ 4\,00 pro Person. Für Kurzwanderungen beträgt der Kostenbeitrag lediglich € 2\,00\npro Person.
URL:https://natur-und-heimat.de/event/2-jagdessen-mueggenbusch/
CATEGORIES:Wanderungen
END:VEVENT
BEGIN:VEVENT
DTSTART;VALUE=DATE:20250118
DTEND;VALUE=DATE:20250119
DTSTAMP:20260424T094315
CREATED:20241209T150851Z
LAST-MODIFIED:20250221T124111Z
UID:3956-1737158400-1737244799@natur-und-heimat.de
SUMMARY:Tageswanderung / Ihlsee - Segeberger See
DESCRIPTION:Streckeninformation: Einkehr\, evtl. Gruppenticket \nStreckenlänge: 14 km \nTreffen: 09.00 Uhr Uhr \nTreffpunkt: ZOB\, Steig 15\, Bus 7650 um 09.13 Uhr \nTourleitung: Hilde Veltman – Tel. 604700 \nMobilnummer: 0157/88293969 (Bitte nur während der Wanderung benutzen) \nAls Wanderverein freuen wir uns über Gäste\, die gemeinsam mit uns die Natur erkunden möchten.\nEgal\, ob Sie bereits Mitglied sind oder nicht\, Sie sind herzlich eingeladen\, an unseren Wanderungen teilzunehmen. \nFür Tages- und Halbtagswanderungen erheben wir einen Kostenbeitrag von\n€ 4\,00 pro Person. Für Kurzwanderungen beträgt der Kostenbeitrag lediglich € 2\,00\npro Person.
URL:https://natur-und-heimat.de/event/tageswanderung-ihlsee-segeberger-see-2/
CATEGORIES:Wanderungen
END:VEVENT
BEGIN:VEVENT
DTSTART;VALUE=DATE:20250122
DTEND;VALUE=DATE:20250123
DTSTAMP:20260424T094315
CREATED:20241209T151327Z
LAST-MODIFIED:20250221T124111Z
UID:3958-1737504000-1737590399@natur-und-heimat.de
SUMMARY:Halbtagswanderung | Roggenhorst - Hauptbahnhof
DESCRIPTION:Streckenlänge: ca. 9 km \nTreffen: 09.51 Uhr  \nTreffpunkt: Gewerbegebiet „Roggenhorst“ (ZOB 09.23 Uhr\, Linie 12) \nTourleitung: Christa Neubeck – Tel. 495741 \nAls Wanderverein freuen wir uns über Gäste\, die gemeinsam mit uns die Natur erkunden möchten.\nEgal\, ob Sie bereits Mitglied sind oder nicht\, Sie sind herzlich eingeladen\, an unseren Wanderungen teilzunehmen. \nFür Tages- und Halbtagswanderungen erheben wir einen Kostenbeitrag von\n€ 4\,00 pro Person. Für Kurzwanderungen beträgt der Kostenbeitrag lediglich € 2\,00\npro Person.
URL:https://natur-und-heimat.de/event/halbtagswanderung-roggenhorst-hauptbahnhof/
CATEGORIES:Wanderungen
END:VEVENT
BEGIN:VEVENT
DTSTART;VALUE=DATE:20250123
DTEND;VALUE=DATE:20250124
DTSTAMP:20260424T094315
CREATED:20241209T151640Z
LAST-MODIFIED:20250221T124111Z
UID:3960-1737590400-1737676799@natur-und-heimat.de
SUMMARY:Kurzwanderung | Buntekuh - Krempelsdorf
DESCRIPTION:Streckeninformation: Rundwanderung\, Kaffeeeinkehr „Café Junge“ \nStreckenlänge: ca. 5 km \nTreffen: 14.00 Uhr \nTreffpunkt: Haltestelle „Fregattenstr.“ (ZOB 13.44 Uhr\, L 11) \nTourleitung: Heidi Schlichting – Tel. 497849 \nMobilnummer: 0151/58894910 (Bitte nur während der Wanderung benutzen) \nAls Wanderverein freuen wir uns über Gäste\, die gemeinsam mit uns die Natur erkunden möchten.\nEgal\, ob Sie bereits Mitglied sind oder nicht\, Sie sind herzlich eingeladen\, an unseren Wanderungen teilzunehmen. \nFür Tages- und Halbtagswanderungen erheben wir einen Kostenbeitrag von\n€ 4\,00 pro Person. Für Kurzwanderungen beträgt der Kostenbeitrag lediglich € 2\,00\npro Person.
URL:https://natur-und-heimat.de/event/kurzwanderung-buntekuh-krempelsdorf/
CATEGORIES:Wanderungen
END:VEVENT
BEGIN:VEVENT
DTSTART;VALUE=DATE:20250125
DTEND;VALUE=DATE:20250126
DTSTAMP:20260424T094315
CREATED:20241209T152253Z
LAST-MODIFIED:20250221T124111Z
UID:3964-1737763200-1737849599@natur-und-heimat.de
SUMMARY:Tagesrundwanderung | Scharbeutz
DESCRIPTION:Streckeninformationen: Rucksackverpflegung/evtl. Einkehr\, evtl. Gruppenticket \nStreckenlänge: ca. 16 km \nTreffen: 08.55 Uhr \nTreffpunkt: Bahnhofshalle/Hintereingang\, Zug 09.10 Uhr \nTourleitung: Ilse Gerlach – Tel. 404820 \nAls Wanderverein freuen wir uns über Gäste\, die gemeinsam mit uns die Natur erkunden möchten.\nEgal\, ob Sie bereits Mitglied sind oder nicht\, Sie sind herzlich eingeladen\, an unseren Wanderungen teilzunehmen. \nFür Tages- und Halbtagswanderungen erheben wir einen Kostenbeitrag von\n€ 4\,00 pro Person. Für Kurzwanderungen beträgt der Kostenbeitrag lediglich € 2\,00\npro Person.
URL:https://natur-und-heimat.de/event/tagesrundwanderung-scharbeutz/
CATEGORIES:Wanderungen
END:VEVENT
BEGIN:VEVENT
DTSTART;VALUE=DATE:20250129
DTEND;VALUE=DATE:20250130
DTSTAMP:20260424T094315
CREATED:20241209T152508Z
LAST-MODIFIED:20250221T124111Z
UID:3966-1738108800-1738195199@natur-und-heimat.de
SUMMARY:Halbtagswanderung |  Falkenhusener Forst
DESCRIPTION:Streckenlänge: ca. 10 km \nTreffen: 09.36 Uhr \nTreffpunkt: Haltestelle. „St. Hubertus“ (ZOB 09.16 Uhr)\, Buslinie 6   \nTourleitung: Friedel Mark – Tel. 7060274 \nMobilnummer: 0157/38401814 (Bitte nur während der Wanderung benutzen) \nAls Wanderverein freuen wir uns über Gäste\, die gemeinsam mit uns die Natur erkunden möchten.\nEgal\, ob Sie bereits Mitglied sind oder nicht\, Sie sind herzlich eingeladen\, an unseren Wanderungen teilzunehmen. \nFür Tages- und Halbtagswanderungen erheben wir einen Kostenbeitrag von\n€ 4\,00 pro Person. Für Kurzwanderungen beträgt der Kostenbeitrag lediglich € 2\,00\npro Person.
URL:https://natur-und-heimat.de/event/halbtagswanderung-durch-den-falkenhusener-forst/
CATEGORIES:Wanderungen
END:VEVENT
END:VCALENDAR