BEGIN:VCALENDAR
VERSION:2.0
PRODID:-//Natur und Heimat e. V. - ECPv6.15.17.1//NONSGML v1.0//EN
CALSCALE:GREGORIAN
METHOD:PUBLISH
X-ORIGINAL-URL:https://natur-und-heimat.de
X-WR-CALDESC:Veranstaltungen für Natur und Heimat e. V.
REFRESH-INTERVAL;VALUE=DURATION:PT1H
X-Robots-Tag:noindex
X-PUBLISHED-TTL:PT1H
BEGIN:VTIMEZONE
TZID:UTC
BEGIN:STANDARD
TZOFFSETFROM:+0000
TZOFFSETTO:+0000
TZNAME:UTC
DTSTART:20230101T000000
END:STANDARD
END:VTIMEZONE
BEGIN:VEVENT
DTSTART;VALUE=DATE:20241102
DTEND;VALUE=DATE:20241103
DTSTAMP:20260424T123400
CREATED:20240906T121235Z
LAST-MODIFIED:20250221T124112Z
UID:3851-1730505600-1730591999@natur-und-heimat.de
SUMMARY:Tagesrundwanderung | Harburger Berge - Hasselbrack
DESCRIPTION:Streckeninformation: Wanderung zum höchsten Punkt in Hamburg\, Trittsicherheit erforderlich\, evtl. Gruppenticket \nStreckenlänge: ca. 16 km \nTreffen: 08.55 Uhr \nTreffpunkt: Bahnhofshalle/Hintereingang\, Zug 09.09 Uhr \nTourleitung: Iris Toelle – Tel. 0151/58894910 \nMobilnummer: 0151/58894910 (Bitte nur während der Wanderung benutzen) \nAls Wanderverein freuen wir uns über Gäste\, die gemeinsam mit uns die Natur erkunden möchten.\nEgal\, ob Sie bereits Mitglied sind oder nicht\, Sie sind herzlich eingeladen\, an unseren Wanderungen teilzunehmen. \nFür Tages- und Halbtagswanderungen erheben wir einen Kostenbeitrag von\n€ 4\,00 pro Person. Für Kurzwanderungen beträgt der Kostenbeitrag lediglich € 2\,00\npro Person.
URL:https://natur-und-heimat.de/event/tagesrundwanderung-harburger-berge-hasselbrack/
CATEGORIES:Wanderungen
END:VEVENT
BEGIN:VEVENT
DTSTART;VALUE=DATE:20241106
DTEND;VALUE=DATE:20241107
DTSTAMP:20260424T123400
CREATED:20240906T121441Z
LAST-MODIFIED:20250221T124112Z
UID:3853-1730851200-1730937599@natur-und-heimat.de
SUMMARY:Halbtagswanderung | Gothmund - Eichholz
DESCRIPTION:Streckenlänge: ca. 10 km \nTreffen: 09.40 Uhr \nTreffpunkt: Haltestelle „Normannenweg“ (ZOB 09.09 Uhr)\, Buslinie 12 \nTourleitung: Silvia Flinker – Tel. 7073576 \nMobilnummer: 0174/6513957 (Bitte nur während der Wanderung benutzen) \nAls Wanderverein freuen wir uns über Gäste\, die gemeinsam mit uns die Natur erkunden möchten.\nEgal\, ob Sie bereits Mitglied sind oder nicht\, Sie sind herzlich eingeladen\, an unseren Wanderungen teilzunehmen. \nFür Tages- und Halbtagswanderungen erheben wir einen Kostenbeitrag von\n€ 4\,00 pro Person. Für Kurzwanderungen beträgt der Kostenbeitrag lediglich € 2\,00\npro Person.
URL:https://natur-und-heimat.de/event/halbtagswanderung-gothmund-eichholz/
CATEGORIES:Wanderungen
END:VEVENT
BEGIN:VEVENT
DTSTART;VALUE=DATE:20241109
DTEND;VALUE=DATE:20241110
DTSTAMP:20260424T123400
CREATED:20240906T121729Z
LAST-MODIFIED:20250221T124112Z
UID:3855-1731110400-1731196799@natur-und-heimat.de
SUMMARY:Tageswanderung | Sachsenwald
DESCRIPTION:Streckeninformationen: Rucksackverpflegung\, evtl. Gruppenticket \nStreckenlänge: ca. 18 km \nTreffen: 08.50 Uhr \nTreffpunkt: Bahnhofshalle/Hintereingang\, Zug 09.10 Uhr \nTourleitung: Ilse Gerlach – Tel. 404820 \nAls Wanderverein freuen wir uns über Gäste\, die gemeinsam mit uns die Natur erkunden möchten.\nEgal\, ob Sie bereits Mitglied sind oder nicht\, Sie sind herzlich eingeladen\, an unseren Wanderungen teilzunehmen. \nFür Tages- und Halbtagswanderungen erheben wir einen Kostenbeitrag von\n€ 4\,00 pro Person. Für Kurzwanderungen beträgt der Kostenbeitrag lediglich € 2\,00\npro Person.
URL:https://natur-und-heimat.de/event/tageswanderung-sachsenwald/
CATEGORIES:Wanderungen
END:VEVENT
BEGIN:VEVENT
DTSTART;VALUE=DATE:20241113
DTEND;VALUE=DATE:20241114
DTSTAMP:20260424T123400
CREATED:20240906T122056Z
LAST-MODIFIED:20250221T124112Z
UID:3857-1731456000-1731542399@natur-und-heimat.de
SUMMARY:Halbtagsrundwanderung | Runde von Badendorf
DESCRIPTION:Streckeninformation: Rucksackverpflegung\, (Möglichkeit\, Marzipan ab Fabrik zu kaufen) \nStreckenlänge: ca. 10 km \nTreffen: 09.41 Uhr \nTreffpunkt:  Haltestelle „Taschenmacherstr.“ (ZOB 09.23 Uhr)\, L 12 \nTourleitung: Marion Gillwald – Tel. 44890 \nMobilnummer: 0151/18788711 (Bitte nur während der Wanderung benutzen) \nAls Wanderverein freuen wir uns über Gäste\, die gemeinsam mit uns die Natur erkunden möchten.\nEgal\, ob Sie bereits Mitglied sind oder nicht\, Sie sind herzlich eingeladen\, an unseren Wanderungen teilzunehmen. \nFür Tages- und Halbtagswanderungen erheben wir einen Kostenbeitrag von\n€ 4\,00 pro Person. Für Kurzwanderungen beträgt der Kostenbeitrag lediglich € 2\,00\npro Person.
URL:https://natur-und-heimat.de/event/halbtagsrundwanderung-runde-von-badendorf/
CATEGORIES:Wanderungen
END:VEVENT
BEGIN:VEVENT
DTSTART;VALUE=DATE:20241114
DTEND;VALUE=DATE:20241115
DTSTAMP:20260424T123400
CREATED:20240906T122338Z
LAST-MODIFIED:20250221T124112Z
UID:3859-1731542400-1731628799@natur-und-heimat.de
SUMMARY:Kurzwanderung | Lauerholz - Marli-Hofcafé
DESCRIPTION:Streckenlänge: ca. 5 km \nTreffen: 13.17 Uhr \nTreffpunkt: Haltestelle. „Ehrenfriedhof“ (ZOB 13.02 Uhr)\, Buslinie 32   \nTourleitung: Friedel Mark – Tel. 7060274 \nMobilnummer: 0157/38401814 (Bitte nur während der Wanderung benutzen) \nAls Wanderverein freuen wir uns über Gäste\, die gemeinsam mit uns die Natur erkunden möchten.\nEgal\, ob Sie bereits Mitglied sind oder nicht\, Sie sind herzlich eingeladen\, an unseren Wanderungen teilzunehmen. \nFür Tages- und Halbtagswanderungen erheben wir einen Kostenbeitrag von\n€ 4\,00 pro Person. Für Kurzwanderungen beträgt der Kostenbeitrag lediglich € 2\,00\npro Person.
URL:https://natur-und-heimat.de/event/kurzwanderung-lauerholz-marli-hofcafe/
CATEGORIES:Wanderungen
END:VEVENT
BEGIN:VEVENT
DTSTART;VALUE=DATE:20241116
DTEND;VALUE=DATE:20241117
DTSTAMP:20260424T123400
CREATED:20240908T154650Z
LAST-MODIFIED:20250221T124112Z
UID:3828-1731715200-1731801599@natur-und-heimat.de
SUMMARY:1. Winterhalbjahresvortrag
DESCRIPTION:Vortrag von Willi Stein „Armenhäuser Lübecks im Mittelalter\, Hl.-Geist-Hospital\, Stifts-Armenhäuser…“ um ca. 16.00 Uhr \nTreffen: 15.30 Uhr Kaffeetrinken (Gedeck 5\,–) Uhr \nTreffpunkt: Seniorentreff Koberg \nTeilnahme von Gästen: 4\,– € \nAnmeldung bis 09.11. bei: Karin Luther – Tel. 01706369298 \nAls Wanderverein freuen wir uns über Gäste\, die gemeinsam mit uns die Natur erkunden möchten.\nEgal\, ob Sie bereits Mitglied sind oder nicht\, Sie sind herzlich eingeladen\, an unseren Wanderungen teilzunehmen. \nFür Tages- und Halbtagswanderungen erheben wir einen Kostenbeitrag von\n€ 4\,00 pro Person. Für Kurzwanderungen beträgt der Kostenbeitrag lediglich € 2\,00\npro Person.
URL:https://natur-und-heimat.de/event/1-winterhalbjahresvortrag/
CATEGORIES:Wanderungen
END:VEVENT
BEGIN:VEVENT
DTSTART;VALUE=DATE:20241117
DTEND;VALUE=DATE:20241118
DTSTAMP:20260424T123400
CREATED:20240906T122842Z
LAST-MODIFIED:20250221T124112Z
UID:3861-1731801600-1731887999@natur-und-heimat.de
SUMMARY:Halbtagswanderung | Waldhusen - Tremser Teich
DESCRIPTION:Streckenlänge: ca. 10 km \nTreffen: 09.50 Uhr \nTreffpunkt: Bahnhofshalle/Hintereingang\, Zug 10.05 Uhr oder 10.15 Uhr Bahnhof Lübeck-Kücknitz \nTourleitung: Gudrun Meßfeldt – Tel. 493844 \nMobilnummer: 0152/02981266 (Bitte nur während der Wanderung benutzen) \nAls Wanderverein freuen wir uns über Gäste\, die gemeinsam mit uns die Natur erkunden möchten.\nEgal\, ob Sie bereits Mitglied sind oder nicht\, Sie sind herzlich eingeladen\, an unseren Wanderungen teilzunehmen. \nFür Tages- und Halbtagswanderungen erheben wir einen Kostenbeitrag von\n€ 4\,00 pro Person. Für Kurzwanderungen beträgt der Kostenbeitrag lediglich € 2\,00\npro Person.
URL:https://natur-und-heimat.de/event/halbtagswanderung-waldhusen-tremser-teich/
CATEGORIES:Wanderungen
END:VEVENT
BEGIN:VEVENT
DTSTART;VALUE=DATE:20241120
DTEND;VALUE=DATE:20241121
DTSTAMP:20260424T123400
CREATED:20240906T123037Z
LAST-MODIFIED:20250221T124112Z
UID:3863-1732060800-1732147199@natur-und-heimat.de
SUMMARY:Halbtagswanderung | Kücknitz - Wesloe
DESCRIPTION:Streckenlänge: ca. 10 km \nTreffen: 08.50 Uhr (Sandstr. 09.01 UIhr) \nTreffpunkt: Bahnhofshalle/Hintereingang\, Zug 09.03 Uhr \nTourleitung: Christa Neubeck – Tel. 495741 \nAls Wanderverein freuen wir uns über Gäste\, die gemeinsam mit uns die Natur erkunden möchten.\nEgal\, ob Sie bereits Mitglied sind oder nicht\, Sie sind herzlich eingeladen\, an unseren Wanderungen teilzunehmen. \nFür Tages- und Halbtagswanderungen erheben wir einen Kostenbeitrag von\n€ 4\,00 pro Person. Für Kurzwanderungen beträgt der Kostenbeitrag lediglich € 2\,00\npro Person.
URL:https://natur-und-heimat.de/event/halbtagswanderung-kuecknitz-wesloe/
CATEGORIES:Wanderungen
END:VEVENT
BEGIN:VEVENT
DTSTART;VALUE=DATE:20241123
DTEND;VALUE=DATE:20241124
DTSTAMP:20260424T123400
CREATED:20240906T123330Z
LAST-MODIFIED:20250221T124111Z
UID:3865-1732320000-1732406399@natur-und-heimat.de
SUMMARY:Tageswanderung / Mölln - Ratzeburg
DESCRIPTION:Streckeninformation: Wanderung über St. Georgsberg\, Rucksackverpflegung\, Einkehr Fredeburg\, evtl. Gruppenticket \nStreckenlänge: ca. 18\,5 km \nTreffen: 08.50 Uhr \nTreffpunkt: Bahnhofshalle/Hintereingang\, Zug 09.10 Uhr \nTourleitung: Andreas Sassenhagen – Tel. 2034832 \nMobilnummer: 0162/8581577 (Bitte nur während der Wanderung benutzen) \nAls Wanderverein freuen wir uns über Gäste\, die gemeinsam mit uns die Natur erkunden möchten.\nEgal\, ob Sie bereits Mitglied sind oder nicht\, Sie sind herzlich eingeladen\, an unseren Wanderungen teilzunehmen. \nFür Tages- und Halbtagswanderungen erheben wir einen Kostenbeitrag von\n€ 4\,00 pro Person. Für Kurzwanderungen beträgt der Kostenbeitrag lediglich € 2\,00\npro Person.
URL:https://natur-und-heimat.de/event/tageswanderung-moelln-ratzeburg/
CATEGORIES:Wanderungen
END:VEVENT
BEGIN:VEVENT
DTSTART;VALUE=DATE:20241127
DTEND;VALUE=DATE:20241128
DTSTAMP:20260424T123400
CREATED:20240906T123610Z
LAST-MODIFIED:20250221T124111Z
UID:3868-1732665600-1732751999@natur-und-heimat.de
SUMMARY:Halbtagswanderung | Ehrenfriedhof - Eichholz
DESCRIPTION:Streckenlänge: ca. 9 km \nTreffen: 09.30 Uhr  \nTreffpunkt: Haltestelle „Ehrenfriedhof“ (ZOB 09.12 Uhr\, Linie 12) \nTourleitung: Christa Neubeck – Tel. 495741 \nAls Wanderverein freuen wir uns über Gäste\, die gemeinsam mit uns die Natur erkunden möchten.\nEgal\, ob Sie bereits Mitglied sind oder nicht\, Sie sind herzlich eingeladen\, an unseren Wanderungen teilzunehmen. \nFür Tages- und Halbtagswanderungen erheben wir einen Kostenbeitrag von\n€ 4\,00 pro Person. Für Kurzwanderungen beträgt der Kostenbeitrag lediglich € 2\,00\npro Person.
URL:https://natur-und-heimat.de/event/halbtagswanderung-ehrenfriedhof-eichholz/
CATEGORIES:Wanderungen
END:VEVENT
BEGIN:VEVENT
DTSTART;VALUE=DATE:20241128
DTEND;VALUE=DATE:20241129
DTSTAMP:20260424T123400
CREATED:20240906T124243Z
LAST-MODIFIED:20250221T124111Z
UID:3870-1732752000-1732838399@natur-und-heimat.de
SUMMARY:Kurzwanderung | Cleverbrück - Kuhholz - Bad Schwartau
DESCRIPTION:Streckeninformation: Kaffeeeinkehr „Salz Oase“ \nStreckenlänge: ca. 5 km \nTreffen: 14.00 Uhr \nTreffpunkt: Haltestelle „Cleverbrücker Str.“ (ZOB-HL 13.36 Uhr)\, Buslinie 1 \nTourleitung: Heidi Schlichting – Tel. 497849 \nMobilnummer: 0151/58894910(Bitte nur während der Wanderung benutzen) \nAls Wanderverein freuen wir uns über Gäste\, die gemeinsam mit uns die Natur erkunden möchten.\nEgal\, ob Sie bereits Mitglied sind oder nicht\, Sie sind herzlich eingeladen\, an unseren Wanderungen teilzunehmen. \nFür Tages- und Halbtagswanderungen erheben wir einen Kostenbeitrag von\n€ 4\,00 pro Person. Für Kurzwanderungen beträgt der Kostenbeitrag lediglich € 2\,00\npro Person.
URL:https://natur-und-heimat.de/event/kurzwanderung-cleverbrueck-kuhholz-bad-schwartau-2/
CATEGORIES:Wanderungen
END:VEVENT
BEGIN:VEVENT
DTSTART;VALUE=DATE:20241130
DTEND;VALUE=DATE:20241201
DTSTAMP:20260424T123400
CREATED:20240906T124509Z
LAST-MODIFIED:20250221T124111Z
UID:3872-1732924800-1733011199@natur-und-heimat.de
SUMMARY:Tagesrundwanderung | Lüneburg - Ilmenau - Hasenburg
DESCRIPTION:Streckeninformation: Einkehr „Zur Hasenburg“\, evtl. Gruppenticket\, evtl. Weihnachtsmarkt Lüneburg \nStreckenlänge: ca. 14 km \nTreffen: 08.55 Uhr \nTreffpunkt: Bahnhofshalle/Hintereingang\, Zug 09.10 Uhr \nTourleitung: Iris Toelle – Tel. 0151/58894910 \nMobilnummer: 0151/58894910 (Bitte nur während der Wanderung benutzen) \nAls Wanderverein freuen wir uns über Gäste\, die gemeinsam mit uns die Natur erkunden möchten.\nEgal\, ob Sie bereits Mitglied sind oder nicht\, Sie sind herzlich eingeladen\, an unseren Wanderungen teilzunehmen. \nFür Tages- und Halbtagswanderungen erheben wir einen Kostenbeitrag von\n€ 4\,00 pro Person. Für Kurzwanderungen beträgt der Kostenbeitrag lediglich € 2\,00\npro Person.
URL:https://natur-und-heimat.de/event/tagesrundwanderung-lueneburg-ilmenau-hasenburg/
CATEGORIES:Wanderungen
END:VEVENT
END:VCALENDAR