BEGIN:VCALENDAR
VERSION:2.0
PRODID:-//Natur und Heimat e. V. - ECPv6.15.17.1//NONSGML v1.0//EN
CALSCALE:GREGORIAN
METHOD:PUBLISH
X-WR-CALNAME:Natur und Heimat e. V.
X-ORIGINAL-URL:https://natur-und-heimat.de
X-WR-CALDESC:Veranstaltungen für Natur und Heimat e. V.
REFRESH-INTERVAL;VALUE=DURATION:PT1H
X-Robots-Tag:noindex
X-PUBLISHED-TTL:PT1H
BEGIN:VTIMEZONE
TZID:UTC
BEGIN:STANDARD
TZOFFSETFROM:+0000
TZOFFSETTO:+0000
TZNAME:UTC
DTSTART:20230101T000000
END:STANDARD
END:VTIMEZONE
BEGIN:VEVENT
DTSTART;VALUE=DATE:20240904
DTEND;VALUE=DATE:20240905
DTSTAMP:20260424T154704
CREATED:20240611T165526Z
LAST-MODIFIED:20250221T124112Z
UID:3752-1725408000-1725494399@natur-und-heimat.de
SUMMARY:Tageswanderung | Stocksee – Dersau (Plöner See)
DESCRIPTION:Streckeninformation: Rucksackverpflegung\, evtl. Bademöglichkeit\, evtl. Gruppenticket \nStreckenlänge: ca. 18 km \nTreffen: 09.10 Uhr \nTreffpunkt:  Bahnhofshalle/Hintereingang\, Zug 09.28 Uhr \nTourleitung: Marion Gillwald – Tel. 44890 \nMobilnummer: 0151/18788711 (Bitte nur während der Wanderung benutzen) \nAls Wanderverein freuen wir uns über Gäste\, die gemeinsam mit uns die Natur erkunden möchten.\nEgal\, ob Sie bereits Mitglied sind oder nicht\, Sie sind herzlich eingeladen\, an unseren Wanderungen teilzunehmen. \nFür Tages- und Halbtagswanderungen erheben wir einen Kostenbeitrag von\n€ 4\,00 pro Person. Für Kurzwanderungen beträgt der Kostenbeitrag lediglich € 2\,00\npro Person.
URL:https://natur-und-heimat.de/event/tageswanderung-stocksee-dersau-ploener-see/
CATEGORIES:Wanderungen
END:VEVENT
BEGIN:VEVENT
DTSTART;VALUE=DATE:20240907
DTEND;VALUE=DATE:20240908
DTSTAMP:20260424T154704
CREATED:20240611T165738Z
LAST-MODIFIED:20250221T124112Z
UID:3754-1725667200-1725753599@natur-und-heimat.de
SUMMARY:Tagesrundwanderung | Ratzeburg – Mechow – Garrensee
DESCRIPTION:Streckeninformation: Rucksackverpflegung\, evtl. Waldcafé Mustin\, evtl. Gruppenticket \nStreckenlänge: ca. 20 km \nTreffen: 08.55 Uhr \nTreffpunkt: Bahnhofshalle/Hintereingang\, Zug 09.10 Uhr \nTourleitung: Iris Toelle – Tel: 0151/58894910 \nAls Wanderverein freuen wir uns über Gäste\, die gemeinsam mit uns die Natur erkunden möchten.\nEgal\, ob Sie bereits Mitglied sind oder nicht\, Sie sind herzlich eingeladen\, an unseren Wanderungen teilzunehmen. \nFür Tages- und Halbtagswanderungen erheben wir einen Kostenbeitrag von\n€ 4\,00 pro Person. Für Kurzwanderungen beträgt der Kostenbeitrag lediglich € 2\,00\npro Person.
URL:https://natur-und-heimat.de/event/tagesrundwanderung-ratzeburg-mechow-garrensee/
CATEGORIES:Wanderungen
END:VEVENT
BEGIN:VEVENT
DTSTART;VALUE=DATE:20240908
DTEND;VALUE=DATE:20240909
DTSTAMP:20260424T154704
CREATED:20240611T165933Z
LAST-MODIFIED:20250221T124112Z
UID:3756-1725753600-1725839999@natur-und-heimat.de
SUMMARY:Halbtagswanderung | Krummesse – Klein Grönau
DESCRIPTION:Streckenlänge: ca. 12 km \nTreffen: 10.28 Uhr \nTreffpunkt: Haltestelle. „Krummesser Moorweg“ (ZOB 10.04 Uhr)\, Buslinie 16   \nTourleitung: Friedel Mark – Tel. 7060274 \nMobilnummer: 0157/38401814 (Bitte nur während der Wanderung benutzen) \nAls Wanderverein freuen wir uns über Gäste\, die gemeinsam mit uns die Natur erkunden möchten.\nEgal\, ob Sie bereits Mitglied sind oder nicht\, Sie sind herzlich eingeladen\, an unseren Wanderungen teilzunehmen. \nFür Tages- und Halbtagswanderungen erheben wir einen Kostenbeitrag von\n€ 4\,00 pro Person. Für Kurzwanderungen beträgt der Kostenbeitrag lediglich € 2\,00\npro Person.
URL:https://natur-und-heimat.de/event/halbtagswanderung-krummesse-klein-groenau-2/
CATEGORIES:Wanderungen
END:VEVENT
BEGIN:VEVENT
DTSTART;VALUE=DATE:20240910
DTEND;VALUE=DATE:20240918
DTSTAMP:20260424T154704
CREATED:20240611T172551Z
LAST-MODIFIED:20250221T124112Z
UID:3778-1725926400-1726617599@natur-und-heimat.de
SUMMARY:Wanderreise Bayreuth
DESCRIPTION:Reiseinformation: \n7 ÜN/Frühstück im IBIS-Hotel einschl. Fahrtkosten = 555\,– €\nDZ/Person\, zur Einzelnutzung 835\,– € \nVerbindliche schriftliche Anmeldung Gudrun Meßfeldt\, Ahrensböker Str. 43a\, 23617 Stockelsdorf\nE-Mail: gudrun.messfeldt@gmx.de
URL:https://natur-und-heimat.de/event/wanderreise-bayreuth/
CATEGORIES:Wanderreise
END:VEVENT
BEGIN:VEVENT
DTSTART;VALUE=DATE:20240911
DTEND;VALUE=DATE:20240912
DTSTAMP:20260424T154704
CREATED:20240611T170134Z
LAST-MODIFIED:20250221T124112Z
UID:3758-1726012800-1726099199@natur-und-heimat.de
SUMMARY:Halbtagswanderung | Rundweg Schlutup
DESCRIPTION:Streckenlänge: ca. 10 km \nTreffen: 09.50 Uhr \nTreffpunkt: Haltestelle. „Schlutup Markt“\, (ZOB 09.15)\, Buslinie 11  \nTourleitung: Christa Neubeck – Tel. 495741 \nAls Wanderverein freuen wir uns über Gäste\, die gemeinsam mit uns die Natur erkunden möchten.\nEgal\, ob Sie bereits Mitglied sind oder nicht\, Sie sind herzlich eingeladen\, an unseren Wanderungen teilzunehmen. \nFür Tages- und Halbtagswanderungen erheben wir einen Kostenbeitrag von\n€ 4\,00 pro Person. Für Kurzwanderungen beträgt der Kostenbeitrag lediglich € 2\,00\npro Person.
URL:https://natur-und-heimat.de/event/halbtagswanderung-stocksee-dersau-ploener-see/
CATEGORIES:Wanderungen
END:VEVENT
BEGIN:VEVENT
DTSTART;VALUE=DATE:20240914
DTEND;VALUE=DATE:20240915
DTSTAMP:20260424T154704
CREATED:20240611T170351Z
LAST-MODIFIED:20250221T124112Z
UID:3760-1726272000-1726358399@natur-und-heimat.de
SUMMARY:Tageswanderung | Kupfermühle – Bad Oldesloe
DESCRIPTION:Streckeninformationen: Rucksackverpflegung\, evtl. Gruppenticket \nStreckenlänge: ca. 17 km \nTreffen: 08.50 Uhr \nTreffpunkt: Bahnhofshalle/Hintereingang\, Zug 09.09 Uhr \nTourleitung: Ilse Gerlach – Tel. 404820 \nAls Wanderverein freuen wir uns über Gäste\, die gemeinsam mit uns die Natur erkunden möchten.\nEgal\, ob Sie bereits Mitglied sind oder nicht\, Sie sind herzlich eingeladen\, an unseren Wanderungen teilzunehmen. \nFür Tages- und Halbtagswanderungen erheben wir einen Kostenbeitrag von\n€ 4\,00 pro Person. Für Kurzwanderungen beträgt der Kostenbeitrag lediglich € 2\,00\npro Person.
URL:https://natur-und-heimat.de/event/tageswanderung-kupfermuehle-bad-oldesloe/
CATEGORIES:Wanderungen
END:VEVENT
BEGIN:VEVENT
DTSTART;VALUE=DATE:20240918
DTEND;VALUE=DATE:20240919
DTSTAMP:20260424T154704
CREATED:20240611T170557Z
LAST-MODIFIED:20250221T124112Z
UID:3762-1726617600-1726703999@natur-und-heimat.de
SUMMARY:Halbtagswanderung | Mondaufgang auf dem Schafberg
DESCRIPTION:Streckenlänge: ca. 8 km \nTreffen: 17.45 Uhr \nTreffpunkt: Haltestelle. „Stockelsdorf Kolberger Str.“\, (ZOB 17.26 Uhr)\, Buslinie 9  \nTourleitung: Christa Neubeck – Tel. 495741 \nAls Wanderverein freuen wir uns über Gäste\, die gemeinsam mit uns die Natur erkunden möchten.\nEgal\, ob Sie bereits Mitglied sind oder nicht\, Sie sind herzlich eingeladen\, an unseren Wanderungen teilzunehmen. \nFür Tages- und Halbtagswanderungen erheben wir einen Kostenbeitrag von\n€ 4\,00 pro Person. Für Kurzwanderungen beträgt der Kostenbeitrag lediglich € 2\,00\npro Person.
URL:https://natur-und-heimat.de/event/halbtagswanderung-mondaufgang-auf-dem-schafberg/
CATEGORIES:Wanderungen
END:VEVENT
BEGIN:VEVENT
DTSTART;VALUE=DATE:20240919
DTEND;VALUE=DATE:20240920
DTSTAMP:20260424T154704
CREATED:20240611T170822Z
LAST-MODIFIED:20250221T124112Z
UID:3764-1726704000-1726790399@natur-und-heimat.de
SUMMARY:Grenzmuseum
DESCRIPTION:Informationen: Führung durch das Museum\, ca. 1\,5 Std.\, Eintritt 4\,– €\, Kaffeeeinkehr \nAnmeldung: bis 12.09.2024 (Bei der Tourleitung)\, begrenzte Teilnehmerzahl \nTreffen: 10.40 Uhr \nTreffpunkt: 10.40 Uhr Markt Schlutup (ZOB 10.05 Uhr\, Buslinie 11) \nTourleitung: Karin Luther – Tel. 01706369298
URL:https://natur-und-heimat.de/event/grenzmuseum/
CATEGORIES:Wanderungen
END:VEVENT
BEGIN:VEVENT
DTSTART;VALUE=DATE:20240921
DTEND;VALUE=DATE:20240922
DTSTAMP:20260424T154704
CREATED:20240611T170952Z
LAST-MODIFIED:20250221T124112Z
UID:3766-1726876800-1726963199@natur-und-heimat.de
SUMMARY:Tageswanderung | Bad Schwartau – Lübeck
DESCRIPTION:Streckeninformationen: durch den Riesebusch zurück nach Lübeck \nStreckenlänge: ca. 16 km \nTreffen: 09.30 Uhr \nTreffpunkt: ZOB Bad Schwartau\, mehrere Linien  \nTourleitung: Silvia Flinker – Tel. 7073576 \nMobilnummer: 0174/6513957 (Bitte nur während der Wanderung benutzen) \nAls Wanderverein freuen wir uns über Gäste\, die gemeinsam mit uns die Natur erkunden möchten.\nEgal\, ob Sie bereits Mitglied sind oder nicht\, Sie sind herzlich eingeladen\, an unseren Wanderungen teilzunehmen. \nFür Tages- und Halbtagswanderungen erheben wir einen Kostenbeitrag von\n€ 4\,00 pro Person. Für Kurzwanderungen beträgt der Kostenbeitrag lediglich € 2\,00\npro Person.
URL:https://natur-und-heimat.de/event/tageswanderung-bad-schwartau-luebeck/
CATEGORIES:Wanderungen
END:VEVENT
BEGIN:VEVENT
DTSTART;VALUE=DATE:20240925
DTEND;VALUE=DATE:20240926
DTSTAMP:20260424T154704
CREATED:20240611T171155Z
LAST-MODIFIED:20250221T124112Z
UID:3768-1727222400-1727308799@natur-und-heimat.de
SUMMARY:Tageswanderung | Ratekau – Gut Neuruppersdorf – Medizinwald - BSchw
DESCRIPTION:Streckeninformationen: Rucksackverpflegung  \nStreckenlänge: ca. 16 km \nTreffen: 10.37 Uhr \nTreffpunkt: Haltestelle. „Ratekau“ (ZOB 09.58 Uhr)\, Buslinie 500 \nTourleitung: Ilse Gerlach – Tel. 404820 \nAls Wanderverein freuen wir uns über Gäste\, die gemeinsam mit uns die Natur erkunden möchten.\nEgal\, ob Sie bereits Mitglied sind oder nicht\, Sie sind herzlich eingeladen\, an unseren Wanderungen teilzunehmen. \nFür Tages- und Halbtagswanderungen erheben wir einen Kostenbeitrag von\n€ 4\,00 pro Person. Für Kurzwanderungen beträgt der Kostenbeitrag lediglich € 2\,00\npro Person.
URL:https://natur-und-heimat.de/event/tageswanderung-ratekau-gut-neuruppersdorf-medizinwald-bschw/
CATEGORIES:Wanderungen
END:VEVENT
BEGIN:VEVENT
DTSTART;VALUE=DATE:20240926
DTEND;VALUE=DATE:20240927
DTSTAMP:20260424T154704
CREATED:20240611T171516Z
LAST-MODIFIED:20250221T124112Z
UID:3772-1727308800-1727395199@natur-und-heimat.de
SUMMARY:Kurzwanderung | Nach Padelügge
DESCRIPTION:Streckeninformation: Mit der AWO  \nTreffen: 14.17 Uhr \nTreffpunkt: Haltestelle „Auf der Heide“ (ZOB 14.04Uhr)\, Buslinie 21 \nTourleitung: Hilde Veltman – Tel. 604700 \nMobilnummer: 0157/88293969 (Bitte nur während der Wanderung benutzen) \nAls Wanderverein freuen wir uns über Gäste\, die gemeinsam mit uns die Natur erkunden möchten.\nEgal\, ob Sie bereits Mitglied sind oder nicht\, Sie sind herzlich eingeladen\, an unseren Wanderungen teilzunehmen. \nFür Tages- und Halbtagswanderungen erheben wir einen Kostenbeitrag von\n€ 4\,00 pro Person. Für Kurzwanderungen beträgt der Kostenbeitrag lediglich € 2\,00\npro Person.
URL:https://natur-und-heimat.de/event/kurzwanderung-nach-padeluegge/
CATEGORIES:Wanderungen
END:VEVENT
BEGIN:VEVENT
DTSTART;VALUE=DATE:20240928
DTEND;VALUE=DATE:20240929
DTSTAMP:20260424T154704
CREATED:20240611T171735Z
LAST-MODIFIED:20250221T124112Z
UID:3774-1727481600-1727567999@natur-und-heimat.de
SUMMARY:Tagesrundwanderung | Duvenstedt – Wittmoor – Mellingburger Schleuse
DESCRIPTION:Streckeninformation: Rucksackverpflegung\, evtl. Gruppenticket \nStreckenlänge: ca. 18 km \nTreffen: 08.25 Uhr \nTreffpunkt: Bahnhofshalle/Hintereingang\, Zug 08.37 Uhr \nTourleitung: Iris Toelle – Tel. 0151/58894910 \nMobilnummer: 0151/58894910 (Bitte nur während der Wanderung benutzen) \nAls Wanderverein freuen wir uns über Gäste\, die gemeinsam mit uns die Natur erkunden möchten.\nEgal\, ob Sie bereits Mitglied sind oder nicht\, Sie sind herzlich eingeladen\, an unseren Wanderungen teilzunehmen. \nFür Tages- und Halbtagswanderungen erheben wir einen Kostenbeitrag von\n€ 4\,00 pro Person. Für Kurzwanderungen beträgt der Kostenbeitrag lediglich € 2\,00\npro Person.
URL:https://natur-und-heimat.de/event/tagesrundwanderung-duvenstedt-wittmoor-mellingburger-schleuse/
CATEGORIES:Wanderungen
END:VEVENT
END:VCALENDAR