BEGIN:VCALENDAR
VERSION:2.0
PRODID:-//Natur und Heimat e. V. - ECPv6.15.17.1//NONSGML v1.0//EN
CALSCALE:GREGORIAN
METHOD:PUBLISH
X-WR-CALNAME:Natur und Heimat e. V.
X-ORIGINAL-URL:https://natur-und-heimat.de
X-WR-CALDESC:Veranstaltungen für Natur und Heimat e. V.
REFRESH-INTERVAL;VALUE=DURATION:PT1H
X-Robots-Tag:noindex
X-PUBLISHED-TTL:PT1H
BEGIN:VTIMEZONE
TZID:UTC
BEGIN:STANDARD
TZOFFSETFROM:+0000
TZOFFSETTO:+0000
TZNAME:UTC
DTSTART:20230101T000000
END:STANDARD
END:VTIMEZONE
BEGIN:VEVENT
DTSTART;VALUE=DATE:20240801
DTEND;VALUE=DATE:20240802
DTSTAMP:20260424T172535
CREATED:20240611T154327Z
LAST-MODIFIED:20250221T124113Z
UID:3713-1722470400-1722556799@natur-und-heimat.de
SUMMARY:Tagesausflug | Boizenburg
DESCRIPTION:Informationen: Tagesausflug\, Stadtführung und Fliesenmuseum\, Eintritt 3\,– €\, Kaffeeeinkehr \nAnmeldung: bis 25.07.2024 (Bei der Tourleitung)\, begrenzte Teilnehmerzahl \nTreffen: 07.55 Uhr \nTreffpunkt:  Bahnhofshalle/Hintereingang\, Zug 08.10 Uhr \nTourleitung: Karin Luther – Tel. 01706369298
URL:https://natur-und-heimat.de/event/tagesausflug-boizenburg/
CATEGORIES:Wanderungen
END:VEVENT
BEGIN:VEVENT
DTSTART;VALUE=DATE:20240803
DTEND;VALUE=DATE:20240804
DTSTAMP:20260424T172535
CREATED:20240611T154535Z
LAST-MODIFIED:20250221T124113Z
UID:3715-1722643200-1722729599@natur-und-heimat.de
SUMMARY:Tagesrundwanderung | Mölln – Hellbachtal\, Krebssee
DESCRIPTION:Streckeninformation: Rucksackverpflegung\, Bademöglichkeit\, evtl. Gruppenticket \nStreckenlänge: ca. 18\,5 km \nTreffen: 08.50 Uhr \nTreffpunkt: Bahnhofshalle/Hintereingang (ZOB 09.10 Uhr) \nTourleitung: Andreas Sassenhagen – Tel. 2034832 \nMobilnummer: 0162/8581577 (Bitte nur während der Wanderung benutzen) \nAls Wanderverein freuen wir uns über Gäste\, die gemeinsam mit uns die Natur erkunden möchten.\nEgal\, ob Sie bereits Mitglied sind oder nicht\, Sie sind herzlich eingeladen\, an unseren Wanderungen teilzunehmen. \nFür Tages- und Halbtagswanderungen erheben wir einen Kostenbeitrag von\n€ 4\,00 pro Person. Für Kurzwanderungen beträgt der Kostenbeitrag lediglich € 2\,00\npro Person.
URL:https://natur-und-heimat.de/event/tagesrundwanderung-sereetz-hemmelsdorfer-see-copy/
CATEGORIES:Wanderungen
END:VEVENT
BEGIN:VEVENT
DTSTART;VALUE=DATE:20240804
DTEND;VALUE=DATE:20240805
DTSTAMP:20260424T172535
CREATED:20240611T155729Z
LAST-MODIFIED:20250221T124113Z
UID:3718-1722729600-1722815999@natur-und-heimat.de
SUMMARY:Halbtagswanderung | Die Medebek
DESCRIPTION:Streckeninformationen: von der Quelle bis zur Mündung \nStreckenlänge: ca. 11 km \nTreffen: 10.34 Uhr \nTreffpunkt: Haltestelle. „Kirschenallee“ (ZOB 10.11 Uhr)\, Buslinie 11   \nTourleitung: Friedel Mark – Tel. 7060274 \nMobilnummer: 0157/38401814 (Bitte nur während der Wanderung benutzen) \nAls Wanderverein freuen wir uns über Gäste\, die gemeinsam mit uns die Natur erkunden möchten.\nEgal\, ob Sie bereits Mitglied sind oder nicht\, Sie sind herzlich eingeladen\, an unseren Wanderungen teilzunehmen. \nFür Tages- und Halbtagswanderungen erheben wir einen Kostenbeitrag von\n€ 4\,00 pro Person. Für Kurzwanderungen beträgt der Kostenbeitrag lediglich € 2\,00\npro Person.
URL:https://natur-und-heimat.de/event/halbtagswanderung-die-medebek/
CATEGORIES:Wanderungen
END:VEVENT
BEGIN:VEVENT
DTSTART;VALUE=DATE:20240807
DTEND;VALUE=DATE:20240808
DTSTAMP:20260424T172535
CREATED:20240611T155858Z
LAST-MODIFIED:20250221T124113Z
UID:3720-1722988800-1723075199@natur-und-heimat.de
SUMMARY:Halbtagsrundwanderung | Pansdorf – Scharbeutz
DESCRIPTION:Streckenlänge: ca. 11 km \nTreffen: 09.10 Uhr \nTreffpunkt: Bahnhofshalle/Hintereingang\, Zug 09.28 Uhr  \nTourleitung: Gudrun Meßfeldt – Tel. 493844 \nMobilnummer: 0152/02981266 (Bitte nur während der Wanderung benutzen) \nAls Wanderverein freuen wir uns über Gäste\, die gemeinsam mit uns die Natur erkunden möchten.\nEgal\, ob Sie bereits Mitglied sind oder nicht\, Sie sind herzlich eingeladen\, an unseren Wanderungen teilzunehmen. \nFür Tages- und Halbtagswanderungen erheben wir einen Kostenbeitrag von\n€ 4\,00 pro Person. Für Kurzwanderungen beträgt der Kostenbeitrag lediglich € 2\,00\npro Person.
URL:https://natur-und-heimat.de/event/halbtagsrundwanderung-pansdorf-scharbeutz/
CATEGORIES:Wanderungen
END:VEVENT
BEGIN:VEVENT
DTSTART;VALUE=DATE:20240808
DTEND;VALUE=DATE:20240809
DTSTAMP:20260424T172535
CREATED:20240611T160206Z
LAST-MODIFIED:20250221T124113Z
UID:3723-1723075200-1723161599@natur-und-heimat.de
SUMMARY:Kurzwanderung | Travemünde – Brodtener Ufer
DESCRIPTION:Streckeninformationen: Kaffeeeinkehr Hermannshöhe \nStreckenlänge: ca. 6 km \nTreffen: 13.45 Uhr \nTreffpunkt: Bahnhofshalle/Hintereingang\, Zug 14.05 Uhr \nTourleitung: Heidi Schlichting – Tel. 497849 \nMobilnummer: 0151/58894910(Bitte nur während der Wanderung benutzen) \nAls Wanderverein freuen wir uns über Gäste\, die gemeinsam mit uns die Natur erkunden möchten.\nEgal\, ob Sie bereits Mitglied sind oder nicht\, Sie sind herzlich eingeladen\, an unseren Wanderungen teilzunehmen. \nFür Tages- und Halbtagswanderungen erheben wir einen Kostenbeitrag von\n€ 4\,00 pro Person. Für Kurzwanderungen beträgt der Kostenbeitrag lediglich € 2\,00\npro Person.
URL:https://natur-und-heimat.de/event/kurzwanderung-travemuende-brodtener-ufer-2/
CATEGORIES:Wanderungen
END:VEVENT
BEGIN:VEVENT
DTSTART;VALUE=DATE:20240810
DTEND;VALUE=DATE:20240811
DTSTAMP:20260424T172535
CREATED:20240611T161945Z
LAST-MODIFIED:20250221T124113Z
UID:3735-1723248000-1723334399@natur-und-heimat.de
SUMMARY:Tagesrundwanderung | Mölln – Pinnsee
DESCRIPTION:Streckeninformationen: sehr schattig\, Bademöglichkeit\, Rucksackverpflegung\, evtl. Gruppenticket  \nStreckenlänge: ca. 15 km \nTreffen: 09.10 Uhr \nTreffpunkt: Bahnhofshalle/Hintereingang\, Zug 09.10 Uhr \nTourleitung: Silvia Flinker – Tel. 7073576 \nMobilnummer: 0174/6513957 (Bitte nur während der Wanderung benutzen) \nAls Wanderverein freuen wir uns über Gäste\, die gemeinsam mit uns die Natur erkunden möchten.\nEgal\, ob Sie bereits Mitglied sind oder nicht\, Sie sind herzlich eingeladen\, an unseren Wanderungen teilzunehmen. \nFür Tages- und Halbtagswanderungen erheben wir einen Kostenbeitrag von\n€ 4\,00 pro Person. Für Kurzwanderungen beträgt der Kostenbeitrag lediglich € 2\,00\npro Person.
URL:https://natur-und-heimat.de/event/tagesrundwanderung-moelln-pinnsee-2/
CATEGORIES:Wanderungen
END:VEVENT
BEGIN:VEVENT
DTSTART;VALUE=DATE:20240814
DTEND;VALUE=DATE:20240815
DTSTAMP:20260424T172535
CREATED:20240611T160800Z
LAST-MODIFIED:20250221T124113Z
UID:3730-1723593600-1723679999@natur-und-heimat.de
SUMMARY:Halbtagswanderung | Reinfeld
DESCRIPTION:Streckeninformationen: Halbtagswanderung zum Messingschläger Teich  \nStreckenlänge: ca. 8 km \nTreffen: 08.50 Uhr \nTreffpunkt: Bahnhofshalle/Hintereingang\, Zug 09.10 Uhr  \nTourleitung: Christa Neubeck – Tel. 495741 \nAls Wanderverein freuen wir uns über Gäste\, die gemeinsam mit uns die Natur erkunden möchten.\nEgal\, ob Sie bereits Mitglied sind oder nicht\, Sie sind herzlich eingeladen\, an unseren Wanderungen teilzunehmen. \nFür Tages- und Halbtagswanderungen erheben wir einen Kostenbeitrag von\n€ 4\,00 pro Person. Für Kurzwanderungen beträgt der Kostenbeitrag lediglich € 2\,00\npro Person.
URL:https://natur-und-heimat.de/event/halbtagswanderung-reinfeld/
CATEGORIES:Wanderungen
END:VEVENT
BEGIN:VEVENT
DTSTART;VALUE=DATE:20240815
DTEND;VALUE=DATE:20240816
DTSTAMP:20260424T172535
CREATED:20240611T161026Z
LAST-MODIFIED:20250221T124113Z
UID:3732-1723680000-1723766399@natur-und-heimat.de
SUMMARY:Auf den Wegen des „kleinen Jakob“
DESCRIPTION:Informationen: Auf den Wegen des „kleinen Jakob“ Schnupperpilgern mit Impulsen\, ca. 3 Std.\, Kosten: 1\,50 €. \nAnmeldung: bis 08.08.2024 (Bei der Tourleitung)\, begrenzte Teilnehmerzahl \nTreffen: 12.00 Uhr \nTreffpunkt: St. Jakobi\, Breite Str. \nTourleitung: Karin Luther – Tel. 01706369298
URL:https://natur-und-heimat.de/event/auf-den-wegen-des-kleinen-jakob/
CATEGORIES:Wanderungen
END:VEVENT
BEGIN:VEVENT
DTSTART;VALUE=DATE:20240817
DTEND;VALUE=DATE:20240818
DTSTAMP:20260424T172535
CREATED:20240611T160601Z
LAST-MODIFIED:20250221T124113Z
UID:3728-1723852800-1723939199@natur-und-heimat.de
SUMMARY:Tageswanderung | Haseldorfer Marsch (Elbvorland)
DESCRIPTION:Streckeninformationen: Rucksackverpflegung\, evtl. Kaffeeeinkehr \nStreckenlänge: ca. 16 km \nTreffen: 08.55 Uhr \nTreffpunkt: Bahnhofshalle/Hintereingang\, Zug 09.10 Uhr \nTourleitung: Hilde Veltman – Tel. 604700 \nMobilnummer: 0157/88293969 (Bitte nur während der Wanderung benutzen) \nAls Wanderverein freuen wir uns über Gäste\, die gemeinsam mit uns die Natur erkunden möchten.\nEgal\, ob Sie bereits Mitglied sind oder nicht\, Sie sind herzlich eingeladen\, an unseren Wanderungen teilzunehmen. \nFür Tages- und Halbtagswanderungen erheben wir einen Kostenbeitrag von\n€ 4\,00 pro Person. Für Kurzwanderungen beträgt der Kostenbeitrag lediglich € 2\,00\npro Person.
URL:https://natur-und-heimat.de/event/tageswanderung-haseldorfer-marsch-elbvorland/
CATEGORIES:Wanderungen
END:VEVENT
BEGIN:VEVENT
DTSTART;VALUE=DATE:20240821
DTEND;VALUE=DATE:20240822
DTSTAMP:20260424T172535
CREATED:20240611T163242Z
LAST-MODIFIED:20250221T124113Z
UID:3737-1724198400-1724284799@natur-und-heimat.de
SUMMARY:Tageswanderung | Runde Südlicher Priwall
DESCRIPTION:Streckeninformation: Rucksackverpflegung\, Bademöglichkeit\, evtl. Gruppenticket \nStreckenlänge: ca. 10 km \nTreffen: 08.45 Uhr \nTreffpunkt: Bahnhofshalle/Hintereingang\, Zug 09.03 Uhr \nTourleitung: Marion Gillwald – Tel. 44890 \nMobilnummer: 0151/18788711 (Bitte nur während der Wanderung benutzen) \nAls Wanderverein freuen wir uns über Gäste\, die gemeinsam mit uns die Natur erkunden möchten.\nEgal\, ob Sie bereits Mitglied sind oder nicht\, Sie sind herzlich eingeladen\, an unseren Wanderungen teilzunehmen. \nFür Tages- und Halbtagswanderungen erheben wir einen Kostenbeitrag von\n€ 4\,00 pro Person. Für Kurzwanderungen beträgt der Kostenbeitrag lediglich € 2\,00\npro Person.
URL:https://natur-und-heimat.de/event/tageswanderung-runde-suedlicher-priwall/
CATEGORIES:Wanderungen
END:VEVENT
BEGIN:VEVENT
DTSTART;VALUE=DATE:20240824
DTEND;VALUE=DATE:20240825
DTSTAMP:20260424T172535
CREATED:20240611T163711Z
LAST-MODIFIED:20250221T124113Z
UID:3740-1724457600-1724543999@natur-und-heimat.de
SUMMARY:Tagesrundwanderung | Wesloer Moor – Palinger Heide
DESCRIPTION:Streckeninformation: über Kiebitzmoor\, Rucksackverpflegung\, Badegelegenheit \nStreckenlänge: ca. 16 km \nTreffen: 09.41 Uhr \nTreffpunkt: Haltestelle „Försterei“ (ZOB 09.14 Uhr)\, Buslinie 11  \nTourleitung: Margrit Brockmann – Tel. 595662 \nAls Wanderverein freuen wir uns über Gäste\, die gemeinsam mit uns die Natur erkunden möchten.\nEgal\, ob Sie bereits Mitglied sind oder nicht\, Sie sind herzlich eingeladen\, an unseren Wanderungen teilzunehmen. \nFür Tages- und Halbtagswanderungen erheben wir einen Kostenbeitrag von\n€ 4\,00 pro Person. Für Kurzwanderungen beträgt der Kostenbeitrag lediglich € 2\,00\npro Person.
URL:https://natur-und-heimat.de/event/tagesrundwanderung-wesloer-moor-palinger-heide/
CATEGORIES:Wanderungen
END:VEVENT
BEGIN:VEVENT
DTSTART;VALUE=DATE:20240828
DTEND;VALUE=DATE:20240829
DTSTAMP:20260424T172535
CREATED:20240611T164030Z
LAST-MODIFIED:20250221T124113Z
UID:3742-1724803200-1724889599@natur-und-heimat.de
SUMMARY:Halbtagswanderung | Gleisdreieck – Müggenbusch Sommerfest/Jahreshauptversammlung
DESCRIPTION:Streckeninformation: Sommerfest/Jahreshauptversammlung \nStreckenlänge: ca. 10 km \nTreffen: 11.30 Uhr \nTreffpunkt: Haltestelle. „Im Gleisdreieck“\, (ZOB 11:06)\, Buslinie 11  \nTourleitung: Christa Neubeck – Tel. 495741 \nAls Wanderverein freuen wir uns über Gäste\, die gemeinsam mit uns die Natur erkunden möchten.\nEgal\, ob Sie bereits Mitglied sind oder nicht\, Sie sind herzlich eingeladen\, an unseren Wanderungen teilzunehmen. \nFür Tages- und Halbtagswanderungen erheben wir einen Kostenbeitrag von\n€ 4\,00 pro Person. Für Kurzwanderungen beträgt der Kostenbeitrag lediglich € 2\,00\npro Person.
URL:https://natur-und-heimat.de/event/halbtagswanderung-gleisdreieck-mueggenbusch/
CATEGORIES:Wanderungen
END:VEVENT
BEGIN:VEVENT
DTSTART;VALUE=DATE:20240828
DTEND;VALUE=DATE:20240829
DTSTAMP:20260424T172535
CREATED:20240611T164219Z
LAST-MODIFIED:20250221T124113Z
UID:3744-1724803200-1724889599@natur-und-heimat.de
SUMMARY:Kurzwanderung | Eichholz – Müggenbusch Sommerfest/Jahreshauptversammlung
DESCRIPTION:Streckeninformation: Sommerfest/Jahreshauptversammlung \nStreckenlänge: ca. 5 km \nTreffen: 13.05 Uhr \nTreffpunkt: Haltestelle „Dieselstr.“ (ZOB 12.46 Uhr)\, Buslinie 5 \nTourleitung: Heidi Schlichting – Tel. 497849 \nMobilnummer: 0151/58894910(Bitte nur während der Wanderung benutzen) \nAls Wanderverein freuen wir uns über Gäste\, die gemeinsam mit uns die Natur erkunden möchten.\nEgal\, ob Sie bereits Mitglied sind oder nicht\, Sie sind herzlich eingeladen\, an unseren Wanderungen teilzunehmen. \nFür Tages- und Halbtagswanderungen erheben wir einen Kostenbeitrag von\n€ 4\,00 pro Person. Für Kurzwanderungen beträgt der Kostenbeitrag lediglich € 2\,00\npro Person.
URL:https://natur-und-heimat.de/event/kurzwanderung-eichholz-mueggenbusch-3/
CATEGORIES:Wanderungen
END:VEVENT
BEGIN:VEVENT
DTSTART;VALUE=DATE:20240828
DTEND;VALUE=DATE:20240829
DTSTAMP:20260424T172535
CREATED:20240611T164512Z
LAST-MODIFIED:20250221T124113Z
UID:3746-1724803200-1724889599@natur-und-heimat.de
SUMMARY:Tageswanderung |  Herrnburg – Müggenbusch Sommerfest/Jahreshauptversammlung
DESCRIPTION:Streckeninformation: Sommerfest/Jahreshauptversammlung \nStreckenlänge: ca. 13 km \nTreffen: 11.00 Uhr \nTreffpunkt: Bahnhofshalle/Hintereingang\, Zug 11.10 Uhr oder 11.20 Uhr Bahnhof Lübeck-Flugplatz \nTourleitung: Gudrun Meßfeldt – Tel. 493844 \nMobilnummer: 0152/02981266 (Bitte nur während der Wanderung benutzen) \nAls Wanderverein freuen wir uns über Gäste\, die gemeinsam mit uns die Natur erkunden möchten.\nEgal\, ob Sie bereits Mitglied sind oder nicht\, Sie sind herzlich eingeladen\, an unseren Wanderungen teilzunehmen. \nFür Tages- und Halbtagswanderungen erheben wir einen Kostenbeitrag von\n€ 4\,00 pro Person. Für Kurzwanderungen beträgt der Kostenbeitrag lediglich € 2\,00\npro Person.
URL:https://natur-und-heimat.de/event/tageswanderung-herrnburg-mueggenbusch-2/
CATEGORIES:Wanderungen
END:VEVENT
BEGIN:VEVENT
DTSTART;VALUE=DATE:20240829
DTEND;VALUE=DATE:20240830
DTSTAMP:20260424T172535
CREATED:20240611T164712Z
LAST-MODIFIED:20250221T124112Z
UID:3748-1724889600-1724975999@natur-und-heimat.de
SUMMARY:Kurzwanderung | Durch die Wesloer Tannen
DESCRIPTION:Streckeninformation: Mit der AWO. Durch die Wesloer Tannen \nTreffen: 13.57 Uhr \nTreffpunkt: Eichholz Teich (ZOB 13.36 Uhr)\, Buslinie 5 \nTourleitung: Hilde Veltman – Tel. 604700 \nMobilnummer: 0157/88293969 (Bitte nur während der Wanderung benutzen) \nAls Wanderverein freuen wir uns über Gäste\, die gemeinsam mit uns die Natur erkunden möchten.\nEgal\, ob Sie bereits Mitglied sind oder nicht\, Sie sind herzlich eingeladen\, an unseren Wanderungen teilzunehmen. \nFür Tages- und Halbtagswanderungen erheben wir einen Kostenbeitrag von\n€ 4\,00 pro Person. Für Kurzwanderungen beträgt der Kostenbeitrag lediglich € 2\,00\npro Person.
URL:https://natur-und-heimat.de/event/kurzwanderung-durch-die-wesloer-tannen/
CATEGORIES:Wanderungen
END:VEVENT
BEGIN:VEVENT
DTSTART;VALUE=DATE:20240831
DTEND;VALUE=DATE:20240901
DTSTAMP:20260424T172535
CREATED:20240611T165334Z
LAST-MODIFIED:20250221T124112Z
UID:3750-1725062400-1725148799@natur-und-heimat.de
SUMMARY:Tageswanderung | Fischbeker Heide bei Harburg
DESCRIPTION:Streckeninformationen: Rucksackverpflegung\, evtl. Gruppenticket \nStreckenlänge: ca. 16 km \nTreffen: 08.50 Uhr \nTreffpunkt: Bahnhofshalle/Hintereingang\, Zug 09.10 Uhr \nTourleitung: Silvia Flinker – Tel. 7073576 \nMobilnummer: 0174/6513957 (Bitte nur während der Wanderung benutzen) \nAls Wanderverein freuen wir uns über Gäste\, die gemeinsam mit uns die Natur erkunden möchten.\nEgal\, ob Sie bereits Mitglied sind oder nicht\, Sie sind herzlich eingeladen\, an unseren Wanderungen teilzunehmen. \nFür Tages- und Halbtagswanderungen erheben wir einen Kostenbeitrag von\n€ 4\,00 pro Person. Für Kurzwanderungen beträgt der Kostenbeitrag lediglich € 2\,00\npro Person.
URL:https://natur-und-heimat.de/event/tageswanderung-fischbeker-heide-bei-harburg/
CATEGORIES:Wanderungen
END:VEVENT
END:VCALENDAR