BEGIN:VCALENDAR
VERSION:2.0
PRODID:-//Natur und Heimat e. V. - ECPv6.15.17.1//NONSGML v1.0//EN
CALSCALE:GREGORIAN
METHOD:PUBLISH
X-ORIGINAL-URL:https://natur-und-heimat.de
X-WR-CALDESC:Veranstaltungen für Natur und Heimat e. V.
REFRESH-INTERVAL;VALUE=DURATION:PT1H
X-Robots-Tag:noindex
X-PUBLISHED-TTL:PT1H
BEGIN:VTIMEZONE
TZID:UTC
BEGIN:STANDARD
TZOFFSETFROM:+0000
TZOFFSETTO:+0000
TZNAME:UTC
DTSTART:20230101T000000
END:STANDARD
END:VTIMEZONE
BEGIN:VEVENT
DTSTART;VALUE=DATE:20240601
DTEND;VALUE=DATE:20240602
DTSTAMP:20260424T203509
CREATED:20240312T111708Z
LAST-MODIFIED:20240430T165745Z
UID:3482-1717200000-1717286399@natur-und-heimat.de
SUMMARY:Tageswanderung | Krempelsdorf – Stockelsdorf
DESCRIPTION:Streckeninformationen: Tageswanderung von Herrenhaus zu Herrenhaus\, Rucksackverpflegung \nStreckenlänge: ca. 15 km \nTreffen: 08.58 Uhr \nTreffpunkt: Bushaltestelle „Kurzer Weg“ (ZOB 08.50 Uhr)\, Buslinie 9 \nTourleitung: Silvia Flinker – Tel. 7073576 \nMobilnummer: 0174/6513957 (Bitte nur während der Wanderung benutzen) \nAls Wanderverein freuen wir uns über Gäste\, die gemeinsam mit uns die Natur erkunden möchten.\nEgal\, ob Sie bereits Mitglied sind oder nicht\, Sie sind herzlich eingeladen\, an unseren Wanderungen teilzunehmen. \nFür Tages- und Halbtagswanderungen erheben wir einen Kostenbeitrag von\n€ 4\,00 pro Person. Für Kurzwanderungen beträgt der Kostenbeitrag lediglich € 2\,00\npro Person.
URL:https://natur-und-heimat.de/event/tageswanderung-krempelsdorf-stockelsdorf/
CATEGORIES:Wanderungen
END:VEVENT
BEGIN:VEVENT
DTSTART;VALUE=DATE:20240605
DTEND;VALUE=DATE:20240606
DTSTAMP:20260424T203509
CREATED:20240312T111945Z
LAST-MODIFIED:20240430T165745Z
UID:3484-1717545600-1717631999@natur-und-heimat.de
SUMMARY:Halbtagswanderung | Timmendorfer Strand – Kammer – Wennsee
DESCRIPTION:Streckeninformationen: evtl. Gruppenticket \nStreckenlänge: ca. 8 km \nTreffen: 08.50 Uhr \nTreffpunkt: Bahnhofshalle/Hintereingang\, Zug 09.12 Uhr \nTourleitung: Ilse Gerlach – Tel. 404820 \nAls Wanderverein freuen wir uns über Gäste\, die gemeinsam mit uns die Natur erkunden möchten.\nEgal\, ob Sie bereits Mitglied sind oder nicht\, Sie sind herzlich eingeladen\, an unseren Wanderungen teilzunehmen. \nFür Tages- und Halbtagswanderungen erheben wir einen Kostenbeitrag von\n€ 4\,00 pro Person. Für Kurzwanderungen beträgt der Kostenbeitrag lediglich € 2\,00\npro Person.
URL:https://natur-und-heimat.de/event/halbtagswanderung-timmendorfer-strand-kammer-wennsee/
CATEGORIES:Wanderungen
END:VEVENT
BEGIN:VEVENT
DTSTART;VALUE=DATE:20240608
DTEND;VALUE=DATE:20240609
DTSTAMP:20260424T203509
CREATED:20240312T112219Z
LAST-MODIFIED:20240430T165745Z
UID:3487-1717804800-1717891199@natur-und-heimat.de
SUMMARY:Tageswanderung | Brandenbaum – Selmsdorf – Schlutup
DESCRIPTION:Streckeninformationen: Tageswanderung\, Rucksackverpflegung \nStreckenlänge: ca. 15 km \nTreffen: 09.40 Uhr \nTreffpunkt: Bushaltestelle „Herbartweg“\, Buslinie 3 und 11 \nTourleitung: Silvia Flinker – Tel. 7073576 \nMobilnummer: 0174/6513957 (Bitte nur während der Wanderung benutzen) \nAls Wanderverein freuen wir uns über Gäste\, die gemeinsam mit uns die Natur erkunden möchten.\nEgal\, ob Sie bereits Mitglied sind oder nicht\, Sie sind herzlich eingeladen\, an unseren Wanderungen teilzunehmen. \nFür Tages- und Halbtagswanderungen erheben wir einen Kostenbeitrag von\n€ 4\,00 pro Person. Für Kurzwanderungen beträgt der Kostenbeitrag lediglich € 2\,00\npro Person.
URL:https://natur-und-heimat.de/event/tageswanderung-brandenbaum-selmsdorf-schlutup/
CATEGORIES:Wanderungen
END:VEVENT
BEGIN:VEVENT
DTSTART;VALUE=DATE:20240612
DTEND;VALUE=DATE:20240613
DTSTAMP:20260424T203509
CREATED:20240312T112704Z
LAST-MODIFIED:20240516T092545Z
UID:3489-1718150400-1718236799@natur-und-heimat.de
SUMMARY:Halbtagsrundwanderung | Reinfelder Runde
DESCRIPTION:Streckeninformation: evtl. Gruppenticket \nStreckenlänge: ca. 11 km \nTreffen: 09.20 Uhr \nTreffpunkt: Bahnhofshalle/Hintereingang\, Zug 09.37 Uhr \nTourleitung: Marion Gillwald – Tel. 44890 \nMobilnummer: 0151/18788711 (Bitte nur während der Wanderung benutzen) \nAls Wanderverein freuen wir uns über Gäste\, die gemeinsam mit uns die Natur erkunden möchten.\nEgal\, ob Sie bereits Mitglied sind oder nicht\, Sie sind herzlich eingeladen\, an unseren Wanderungen teilzunehmen. \nFür Tages- und Halbtagswanderungen erheben wir einen Kostenbeitrag von\n€ 4\,00 pro Person. Für Kurzwanderungen beträgt der Kostenbeitrag lediglich € 2\,00\npro Person.
URL:https://natur-und-heimat.de/event/halbtagsrundwanderung-reinfelder-runde/
CATEGORIES:Wanderungen
END:VEVENT
BEGIN:VEVENT
DTSTART;VALUE=DATE:20240613
DTEND;VALUE=DATE:20240614
DTSTAMP:20260424T203509
CREATED:20240312T112911Z
LAST-MODIFIED:20250221T124114Z
UID:3491-1718236800-1718323199@natur-und-heimat.de
SUMMARY:Kurzwanderung | Parin – Bad Schwartau
DESCRIPTION:Streckeninformationen: Kaffeeeinkehr Café „Sunset“  \nStreckenlänge: ca. 6 km \nTreffen: 14.10 Uhr \nTreffpunkt: Groß Parin (ZOB 13.36 Uhr)\, Buslinie 1 \nTourleitung: Heide Schlichting – Tel. 497849 \nMobilnummer: 0151/58894910(Bitte nur während der Wanderung benutzen) \nAls Wanderverein freuen wir uns über Gäste\, die gemeinsam mit uns die Natur erkunden möchten.\nEgal\, ob Sie bereits Mitglied sind oder nicht\, Sie sind herzlich eingeladen\, an unseren Wanderungen teilzunehmen. \nFür Tages- und Halbtagswanderungen erheben wir einen Kostenbeitrag von\n€ 4\,00 pro Person. Für Kurzwanderungen beträgt der Kostenbeitrag lediglich € 2\,00\npro Person.
URL:https://natur-und-heimat.de/event/kurzwanderung-parin-bad-schwartau/
CATEGORIES:Wanderungen
END:VEVENT
BEGIN:VEVENT
DTSTART;VALUE=DATE:20240615
DTEND;VALUE=DATE:20240616
DTSTAMP:20260424T203509
CREATED:20240312T113507Z
LAST-MODIFIED:20250221T124114Z
UID:3495-1718409600-1718495999@natur-und-heimat.de
SUMMARY:Tageswanderung | Kiel – Laboe
DESCRIPTION:Streckeninformation: Rucksackverpflegung\, evtl. Gruppenticket\, Einkehrmöglichkeit Möltenort\, Fähre Laboe-Kiel vsl. 17.15 Uhr \nStreckenlänge: ca. 17 km \nTreffen: 08.50 Uhr \nTreffpunkt: Bahnhofshalle/Hintereingang (Zug 09.06 Uhr) \nTourleitung: Iris Toelle \nMobilnummer: 0151/58894910 (Bitte nur während der Wanderung benutzen) \nAls Wanderverein freuen wir uns über Gäste\, die gemeinsam mit uns die Natur erkunden möchten.\nEgal\, ob Sie bereits Mitglied sind oder nicht\, Sie sind herzlich eingeladen\, an unseren Wanderungen teilzunehmen. \nFür Tages- und Halbtagswanderungen erheben wir einen Kostenbeitrag von\n€ 4\,00 pro Person. Für Kurzwanderungen beträgt der Kostenbeitrag lediglich € 2\,00\npro Person.
URL:https://natur-und-heimat.de/event/tageswanderung-kiel-laboe/
CATEGORIES:Wanderungen
END:VEVENT
BEGIN:VEVENT
DTSTART;VALUE=DATE:20240619
DTEND;VALUE=DATE:20240620
DTSTAMP:20260424T203509
CREATED:20240312T113914Z
LAST-MODIFIED:20250221T124114Z
UID:3497-1718755200-1718841599@natur-und-heimat.de
SUMMARY:Halbtagsrundwanderung | Segeberger See
DESCRIPTION:Streckenlänge: ca. 11 km \nTreffen: 09.00 Uhr \nTreffpunkt: ZOB Lübeck\, Buslinie 7650  \nTourleitung: Gudrun Meßfeldt – Tel. 493844 \nMobilnummer: 0152/02981266 (Bitte nur während der Wanderung benutzen) \nAls Wanderverein freuen wir uns über Gäste\, die gemeinsam mit uns die Natur erkunden möchten.\nEgal\, ob Sie bereits Mitglied sind oder nicht\, Sie sind herzlich eingeladen\, an unseren Wanderungen teilzunehmen. \nFür Tages- und Halbtagswanderungen erheben wir einen Kostenbeitrag von\n€ 4\,00 pro Person. Für Kurzwanderungen beträgt der Kostenbeitrag lediglich € 2\,00\npro Person.
URL:https://natur-und-heimat.de/event/halbtagsrundwanderung-segeberger-see/
CATEGORIES:Wanderungen
END:VEVENT
BEGIN:VEVENT
DTSTART;VALUE=DATE:20240622
DTEND;VALUE=DATE:20240623
DTSTAMP:20260424T203509
CREATED:20240312T121625Z
LAST-MODIFIED:20250221T124114Z
UID:3499-1719014400-1719100799@natur-und-heimat.de
SUMMARY:Tagesrundwanderung | Oldenburger Graben – Wallmuseum
DESCRIPTION:Streckeninformation: Rucksackverpflegung\, evtl. Gruppenticket \nStreckenlänge: ca. 19 km \nTreffen: 08.55 Uhr \nTreffpunkt: Bahnhofshalle/Hintereingang\, Bus X85 (09.12 Uhr) \nTourleitung: Iris Toelle \nMobilnummer: 0151/58894910 (Bitte nur während der Wanderung benutzen) \nAls Wanderverein freuen wir uns über Gäste\, die gemeinsam mit uns die Natur erkunden möchten.\nEgal\, ob Sie bereits Mitglied sind oder nicht\, Sie sind herzlich eingeladen\, an unseren Wanderungen teilzunehmen. \nFür Tages- und Halbtagswanderungen erheben wir einen Kostenbeitrag von\n€ 4\,00 pro Person. Für Kurzwanderungen beträgt der Kostenbeitrag lediglich € 2\,00\npro Person.
URL:https://natur-und-heimat.de/event/tagesrundwanderung-oldenburger-graben-wallmuseum/
CATEGORIES:Wanderungen
END:VEVENT
BEGIN:VEVENT
DTSTART;VALUE=DATE:20240626
DTEND;VALUE=DATE:20240627
DTSTAMP:20260424T203509
CREATED:20240312T122041Z
LAST-MODIFIED:20250221T124113Z
UID:3501-1719360000-1719446399@natur-und-heimat.de
SUMMARY:Tagesausflug | Eutiner Schloss und See
DESCRIPTION:Streckeninformationen: Führung durch das Schloss (Eintritt 6 €)\, Wanderung Park\, See\, Fissau\, Rucksackverpflegung\, evtl. Gruppenticket – Anmeldung bis 16.06.2024 bei der Tourleitung \nTreffen: 08.50 Uhr \nTreffpunkt: Bahnhofshalle/Hintereingang\, Zug 09.06 Uhr \nTourleitung: Christa Neubeck – Tel. 495741 \nAls Wanderverein freuen wir uns über Gäste\, die gemeinsam mit uns die Natur erkunden möchten.\nEgal\, ob Sie bereits Mitglied sind oder nicht\, Sie sind herzlich eingeladen\, an unseren Wanderungen teilzunehmen. \nFür Tages- und Halbtagswanderungen erheben wir einen Kostenbeitrag von\n€ 4\,00 pro Person. Für Kurzwanderungen beträgt der Kostenbeitrag lediglich € 2\,00\npro Person.
URL:https://natur-und-heimat.de/event/tagesausflug-eutiner-schloss-und-see/
CATEGORIES:Wanderungen
END:VEVENT
BEGIN:VEVENT
DTSTART;VALUE=DATE:20240627
DTEND;VALUE=DATE:20240628
DTSTAMP:20260424T203509
CREATED:20240312T122338Z
LAST-MODIFIED:20250221T124113Z
UID:3503-1719446400-1719532799@natur-und-heimat.de
SUMMARY:Kurzwanderung | Tremser Teich
DESCRIPTION:Streckeninformation: Mit der AWO \nTreffen: 13.36 Uhr \nTreffpunkt: Haltestelle „Tremser Teich”\, Buslinie 10 (ZOB 13.10 Uhr) \nTourleitung: Hilde Veltman – Tel. 604700 \nMobilnummer: 0157/88293969 (Bitte nur während der Wanderung benutzen) \nAls Wanderverein freuen wir uns über Gäste\, die gemeinsam mit uns die Natur erkunden möchten.\nEgal\, ob Sie bereits Mitglied sind oder nicht\, Sie sind herzlich eingeladen\, an unseren Wanderungen teilzunehmen. \nFür Tages- und Halbtagswanderungen erheben wir einen Kostenbeitrag von\n€ 4\,00 pro Person. Für Kurzwanderungen beträgt der Kostenbeitrag lediglich € 2\,00\npro Person.
URL:https://natur-und-heimat.de/event/kurzwanderung-tremser-teich/
CATEGORIES:Wanderungen
END:VEVENT
BEGIN:VEVENT
DTSTART;VALUE=DATE:20240629
DTEND;VALUE=DATE:20240630
DTSTAMP:20260424T203509
CREATED:20240312T122609Z
LAST-MODIFIED:20250221T124113Z
UID:3505-1719619200-1719705599@natur-und-heimat.de
SUMMARY:Tagesrundwanderung | Plön – Schluensee– Grebiner Mühle
DESCRIPTION:Streckeninformation: Rucksackverpflegung\, evtl. Gruppenticket\, evtl. Probieren vom Örtlichen Weinberg\, Badegelegenheit \nStreckenlänge: ca. 19 km \nTreffen: 09.50 Uhr \nTreffpunkt: Bahnhofshalle/Hintereingang\, Zug 09.06 Uhr \nTourleitung: Andreas Sassenhagen – Tel. 2034832 \nMobilnummer: 0162/8581577 (Bitte nur während der Wanderung benutzen) \nAls Wanderverein freuen wir uns über Gäste\, die gemeinsam mit uns die Natur erkunden möchten.\nEgal\, ob Sie bereits Mitglied sind oder nicht\, Sie sind herzlich eingeladen\, an unseren Wanderungen teilzunehmen. \nFür Tages- und Halbtagswanderungen erheben wir einen Kostenbeitrag von\n€ 4\,00 pro Person. Für Kurzwanderungen beträgt der Kostenbeitrag lediglich € 2\,00\npro Person.
URL:https://natur-und-heimat.de/event/tagesrundwanderung-ploen-schluensee-grebiner-muehle/
CATEGORIES:Wanderungen
END:VEVENT
END:VCALENDAR