BEGIN:VCALENDAR
VERSION:2.0
PRODID:-//Natur und Heimat e. V. - ECPv6.15.17.1//NONSGML v1.0//EN
CALSCALE:GREGORIAN
METHOD:PUBLISH
X-WR-CALNAME:Natur und Heimat e. V.
X-ORIGINAL-URL:https://natur-und-heimat.de
X-WR-CALDESC:Veranstaltungen für Natur und Heimat e. V.
REFRESH-INTERVAL;VALUE=DURATION:PT1H
X-Robots-Tag:noindex
X-PUBLISHED-TTL:PT1H
BEGIN:VTIMEZONE
TZID:UTC
BEGIN:STANDARD
TZOFFSETFROM:+0000
TZOFFSETTO:+0000
TZNAME:UTC
DTSTART:20230101T000000
END:STANDARD
END:VTIMEZONE
BEGIN:VEVENT
DTSTART;VALUE=DATE:20240501
DTEND;VALUE=DATE:20240502
DTSTAMP:20260424T221010
CREATED:20240311T143049Z
LAST-MODIFIED:20240430T165746Z
UID:3457-1714521600-1714607999@natur-und-heimat.de
SUMMARY:Krempelsdorf – Stockelsdorf
DESCRIPTION:Streckeninformationen: Zum Aufstellen des Maibaumes im Stockelsdorfer Herrengarten (Gastronomie) \nStreckenlänge: ca. 7 km \nTreffen: 9.33 Uhr \nTreffpunkt: Haltestelle „Kurzer Weg“ (ZOB 09.25 Uhr)\, Buslinie 9 \nTourleitung: Hilde Schlichting – Tel. 497849 \nMobilnummer: 0151/58894910(Bitte nur während der Wanderung benutzen) \nAls Wanderverein freuen wir uns über Gäste\, die gemeinsam mit uns die Natur erkunden möchten.\nEgal\, ob Sie bereits Mitglied sind oder nicht\, Sie sind herzlich eingeladen\, an unseren Wanderungen teilzunehmen. \nFür Tages- und Halbtagswanderungen erheben wir einen Kostenbeitrag von\n€ 4\,00 pro Person. Für Kurzwanderungen beträgt der Kostenbeitrag lediglich € 2\,00\npro Person.
URL:https://natur-und-heimat.de/event/krempelsdorf-stockelsdorf/
CATEGORIES:Wanderungen
END:VEVENT
BEGIN:VEVENT
DTSTART;VALUE=DATE:20240504
DTEND;VALUE=DATE:20240505
DTSTAMP:20260424T221010
CREATED:20240311T143325Z
LAST-MODIFIED:20240430T165746Z
UID:3459-1714780800-1714867199@natur-und-heimat.de
SUMMARY:Tageswanderung | Rantzau – Malente
DESCRIPTION:Streckeninformation: Rucksackverpflegung\, evtl. Gruppenticket \nStreckenlänge: ca. 18 km \nTreffen: 08.10 Uhr \nTreffpunkt: Bahnhofshalle/Hintereingang (Zug 08.28 Uhr) \nTourleitung: Iris Toelle \nMobilnummer: 0151/58894910 (Bitte nur während der Wanderung benutzen) \nAls Wanderverein freuen wir uns über Gäste\, die gemeinsam mit uns die Natur erkunden möchten.\nEgal\, ob Sie bereits Mitglied sind oder nicht\, Sie sind herzlich eingeladen\, an unseren Wanderungen teilzunehmen. \nFür Tages- und Halbtagswanderungen erheben wir einen Kostenbeitrag von\n€ 4\,00 pro Person. Für Kurzwanderungen beträgt der Kostenbeitrag lediglich € 2\,00\npro Person.
URL:https://natur-und-heimat.de/event/tageswanderung-rantzau-malente/
CATEGORIES:Wanderungen
END:VEVENT
BEGIN:VEVENT
DTSTART;VALUE=DATE:20240508
DTEND;VALUE=DATE:20240509
DTSTAMP:20260424T221010
CREATED:20240311T143702Z
LAST-MODIFIED:20240430T165746Z
UID:3461-1715126400-1715212799@natur-und-heimat.de
SUMMARY:Halbtagswanderung | Niendorf – Reecke
DESCRIPTION:Streckeninformationen: Halbtagswanderung zu Lübecks Naturdenkmalen \nStreckenlänge: ca. 8 km \nTreffen: 09.45 Uhr \nTreffpunkt: Bushaltestelle „Im Schlag“ (ZOB 09.14 Uhr)\, Buslinie 11 \nTourleitung: Silvia Flinker – Tel. 7073576 \nMobilnummer: 0174/6513957 (Bitte nur während der Wanderung benutzen) \nAls Wanderverein freuen wir uns über Gäste\, die gemeinsam mit uns die Natur erkunden möchten.\nEgal\, ob Sie bereits Mitglied sind oder nicht\, Sie sind herzlich eingeladen\, an unseren Wanderungen teilzunehmen. \nFür Tages- und Halbtagswanderungen erheben wir einen Kostenbeitrag von\n€ 4\,00 pro Person. Für Kurzwanderungen beträgt der Kostenbeitrag lediglich € 2\,00\npro Person.
URL:https://natur-und-heimat.de/event/halbtagswanderung-niendorf-reecke/
CATEGORIES:Wanderungen
END:VEVENT
BEGIN:VEVENT
DTSTART;VALUE=DATE:20240511
DTEND;VALUE=DATE:20240512
DTSTAMP:20260424T221010
CREATED:20240311T143947Z
LAST-MODIFIED:20240430T165745Z
UID:3463-1715385600-1715471999@natur-und-heimat.de
SUMMARY:Tagesrundwanderung | Büchen – Siebeneichen – Kl. Pampau
DESCRIPTION:Streckeninformation: Rucksackverpflegung\, evtl. Gruppenticket \nStreckenlänge: ca. 19 km \nTreffen: 08.55 Uhr \nTreffpunkt: Bahnhofshalle/Hintereingang\, ZOB 09.15 Uhr \nTourleitung: Andreas Sassenhagen – Tel. 2034832 \nMobilnummer: 0162/8581577 (Bitte nur während der Wanderung benutzen) \nAls Wanderverein freuen wir uns über Gäste\, die gemeinsam mit uns die Natur erkunden möchten.\nEgal\, ob Sie bereits Mitglied sind oder nicht\, Sie sind herzlich eingeladen\, an unseren Wanderungen teilzunehmen. \nFür Tages- und Halbtagswanderungen erheben wir einen Kostenbeitrag von\n€ 4\,00 pro Person. Für Kurzwanderungen beträgt der Kostenbeitrag lediglich € 2\,00\npro Person.
URL:https://natur-und-heimat.de/event/tagesrundwanderung-buechen-siebeneichen-kl-pampau/
CATEGORIES:Wanderungen
END:VEVENT
BEGIN:VEVENT
DTSTART;VALUE=DATE:20240515
DTEND;VALUE=DATE:20240516
DTSTAMP:20260424T221010
CREATED:20240311T180015Z
LAST-MODIFIED:20240430T165745Z
UID:3465-1715731200-1715817599@natur-und-heimat.de
SUMMARY:Halbtagswanderung | Dummersdorfer Ufer – Am Stau
DESCRIPTION:Streckenlänge: ca. 10 km \nTreffen: 09.39 Uhr \nTreffpunkt: Haltestelle „Hirtenbergweg.“\, Buslinie 32 (ZOB 09.02 Uhr) \nTourleitung: Christa Neubeck – Tel. 495741 \nAls Wanderverein freuen wir uns über Gäste\, die gemeinsam mit uns die Natur erkunden möchten.\nEgal\, ob Sie bereits Mitglied sind oder nicht\, Sie sind herzlich eingeladen\, an unseren Wanderungen teilzunehmen. \nFür Tages- und Halbtagswanderungen erheben wir einen Kostenbeitrag von\n€ 4\,00 pro Person. Für Kurzwanderungen beträgt der Kostenbeitrag lediglich € 2\,00\npro Person.
URL:https://natur-und-heimat.de/event/halbtagswanderung-dummersdorfer-ufer-am-stau/
CATEGORIES:Wanderungen
END:VEVENT
BEGIN:VEVENT
DTSTART;VALUE=DATE:20240516
DTEND;VALUE=DATE:20240517
DTSTAMP:20260424T221010
CREATED:20240311T180545Z
LAST-MODIFIED:20240516T092146Z
UID:3467-1715817600-1715903999@natur-und-heimat.de
SUMMARY:Kurzwanderung | Stadtpark – Eschenburgpark (Blauglockenbaum u. blühender Taschentuchbaum)
DESCRIPTION:Streckeninformationen: Kaffeeeinkehr „Café Moni“ \nStreckenlänge: ca. 5 km \nTreffen: 13.35 Uhr \nTreffpunkt: Haltestelle „Roeckstr.“\, Mehrere Buslinien \nTourleitung: Ilse Gerlach – Tel. 404820 \nAls Wanderverein freuen wir uns über Gäste\, die gemeinsam mit uns die Natur erkunden möchten.\nEgal\, ob Sie bereits Mitglied sind oder nicht\, Sie sind herzlich eingeladen\, an unseren Wanderungen teilzunehmen. \nFür Tages- und Halbtagswanderungen erheben wir einen Kostenbeitrag von\n€ 4\,00 pro Person. Für Kurzwanderungen beträgt der Kostenbeitrag lediglich € 2\,00\npro Person.
URL:https://natur-und-heimat.de/event/kurzwanderung-stadtpark-eschenburgpark-blauglockenbaum-u-bluehender-taschentuchbaum/
CATEGORIES:Wanderungen
END:VEVENT
BEGIN:VEVENT
DTSTART;VALUE=DATE:20240518
DTEND;VALUE=DATE:20240519
DTSTAMP:20260424T221010
CREATED:20240312T104354Z
LAST-MODIFIED:20240430T165745Z
UID:3470-1715990400-1716076799@natur-und-heimat.de
SUMMARY:Tagesrundwanderung | Leonorenwald – Aussicht Hoher Schönberg – Schloss Bothmer
DESCRIPTION:Streckeninformation: Rucksackverpflegung\, evtl. Café\, evtl. Gruppenticket \nStreckenlänge: ca. 17 km \nTreffen: 08.45 Uhr \nTreffpunkt: Bahnhofshalle/Hintereingang (Zug 09.03 Uhr) \nTourleitung: Iris Toelle \nMobilnummer: 0151/58894910 (Bitte nur während der Wanderung benutzen) \nAls Wanderverein freuen wir uns über Gäste\, die gemeinsam mit uns die Natur erkunden möchten.\nEgal\, ob Sie bereits Mitglied sind oder nicht\, Sie sind herzlich eingeladen\, an unseren Wanderungen teilzunehmen. \nFür Tages- und Halbtagswanderungen erheben wir einen Kostenbeitrag von\n€ 4\,00 pro Person. Für Kurzwanderungen beträgt der Kostenbeitrag lediglich € 2\,00\npro Person.
URL:https://natur-und-heimat.de/event/tagesrundwanderung-leonorenwald-aussicht-hoher-schoenberg-schloss-bothmer/
CATEGORIES:Wanderungen
END:VEVENT
BEGIN:VEVENT
DTSTART;VALUE=DATE:20240522
DTEND;VALUE=DATE:20240523
DTSTAMP:20260424T221010
CREATED:20240312T104649Z
LAST-MODIFIED:20240430T165745Z
UID:3472-1716336000-1716422399@natur-und-heimat.de
SUMMARY:Halbtagswanderung | Rund um Genin
DESCRIPTION:Streckenlänge: ca. 9 km \nTreffen: 10.00 Uhr \nTreffpunkt: Bushaltestelle „Verwaltungszentrum Mühlentor“ (ZOB 09.14 Uhr)\, mehrere Buslinien \nTourleitung: Silvia Flinker – Tel. 7073576 \nMobilnummer: 0174/6513957 (Bitte nur während der Wanderung benutzen) \nAls Wanderverein freuen wir uns über Gäste\, die gemeinsam mit uns die Natur erkunden möchten.\nEgal\, ob Sie bereits Mitglied sind oder nicht\, Sie sind herzlich eingeladen\, an unseren Wanderungen teilzunehmen. \nFür Tages- und Halbtagswanderungen erheben wir einen Kostenbeitrag von\n€ 4\,00 pro Person. Für Kurzwanderungen beträgt der Kostenbeitrag lediglich € 2\,00\npro Person.
URL:https://natur-und-heimat.de/event/halbtagswanderung-rund-um-genin/
CATEGORIES:Wanderungen
END:VEVENT
BEGIN:VEVENT
DTSTART;VALUE=DATE:20240525
DTEND;VALUE=DATE:20240526
DTSTAMP:20260424T221010
CREATED:20240312T105112Z
LAST-MODIFIED:20240430T165745Z
UID:3475-1716595200-1716681599@natur-und-heimat.de
SUMMARY:Tagesausflug | Hamburg: Botanischer Garten – Jänisch Park
DESCRIPTION:Streckeninformationen: Rucksackverpflegung\, evtl. Gruppenticket \nTreffen: 08.50 Uhr \nTreffpunkt: Bahnhofshalle/Hintereingang\, Zug 09.09 Uhr \nTourleitung: Christa Neubeck – Tel. 495741 \nAls Wanderverein freuen wir uns über Gäste\, die gemeinsam mit uns die Natur erkunden möchten.\nEgal\, ob Sie bereits Mitglied sind oder nicht\, Sie sind herzlich eingeladen\, an unseren Wanderungen teilzunehmen. \nFür Tages- und Halbtagswanderungen erheben wir einen Kostenbeitrag von\n€ 4\,00 pro Person. Für Kurzwanderungen beträgt der Kostenbeitrag lediglich € 2\,00\npro Person.
URL:https://natur-und-heimat.de/event/tagesausflug-hamburg-botanischer-garten-jaenisch-park/
CATEGORIES:Wanderungen
END:VEVENT
BEGIN:VEVENT
DTSTART;VALUE=DATE:20240529
DTEND;VALUE=DATE:20240530
DTSTAMP:20260424T221010
CREATED:20240312T110401Z
LAST-MODIFIED:20240430T165745Z
UID:3477-1716940800-1717027199@natur-und-heimat.de
SUMMARY:Kurzwanderung | Eichholz – Müggenbusch
DESCRIPTION:Streckeninformationen: Vortrag über den Zustand der Lübecker\nWälder\, anschließend Wildessen (18\,- €\, vegetarisch möglich). Anmeldung bis 09.05.2024 \nStreckenlänge: ca. 6 km \nTreffen: 09.55 Uhr \nTreffpunkt: Haltestelle „Dieselstr.“\, Buslinie 5 (ZOB 09.36 Uhr) \nTourleitung: Hartmut Stöven – Tel. 0152/27537756 \nAls Wanderverein freuen wir uns über Gäste\, die gemeinsam mit uns die Natur erkunden möchten.\nEgal\, ob Sie bereits Mitglied sind oder nicht\, Sie sind herzlich eingeladen\, an unseren Wanderungen teilzunehmen. \nFür Tages- und Halbtagswanderungen erheben wir einen Kostenbeitrag von\n€ 4\,00 pro Person. Für Kurzwanderungen beträgt der Kostenbeitrag lediglich € 2\,00\npro Person.
URL:https://natur-und-heimat.de/event/kurzwanderung-eichholz-mueggenbusch-2/
CATEGORIES:Wanderungen
END:VEVENT
BEGIN:VEVENT
DTSTART;VALUE=DATE:20240530
DTEND;VALUE=DATE:20240531
DTSTAMP:20260424T221010
CREATED:20240312T111304Z
LAST-MODIFIED:20240524T102423Z
UID:3480-1717027200-1717113599@natur-und-heimat.de
SUMMARY:Kurzwanderung | Schanzenberg – Buchholz (Ratzeburger See)
DESCRIPTION:Streckeninformation: Mit der AWO \nTreffen: 13.36 Uhr \nTreffpunkt: „Schanzenberg”\, Buslinie 8720 (ZOB 13.09 Uhr) \nTourleitung: Hilde Veltman – Tel. 604700 \nMobilnummer: 0157/88293969 (Bitte nur während der Wanderung benutzen) \nAls Wanderverein freuen wir uns über Gäste\, die gemeinsam mit uns die Natur erkunden möchten.\nEgal\, ob Sie bereits Mitglied sind oder nicht\, Sie sind herzlich eingeladen\, an unseren Wanderungen teilzunehmen. \nFür Tages- und Halbtagswanderungen erheben wir einen Kostenbeitrag von\n€ 4\,00 pro Person. Für Kurzwanderungen beträgt der Kostenbeitrag lediglich € 2\,00\npro Person.
URL:https://natur-und-heimat.de/event/tageswanderung-schanzenberg-buchholz-ratzeburger-see/
CATEGORIES:Wanderungen
END:VEVENT
END:VCALENDAR