BEGIN:VCALENDAR
VERSION:2.0
PRODID:-//Natur und Heimat e. V. - ECPv6.15.17.1//NONSGML v1.0//EN
CALSCALE:GREGORIAN
METHOD:PUBLISH
X-WR-CALNAME:Natur und Heimat e. V.
X-ORIGINAL-URL:https://natur-und-heimat.de
X-WR-CALDESC:Veranstaltungen für Natur und Heimat e. V.
REFRESH-INTERVAL;VALUE=DURATION:PT1H
X-Robots-Tag:noindex
X-PUBLISHED-TTL:PT1H
BEGIN:VTIMEZONE
TZID:UTC
BEGIN:STANDARD
TZOFFSETFROM:+0000
TZOFFSETTO:+0000
TZNAME:UTC
DTSTART:20220101T000000
END:STANDARD
END:VTIMEZONE
BEGIN:VEVENT
DTSTART;VALUE=DATE:20230902
DTEND;VALUE=DATE:20230903
DTSTAMP:20260425T104758
CREATED:20230701T143401Z
LAST-MODIFIED:20240430T165750Z
UID:2079-1693612800-1693699199@natur-und-heimat.de
SUMMARY:Tageswanderung | Wohldorfer Wald
DESCRIPTION:Streckeninformation: Rund um Ohlsted\, Rucksackverpflegung\, evtl. Gruppenticket \nStreckenlänge: ca. 18 km \nTreffen: 08.45 Uhr \nTreffpunkt: Bahnhofshalle/Hintereingang\, Zug 09.10 Uhr \nTourleitung: Silvia Flinker – Tel. 7073576 \nMobilnummer: 0174/6513957 (Bitte nur während der Wanderung benutzen) \nAls Wanderverein freuen wir uns über Gäste\, die gemeinsam mit uns die Natur erkunden möchten.\nEgal\, ob Sie bereits Mitglied sind oder nicht\, Sie sind herzlich eingeladen\, an unseren Wanderungen teilzunehmen. \nFür Tages- und Halbtagswanderungen erheben wir einen Kostenbeitrag von\n€ 4\,00 pro Person. Für Kurzwanderungen beträgt der Kostenbeitrag lediglich € 2\,00\npro Person.
URL:https://natur-und-heimat.de/event/tageswanderung-wohldorfer-wald/
CATEGORIES:Wanderungen
END:VEVENT
BEGIN:VEVENT
DTSTART;TZID=UTC:20230906T110000
DTEND;TZID=UTC:20230906T113000
DTSTAMP:20260425T104758
CREATED:20230701T143711Z
LAST-MODIFIED:20240430T165750Z
UID:2081-1693998000-1693999800@natur-und-heimat.de
SUMMARY:Tageswanderung | Herrnburg - Müggenbusch
DESCRIPTION:Treffen: 11.13 Uhr \nTreffpunkt: Bahnhof Herrnburg (Zug ab HL 11.03 Uhr) \nTourleitung: Friedel Mark – Tel. 7060274 \nMobilnummer: 0157/38401814 (Bitte nur während der Wanderung benutzen) \nAls Wanderverein freuen wir uns über Gäste\, die gemeinsam mit uns die Natur erkunden möchten.\nEgal\, ob Sie bereits Mitglied sind oder nicht\, Sie sind herzlich eingeladen\, an unseren Wanderungen teilzunehmen. \nFür Tages- und Halbtagswanderungen erheben wir einen Kostenbeitrag von\n€ 4\,00 pro Person. Für Kurzwanderungen beträgt der Kostenbeitrag lediglich € 2\,00\npro Person.
URL:https://natur-und-heimat.de/event/tageswanderung-herrnburg-mueggenbusch/
CATEGORIES:Wanderungen
END:VEVENT
BEGIN:VEVENT
DTSTART;TZID=UTC:20230906T120000
DTEND;TZID=UTC:20230906T123000
DTSTAMP:20260425T104758
CREATED:20230701T144044Z
LAST-MODIFIED:20240430T165750Z
UID:2084-1694001600-1694003400@natur-und-heimat.de
SUMMARY:Halbtagswanderung | Kronsforder Landstraße - Müggenbusch
DESCRIPTION:Streckenlänge: ca. 9 km \nTreffen: 11.45 Uhr \nTreffpunkt: Haltestelle „Schiereichenkoppel“\, Buslinie 16 (ZOB 11.26 Uhr) \nTourleitung: Iris Toelle \nMobilnummer: 0151/58894910 (Bitte nur während der Wanderung benutzen) \nAls Wanderverein freuen wir uns über Gäste\, die gemeinsam mit uns die Natur erkunden möchten.\nEgal\, ob Sie bereits Mitglied sind oder nicht\, Sie sind herzlich eingeladen\, an unseren Wanderungen teilzunehmen. \nFür Tages- und Halbtagswanderungen erheben wir einen Kostenbeitrag von\n€ 4\,00 pro Person. Für Kurzwanderungen beträgt der Kostenbeitrag lediglich € 2\,00\npro Person.
URL:https://natur-und-heimat.de/event/halbtagswanderung-kronsforder-landstrasse-mueggenbusch/
CATEGORIES:Wanderungen
END:VEVENT
BEGIN:VEVENT
DTSTART;TZID=UTC:20230906T130000
DTEND;TZID=UTC:20230906T140000
DTSTAMP:20260425T104758
CREATED:20230701T144449Z
LAST-MODIFIED:20240430T165750Z
UID:2086-1694005200-1694008800@natur-und-heimat.de
SUMMARY:Kurzwanderung | Eichholz - Müggenbusch
DESCRIPTION:Treffen: 13.30 Uhr \nTreffpunkt: Haltestelle „Dieselstr.“\, Buslinie 5 (ZOB 13.04 Uhr) \nTourleitung: Heidi Schlichting – Tel. 497849 \nMobilnummer: 0176/34612097 (Bitte nur während der Wanderung benutzen) \nAls Wanderverein freuen wir uns über Gäste\, die gemeinsam mit uns die Natur erkunden möchten.\nEgal\, ob Sie bereits Mitglied sind oder nicht\, Sie sind herzlich eingeladen\, an unseren Wanderungen teilzunehmen. \nFür Tages- und Halbtagswanderungen erheben wir einen Kostenbeitrag von\n€ 4\,00 pro Person. Für Kurzwanderungen beträgt der Kostenbeitrag lediglich € 2\,00\npro Person.
URL:https://natur-und-heimat.de/event/kurzwanderung-eichholz-mueggenbusch/
CATEGORIES:Wanderungen
END:VEVENT
BEGIN:VEVENT
DTSTART;VALUE=DATE:20230909
DTEND;VALUE=DATE:20230910
DTSTAMP:20260425T104758
CREATED:20230701T145547Z
LAST-MODIFIED:20240430T165750Z
UID:2089-1694217600-1694303999@natur-und-heimat.de
SUMMARY:Tageswanderung | Grieben - Grevesmühlen
DESCRIPTION:Streckeninformation: Rucksackverpflegung\, evtl. Gruppenticket \nStreckenlänge : ca. 18 km \nTreffen: 09.45 Uhr \nTreffpunkt: Bahnhofshalle/Hintereingang (Zug 10.02 Uhr) \nTourleitung: Gudrun Meßfeld – Tel. 493844 \nMobilnummer: 0152/02981266 (Bitte nur während der Wanderung benutzen) \nAls Wanderverein freuen wir uns über Gäste\, die gemeinsam mit uns die Natur erkunden möchten.\nEgal\, ob Sie bereits Mitglied sind oder nicht\, Sie sind herzlich eingeladen\, an unseren Wanderungen teilzunehmen. \nFür Tages- und Halbtagswanderungen erheben wir einen Kostenbeitrag von\n€ 4\,00 pro Person. Für Kurzwanderungen beträgt der Kostenbeitrag lediglich € 2\,00 pro Person.
URL:https://natur-und-heimat.de/event/tageswanderung-grieben-grevesmuehlen/
CATEGORIES:Wanderungen
END:VEVENT
BEGIN:VEVENT
DTSTART;VALUE=DATE:20230913
DTEND;VALUE=DATE:20230914
DTSTAMP:20260425T104758
CREATED:20230701T145727Z
LAST-MODIFIED:20240430T165750Z
UID:2091-1694563200-1694649599@natur-und-heimat.de
SUMMARY:Halbtagsrundwanderung | Groß Steinrade - Hohenleuchte - Schönböcken
DESCRIPTION:Streckenlänge : ca. 10 km \nTreffen: 09.20 Uhr \nTreffpunkt: Haltestelle „Steinrader Teich“\, Buslinie 2 (ZOB. 09.04 Uhr) \nTourleitung: Gudrun Meßfeld – Tel. 493844 \nMobilnummer: 0152/02981266 (Bitte nur während der Wanderung benutzen) \nAls Wanderverein freuen wir uns über Gäste\, die gemeinsam mit uns die Natur erkunden möchten.\nEgal\, ob Sie bereits Mitglied sind oder nicht\, Sie sind herzlich eingeladen\, an unseren Wanderungen teilzunehmen. \nFür Tages- und Halbtagswanderungen erheben wir einen Kostenbeitrag von\n€ 4\,00 pro Person. Für Kurzwanderungen beträgt der Kostenbeitrag lediglich € 2\,00 \npro Person.
URL:https://natur-und-heimat.de/event/halbtagsrundwanderung-gross-steinrade-hohenleuchte-schoenboecken/
CATEGORIES:Wanderungen
END:VEVENT
BEGIN:VEVENT
DTSTART;VALUE=DATE:20230914
DTEND;VALUE=DATE:20230915
DTSTAMP:20260425T104758
CREATED:20230701T150212Z
LAST-MODIFIED:20240430T165750Z
UID:2095-1694649600-1694735999@natur-und-heimat.de
SUMMARY:Kutschenmuseum
DESCRIPTION:Streckeninformation: Wakenitzmauer 32-36: Besichtigung Pferdewagen\, Wagen-Schlitten\,\nReiseutensilien des letzten Jahrhunderts\, Anmeldung (begrenzte Teilnehmerzahl) bis 28.08 \nTreffen: 10.30 Uhr\nTourleitung: Karin Luther – Tel. 98930252 \nAls Wanderverein freuen wir uns über Gäste\, die gemeinsam mit uns die Natur erkunden möchten.  Egal\, ob Sie bereitsMitglied sind oder nicht\, Sie sind herzlich eingeladen\, an unseren Wanderungen teilzunehmen. \nFür Tages- und Halbtagswanderungen erheben wir einen Kostenbeitrag von\n€ 4\,00 pro Person. Für Kurzwanderungen beträgt der Kostenbeitrag lediglich € 2\,00\npro Person.
URL:https://natur-und-heimat.de/event/kutschenmuseum/
CATEGORIES:Wanderungen
END:VEVENT
BEGIN:VEVENT
DTSTART;VALUE=DATE:20230916
DTEND;VALUE=DATE:20230917
DTSTAMP:20260425T104758
CREATED:20230701T150950Z
LAST-MODIFIED:20240430T165750Z
UID:2098-1694822400-1694908799@natur-und-heimat.de
SUMMARY:Tagesrundwanderung | PIön - Bosau
DESCRIPTION:Streckeninformation: Bademöglichkeit\, Rucksackverpflegung\, evtl.\nKaffeeeinkehr\, ab Bosau per Schiff mit Gruppenticket zur Prinzeninsel\, evtl.\nGruppenticket Zug \nStreckenlänge: ca. 15 km \nTreffen: 08.45 Uhr \nTreffpunkt: Bahnhofshalle/Hintereingang\, Zug 09.06 Uhr \nTourleitung: Christa Neubeck – Tel. 495741 \nAls Wanderverein freuen wir uns über Gäste\, die gemeinsam mit uns die Natur erkunden möchten.\nEgal\, ob Sie bereits Mitglied sind oder nicht\, Sie sind herzlich eingeladen\, an unseren Wanderungen teilzunehmen. \nFür Tages- und Halbtagswanderungen erheben wir einen Kostenbeitrag von\n€ 4\,00 pro Person. Für Kurzwanderungen beträgt der Kostenbeitrag lediglich € 2\,00\npro Person.
URL:https://natur-und-heimat.de/event/tagesrundwanderung-pioen-bosau/
CATEGORIES:Wanderungen
END:VEVENT
BEGIN:VEVENT
DTSTART;VALUE=DATE:20230920
DTEND;VALUE=DATE:20230921
DTSTAMP:20260425T104758
CREATED:20230701T152110Z
LAST-MODIFIED:20240430T165750Z
UID:2102-1695168000-1695254399@natur-und-heimat.de
SUMMARY:Halbtagswanderung | Gustav-Radbruch-Platz - Grönauer Baum
DESCRIPTION:Treffen: 09.30 Uhr \nTreffpunkt: Gustav-Radbruch-Platz\, mehrere Buslinien  \nTourleitung: Heidi Schlichting – Tel. 497849 \nMobilnummer: 0176/34612097 (Bitte nur während der Wanderung benutzen) \nAls Wanderverein freuen wir uns über Gäste\, die gemeinsam mit uns die Natur erkunden möchten.\nEgal\, ob Sie bereits Mitglied sind oder nicht\, Sie sind herzlich eingeladen\, an unseren Wanderungen teilzunehmen. \nFür Tages- und Halbtagswanderungen erheben wir einen Kostenbeitrag von\n€ 4\,00 pro Person. Für Kurzwanderungen beträgt der Kostenbeitrag lediglich € 2\,00\npro Person.
URL:https://natur-und-heimat.de/event/halbtagswanderung-gustav-radbruch-platz-groenauer-baum/
CATEGORIES:Wanderungen
END:VEVENT
BEGIN:VEVENT
DTSTART;VALUE=DATE:20230923
DTEND;VALUE=DATE:20230924
DTSTAMP:20260425T104758
CREATED:20230701T152253Z
LAST-MODIFIED:20240430T165750Z
UID:2104-1695427200-1695513599@natur-und-heimat.de
SUMMARY:Tageswanderung | Lauenburg - Hohes Elbufer-Tesperhude
DESCRIPTION:Streckeninformation: Rucksackverpflegung\, evtl. Gruppenticket \nStreckenlänge: ca. 17 km \nTreffen: 08.45 Uhr \nTreffpunkt: Bahnhofshalle/Hintereingang\, Zug 09.09 Uhr \nTourleitung: Silvia Flinker – Tel. 7073576 \nMobilnummer: 0174/6513957 (Bitte nur während der Wanderung benutzen) \nAls Wanderverein freuen wir uns über Gäste\, die gemeinsam mit uns die Natur erkunden möchten.\nEgal\, ob Sie bereits Mitglied sind oder nicht\, Sie sind herzlich eingeladen\, an unseren Wanderungen teilzunehmen. \nFür Tages- und Halbtagswanderungen erheben wir einen Kostenbeitrag von\n€ 4\,00 pro Person. Für Kurzwanderungen beträgt der Kostenbeitrag lediglich € 2\,00\npro Person.
URL:https://natur-und-heimat.de/event/tageswanderung-lauenburg-hohes-elbufer-tesperhude/
CATEGORIES:Wanderungen
END:VEVENT
BEGIN:VEVENT
DTSTART;TZID=UTC:20230925T000000
DTEND;TZID=UTC:20231002T233000
DTSTAMP:20260425T104758
CREATED:20230703T101259Z
LAST-MODIFIED:20240309T173533Z
UID:2129-1695600000-1696289400@natur-und-heimat.de
SUMMARY:Wanderreisen | Wanderwoche Oberhof / Thüringer Wald
DESCRIPTION:Reiseinformation: Hotel mit Frühstücksbüffet und Abendessen\, Lunchpaket\n(Brötchen\, Obst & Getränke)\, Sauna / Wellness / Schwimmbad \nKosten: DZ zur Einzelnutzung 575\,00 €; DZ Standard 18 m² 2. OG 470\,00 €;\nDZ Classic 24 m² 1. OG / EG 505\,00 € – jeweils incl. Kurtaxe\, Bahnanreise (4 Umstiege) Deutschlandticket\, evtl. Gruppenticket (bei Anmeldungangeben) \nZeitraum: 22.08.2023 – 24.08.2023 \nReiseleitung: Iris Toelle – 0151/58894910 \nVerbindliche schriftliche Anmeldung bei lris Toelle\, Mönkhofer Weg\n118\, 23562 Lübeck\, E-Mail : i.toelle@t-online.de \nMitglieder des Vereins Natur und Heimat e.V. in Lübeck werden bevorzugt behandelt und haben ein Anrecht\nauf einen Platz an der Wanderreise\, natürlich sind Gäste ebenfalls willkommen.
URL:https://natur-und-heimat.de/event/wanderreisen-wanderwoche-oberhof-thueringer-wald/
CATEGORIES:Wanderreise
END:VEVENT
BEGIN:VEVENT
DTSTART;VALUE=DATE:20230927
DTEND;VALUE=DATE:20230928
DTSTAMP:20260425T104758
CREATED:20230701T152404Z
LAST-MODIFIED:20240430T165750Z
UID:2106-1695772800-1695859199@natur-und-heimat.de
SUMMARY:Halbtagsrundwanderung | Eutin - Sibbersdorfer See
DESCRIPTION:Streckeninformation: Bademöglichkeit\, Rucksackverpflegung\, evtl. Gruppenticket \nStreckenlänge: ca. 11 km \nTreffen: 09.10 Uhr \nTreffpunkt: Bahnhofshalle/Hintereingang\, Zug 09.28 Uhr \nTourleitung: Andreas Sassenhagen – Tel. 2034832 \nMobilnummer: 0162/8581577 (Bitte nur während der Wanderung benutzen) \nAls Wanderverein freuen wir uns über Gäste\, die gemeinsam mit uns die Natur erkunden möchten.\nEgal\, ob Sie bereits Mitglied sind oder nicht\, Sie sind herzlich eingeladen\, an unseren Wanderungen teilzunehmen. \nFür Tages- und Halbtagswanderungen erheben wir einen Kostenbeitrag von\n€ 4\,00 pro Person. Für Kurzwanderungen beträgt der Kostenbeitrag lediglich € 2\,00\npro Person.
URL:https://natur-und-heimat.de/event/halbtagsrundwanderung-eutin-sibbersdorfer-see/
CATEGORIES:Wanderungen
END:VEVENT
BEGIN:VEVENT
DTSTART;VALUE=DATE:20230928
DTEND;VALUE=DATE:20230929
DTSTAMP:20260425T104758
CREATED:20230701T152532Z
LAST-MODIFIED:20240430T165750Z
UID:2109-1695859200-1695945599@natur-und-heimat.de
SUMMARY:Kurzwanderung | Zum Bismarckturm nach Parin
DESCRIPTION:Streckeninformation: Mit der AWO. Zum Bismarckturm nach Parin \nStreckenlänge: ca. 15 km \nTreffen: 14.00 Uhr \nTreffpunkt: Haltestelle „Mozartstr. Rensefeld“\, Buslinie 1 (ZOB 13.28 Uhr) \nTourleitung: Hilde Veltman – Tel. 604700 \nMobilnummer: 0157/88293969 (Bitte nur während der Wanderung benutzen) \nAls Wanderverein freuen wir uns über Gäste\, die gemeinsam mit uns die Natur erkunden möchten.\nEgal\, ob Sie bereits Mitglied sind oder nicht\, Sie sind herzlich eingeladen\, an unseren Wanderungen teilzunehmen. \nFür Tages- und Halbtagswanderungen erheben wir einen Kostenbeitrag von\n€ 4\,00 pro Person. Für Kurzwanderungen beträgt der Kostenbeitrag lediglich € 2\,00\npro Person.
URL:https://natur-und-heimat.de/event/kurzwanderung-zum-bismarckturm-nach-parin/
CATEGORIES:Wanderungen
END:VEVENT
BEGIN:VEVENT
DTSTART;VALUE=DATE:20230930
DTEND;VALUE=DATE:20231001
DTSTAMP:20260425T104759
CREATED:20230701T152946Z
LAST-MODIFIED:20240430T165750Z
UID:2113-1696032000-1696118399@natur-und-heimat.de
SUMMARY:Tagesrundwanderung | Stöllnitz - Bentin - Woez
DESCRIPTION:Streckeninformation: Rucksackverpflegung\, Anfahrt mit Privat-Pkw (Fahrkostenbeteiligung) \nStreckenlänge: ca. 16 km \nTreffen: 09.05 Uhr \nTreffpunkt: Forsthof Wesloe\, Buslinie 11 (ZOB 08.38 Uhr) \nTourleitung: Friedel Mark – Tel. 7060274 \nMobilnummer: 0157/38401814 (Bitte nur während der Wanderung benutzen) \nAls Wanderverein freuen wir uns über Gäste\, die gemeinsam mit uns die Natur erkunden möchten.\nEgal\, ob Sie bereits Mitglied sind oder nicht\, Sie sind herzlich eingeladen\, an unseren Wanderungen teilzunehmen. \nFür Tages- und Halbtagswanderungen erheben wir einen Kostenbeitrag von\n€ 4\,00 pro Person. Für Kurzwanderungen beträgt der Kostenbeitrag lediglich € 2\,00\npro Person.
URL:https://natur-und-heimat.de/event/tagesrundwanderung-stoellnitz-bentin-woez/
CATEGORIES:Wanderungen
END:VEVENT
END:VCALENDAR