BEGIN:VCALENDAR
VERSION:2.0
PRODID:-//Natur und Heimat e. V. - ECPv6.15.17.1//NONSGML v1.0//EN
CALSCALE:GREGORIAN
METHOD:PUBLISH
X-ORIGINAL-URL:https://natur-und-heimat.de
X-WR-CALDESC:Veranstaltungen für Natur und Heimat e. V.
REFRESH-INTERVAL;VALUE=DURATION:PT1H
X-Robots-Tag:noindex
X-PUBLISHED-TTL:PT1H
BEGIN:VTIMEZONE
TZID:UTC
BEGIN:STANDARD
TZOFFSETFROM:+0000
TZOFFSETTO:+0000
TZNAME:UTC
DTSTART:20220101T000000
END:STANDARD
END:VTIMEZONE
BEGIN:VEVENT
DTSTART;VALUE=DATE:20230802
DTEND;VALUE=DATE:20230803
DTSTAMP:20260425T122025
CREATED:20230701T135121Z
LAST-MODIFIED:20240309T173534Z
UID:2045-1690934400-1691020799@natur-und-heimat.de
SUMMARY:Halbtagswanderung | Haffkrug - Neustadt Hafen
DESCRIPTION:Streckeninformation: Einkehrmöglichkeit Hafen\, evtl. Gruppenticket \nStreckenlänge: ca. 11 km \nTreffen: 08.50 Uhr \nTreffpunkt: Bahnhofshalle/Hintereingang\, Zug 09.12 Uhr \nTourleitung: Iris Toelle \nMobilnummer: 0151/58894910 (Bitte nur während der Wanderung benutzen) \nAls Wanderverein freuen wir uns über Gäste\, die gemeinsam mit uns die Natur erkunden möchten.\nEgal\, ob Sie bereits Mitglied sind oder nicht\, Sie sind herzlich eingeladen\, an unseren Wanderungen teilzunehmen. \nFür Tages- und Halbtagswanderungen erheben wir einen Kostenbeitrag von\n€ 4\,00 pro Person. Für Kurzwanderungen beträgt der Kostenbeitrag lediglich € 2\,00\npro Person.
URL:https://natur-und-heimat.de/event/halbtagswanderung-haffkrug-neustadt-hafen/
END:VEVENT
BEGIN:VEVENT
DTSTART;VALUE=DATE:20230805
DTEND;VALUE=DATE:20230806
DTSTAMP:20260425T122025
CREATED:20230701T135508Z
LAST-MODIFIED:20240309T173533Z
UID:2047-1691193600-1691279999@natur-und-heimat.de
SUMMARY:Tageswanderung | Bad Doberan - Kühlungsborn
DESCRIPTION:Streckeninformation: Rückweg mit „Molli“\, Rucksackverpflegung\, evtl. Gruppenticket \nStreckenlänge: ca. 15 km \nTreffen: 07.45 Uhr \nTreffpunkt: Bahnhofshalle/Hintereingang\, Zug 08.03 Uhr \nTourleitung: Hilde Veltman – Tel. 604700 \nMobilnummer: 0157/88293969 (Bitte nur während der Wanderung benutzen) \nAls Wanderverein freuen wir uns über Gäste\, die gemeinsam mit uns die Natur erkunden möchten.\nEgal\, ob Sie bereits Mitglied sind oder nicht\, Sie sind herzlich eingeladen\, an unseren Wanderungen teilzunehmen. \nFür Tages- und Halbtagswanderungen erheben wir einen Kostenbeitrag von\n€ 4\,00 pro Person. Für Kurzwanderungen beträgt der Kostenbeitrag lediglich € 2\,00\npro Person.
URL:https://natur-und-heimat.de/event/tageswanderung-bad-doberan-kuehlungsborn/
END:VEVENT
BEGIN:VEVENT
DTSTART;VALUE=DATE:20230809
DTEND;VALUE=DATE:20230810
DTSTAMP:20260425T122025
CREATED:20230701T135822Z
LAST-MODIFIED:20240309T173533Z
UID:2050-1691539200-1691625599@natur-und-heimat.de
SUMMARY:Halbtagsrundwanderung | Bad Schwartau - Sereetz
DESCRIPTION:Streckenlänge: ca. 9 km \nTreffen: 09.30 Uhr \nTreffpunkt: ZOB Bad Schwartau\, mehrere Linien \nTourleitung: Heidi Schlichting – Tel. 497849 \nMobilnummer: 0176/34612097 (Bitte nur während der Wanderung benutzen) \nAls Wanderverein freuen wir uns über Gäste\, die gemeinsam mit uns die Natur erkunden möchten.\nEgal\, ob Sie bereits Mitglied sind oder nicht\, Sie sind herzlich eingeladen\, an unseren Wanderungen teilzunehmen. \nFür Tages- und Halbtagswanderungen erheben wir einen Kostenbeitrag von\n€ 4\,00 pro Person. Für Kurzwanderungen beträgt der Kostenbeitrag lediglich € 2\,00\npro Person.
URL:https://natur-und-heimat.de/event/halbtagsrundwanderung-bad-doberan-kuehlungsborn-copy/
END:VEVENT
BEGIN:VEVENT
DTSTART;VALUE=DATE:20230812
DTEND;VALUE=DATE:20230813
DTSTAMP:20260425T122025
CREATED:20230701T140205Z
LAST-MODIFIED:20240309T173533Z
UID:2053-1691798400-1691884799@natur-und-heimat.de
SUMMARY:Tageswanderung | Schönberg - Schlutup
DESCRIPTION:Streckeninformation: Rucksackverpflegung\, evtl. Gruppenticket \nStreckenlänge: ca. 15 km \nTreffen: 08.45 Uhr \nTreffpunkt: Bahnhofshalle/Hintereingang\, Zug 09.03 \nTourleitung: Silvia Flinker – Tel. 7073576 \nMobilnummer: 0174/6513957 (Bitte nur während der Wanderung benutzen) \nAls Wanderverein freuen wir uns über Gäste\, die gemeinsam mit uns die Natur erkunden möchten.\nEgal\, ob Sie bereits Mitglied sind oder nicht\, Sie sind herzlich eingeladen\, an unseren Wanderungen teilzunehmen. \nFür Tages- und Halbtagswanderungen erheben wir einen Kostenbeitrag von\n€ 4\,00 pro Person. Für Kurzwanderungen beträgt der Kostenbeitrag lediglich € 2\,00\npro Person.
URL:https://natur-und-heimat.de/event/tageswanderung-schoenberg-schlutup/
END:VEVENT
BEGIN:VEVENT
DTSTART;VALUE=DATE:20230813
DTEND;VALUE=DATE:20230814
DTSTAMP:20260425T122025
CREATED:20230701T140603Z
LAST-MODIFIED:20240309T173533Z
UID:2055-1691884800-1691971199@natur-und-heimat.de
SUMMARY:Kurzwanderung
DESCRIPTION:Streckeninformation: Durch das Lauerholz zu Benetts Cafégarten (lsraelsdorf\, Eichenweg 10)\, ca. 5 km\, Heimweg durch das Lustholz möglich (ca.2\,5 km) \nTreffen: 13.20 Uhr \nTreffpunkt: Haltestelle „Wesloer Brücke“\, Buslinie 11 u.a. (ZOB 12.58 Uhr) \nTourleitung: Friedel Mark – Tel. 7060274 \nMobilnummer: 0157/38401814 (Bitte nur während der Wanderung benutzen) \nAls Wanderverein freuen wir uns über Gäste\, die gemeinsam mit uns die Natur erkunden möchten.\nEgal\, ob Sie bereits Mitglied sind oder nicht\, Sie sind herzlich eingeladen\, an unseren Wanderungen teilzunehmen. \nFür Tages- und Halbtagswanderungen erheben wir einen Kostenbeitrag von\n€ 4\,00 pro Person. Für Kurzwanderungen beträgt der Kostenbeitrag lediglich € 2\,00\npro Person.
URL:https://natur-und-heimat.de/event/kurzwanderung/
END:VEVENT
BEGIN:VEVENT
DTSTART;VALUE=DATE:20230816
DTEND;VALUE=DATE:20230817
DTSTAMP:20260425T122025
CREATED:20230701T141019Z
LAST-MODIFIED:20240309T173533Z
UID:2059-1692144000-1692230399@natur-und-heimat.de
SUMMARY:Halbtagsrundwanderung | Lauerholz
DESCRIPTION:Streckenlänge: ca. 12 km \nTreffen: 09.19 Uhr \nTreffpunkt: Haltestelle „Zeppelinstr.“\, Buslinie 32 (ZOB 09.02 Uhr) \nTourleitung: Friedel Mark – Tel. 7060274 \nMobilnummer: 0157/38401814 (Bitte nur während der Wanderung benutzen) \nAls Wanderverein freuen wir uns über Gäste\, die gemeinsam mit uns die Natur erkunden möchten.\nEgal\, ob Sie bereits Mitglied sind oder nicht\, Sie sind herzlich eingeladen\, an unseren Wanderungen teilzunehmen. \nFür Tages- und Halbtagswanderungen erheben wir einen Kostenbeitrag von\n€ 4\,00 pro Person. Für Kurzwanderungen beträgt der Kostenbeitrag lediglich € 2\,00\npro Person.
URL:https://natur-und-heimat.de/event/halbtagsrundwanderung-lauerholz/
END:VEVENT
BEGIN:VEVENT
DTSTART;VALUE=DATE:20230819
DTEND;VALUE=DATE:20230820
DTSTAMP:20260425T122025
CREATED:20230701T141605Z
LAST-MODIFIED:20240309T173533Z
UID:2062-1692403200-1692489599@natur-und-heimat.de
SUMMARY:Tagesrundwanderung | Neustadt - Rettin - Pelzerhaken
DESCRIPTION:Streckeninformation: Bademöglichkeit\, Rucksackverpflegung\, evtl. Gruppenticket \nStreckenlänge: ca. 17 km \nTreffen: 08.50 Uhr \nTreffpunkt: Bahnhofshalle/Hintereingang\, Zug 09.12 Uhr \nTourleitung: Andreas Sassenhagen – Tel. 2034832 \nMobilnummer: 0162/8581577 (Bitte nur während der Wanderung benutzen) \nAls Wanderverein freuen wir uns über Gäste\, die gemeinsam mit uns die Natur erkunden möchten.\nEgal\, ob Sie bereits Mitglied sind oder nicht\, Sie sind herzlich eingeladen\, an unseren Wanderungen teilzunehmen. \nFür Tages- und Halbtagswanderungen erheben wir einen Kostenbeitrag von\n€ 4\,00 pro Person. Für Kurzwanderungen beträgt der Kostenbeitrag lediglich € 2\,00\npro Person.
URL:https://natur-und-heimat.de/event/tagesrundwanderung-neustadt-rettin-pelzerhaken/
END:VEVENT
BEGIN:VEVENT
DTSTART;TZID=UTC:20230822T000000
DTEND;TZID=UTC:20230824T233000
DTSTAMP:20260425T122025
CREATED:20230703T095551Z
LAST-MODIFIED:20240309T173533Z
UID:2116-1692662400-1692919800@natur-und-heimat.de
SUMMARY:Wanderreisen | Drei Tage Stettin
DESCRIPTION:Reiseinformation: Zugreise – Drei Tage Stettin \nKosten: knapp 100.00 € \nZeitraum: 22.08.2023 – 24.08.2023 \nReiseleitung: Friedel Mark – Tel. 7060274 \nMobilnummer: 0157/38401814 \nVerbindliche schriftliche Anmeldung bei Friedel Mark\, Wahmstr. 85\,\n23552 Lübeck\, E-Mail: friedel-mark@web.de. \nVorrang haben alle\, die sich bereits im letzten Jahr angemeldet hatten und die Wederanmeldung bestätigt haben.
URL:https://natur-und-heimat.de/event/wanderreisen-drei-tage-stettin/
CATEGORIES:Wanderreise
END:VEVENT
BEGIN:VEVENT
DTSTART;VALUE=DATE:20230823
DTEND;VALUE=DATE:20230824
DTSTAMP:20260425T122025
CREATED:20230701T142015Z
LAST-MODIFIED:20240309T173533Z
UID:2067-1692748800-1692835199@natur-und-heimat.de
SUMMARY:Gewölbeführung | Marienkirche
DESCRIPTION:Streckeninformation: ca. 2-2 ½ Std.\, 400 Stufen hinauf! Anmeldung (begrenzte Teilnehmerzahl) bis 02.08 \nTreffen: 09.50 Uhr \nTourleitung: Kristine Voigt \nMobilnummer: 0176/78527563 (Bitte nur während der Wanderung benutzen) \nAls Wanderverein freuen wir uns über Gäste\, die gemeinsam mit uns die Natur erkunden möchten.\nEgal\, ob Sie bereits Mitglied sind oder nicht\, Sie sind herzlich eingeladen\, an unseren Wanderungen teilzunehmen. \nFür Tages- und Halbtagswanderungen erheben wir einen Kostenbeitrag von\n€ 4\,00 pro Person. Für Kurzwanderungen beträgt der Kostenbeitrag lediglich € 2\,00\npro Person.
URL:https://natur-und-heimat.de/event/gewoelbefuehrung-marienkirche/
END:VEVENT
BEGIN:VEVENT
DTSTART;VALUE=DATE:20230826
DTEND;VALUE=DATE:20230827
DTSTAMP:20260425T122025
CREATED:20230701T142339Z
LAST-MODIFIED:20240309T173533Z
UID:2070-1693008000-1693094399@natur-und-heimat.de
SUMMARY:Tageswanderung | Heidelandschaft Boberger Düne
DESCRIPTION:Streckeninformation: Rucksackverpflegung\, evtl. Gruppenticket \nStreckenlänge: ca. 16 km \nTreffen: 08.50 Uhr \nTreffpunkt: Bahnhofshalle/Hintereingang\, Zug 09.10 Uhr \nTourleitung: Iris Toelle \nMobilnummer: 0151/58894910 (Bitte nur während der Wanderung benutzen) \nAls Wanderverein freuen wir uns über Gäste\, die gemeinsam mit uns die Natur erkunden möchten.\nEgal\, ob Sie bereits Mitglied sind oder nicht\, Sie sind herzlich eingeladen\, an unseren Wanderungen teilzunehmen. \nFür Tages- und Halbtagswanderungen erheben wir einen Kostenbeitrag von\n€ 4\,00 pro Person. Für Kurzwanderungen beträgt der Kostenbeitrag lediglich € 2\,00\npro Person.
URL:https://natur-und-heimat.de/event/tageswanderung-heidelandschaft-boberger-duene/
END:VEVENT
BEGIN:VEVENT
DTSTART;VALUE=DATE:20230830
DTEND;VALUE=DATE:20230831
DTSTAMP:20260425T122025
CREATED:20230701T142708Z
LAST-MODIFIED:20240309T173533Z
UID:2074-1693353600-1693439999@natur-und-heimat.de
SUMMARY:Halbtagswanderung | Mondwanderung
DESCRIPTION:Streckeninformation: Klein Grönau – Universitätsstraße \nStreckenlänge: ca. 8 km \nTreffen: 18.34 Uhr \nTreffpunkt: Haltestelle „Klein Grönau“\, Buslinie 4 (Sandstr. 18.14 Uhr) \nTourleitung: Iris Toelle \nMobilnummer: 0151/58894910 (Bitte nur während der Wanderung benutzen) \nAls Wanderverein freuen wir uns über Gäste\, die gemeinsam mit uns die Natur erkunden möchten.\nEgal\, ob Sie bereits Mitglied sind oder nicht\, Sie sind herzlich eingeladen\, an unseren Wanderungen teilzunehmen. \nFür Tages- und Halbtagswanderungen erheben wir einen Kostenbeitrag von\n€ 4\,00 pro Person. Für Kurzwanderungen beträgt der Kostenbeitrag lediglich € 2\,00\npro Person.
URL:https://natur-und-heimat.de/event/halbtagswanderung-mondwanderung/
END:VEVENT
BEGIN:VEVENT
DTSTART;VALUE=DATE:20230831
DTEND;VALUE=DATE:20230901
DTSTAMP:20260425T122025
CREATED:20230701T143100Z
LAST-MODIFIED:20240430T165750Z
UID:2076-1693440000-1693526399@natur-und-heimat.de
SUMMARY:Kurzwanderung | Mit der AWO
DESCRIPTION:Streckeninformation: Mit der AWO. Am Landgraben entlang \nStreckenlänge: ca. 15 km \nTreffen: 07.45 Uhr \nTreffpunkt: Haltestelle „Reinsbeker Str.“\, Buslinie 9 (ZOB 13.47 Uhr) \nTourleitung: Hilde Veltman – Tel. 604700 \nMobilnummer: 0157/88293969 (Bitte nur während der Wanderung benutzen) \nAls Wanderverein freuen wir uns über Gäste\, die gemeinsam mit uns die Natur erkunden möchten.\nEgal\, ob Sie bereits Mitglied sind oder nicht\, Sie sind herzlich eingeladen\, an unseren Wanderungen teilzunehmen. \nFür Tages- und Halbtagswanderungen erheben wir einen Kostenbeitrag von\n€ 4\,00 pro Person. Für Kurzwanderungen beträgt der Kostenbeitrag lediglich € 2\,00\npro Person.
URL:https://natur-und-heimat.de/event/kurzwanderung-2/
CATEGORIES:Wanderungen
END:VEVENT
END:VCALENDAR