BEGIN:VCALENDAR
VERSION:2.0
PRODID:-//Natur und Heimat e. V. - ECPv6.15.17.1//NONSGML v1.0//EN
CALSCALE:GREGORIAN
METHOD:PUBLISH
X-ORIGINAL-URL:https://natur-und-heimat.de
X-WR-CALDESC:Veranstaltungen für Natur und Heimat e. V.
REFRESH-INTERVAL;VALUE=DURATION:PT1H
X-Robots-Tag:noindex
X-PUBLISHED-TTL:PT1H
BEGIN:VTIMEZONE
TZID:UTC
BEGIN:STANDARD
TZOFFSETFROM:+0000
TZOFFSETTO:+0000
TZNAME:UTC
DTSTART:20220101T000000
END:STANDARD
END:VTIMEZONE
BEGIN:VEVENT
DTSTART;VALUE=DATE:20230701
DTEND;VALUE=DATE:20230702
DTSTAMP:20260425T135326
CREATED:20230630T092452Z
LAST-MODIFIED:20240309T173534Z
UID:1957-1688169600-1688255999@natur-und-heimat.de
SUMMARY:Tagesrundwanderung | Eutin - Ukleisee
DESCRIPTION:Streckeninformation: Rucksackverpflegung\, Bademöglichkeit\, evtl. Gruppenfahrschein \nStreckenlänge : ca. 18 km \nTreffen: 08.45 Uhr \nTreffpunkt: Bahnhofshalle/Hintereingang\, Zug 09.06 Uhr \nTourleitung: Silvia Flinker – Tel. 7073576 \nMobilnummer: 0174/6513957 (Bitte nur während der Wanderung benutzen) \nAls Wanderverein freuen wir uns über Gäste\, die gemeinsam mit uns die Natur erkunden möchten.\nEgal\, ob Sie bereits Mitglied sind oder nicht\, Sie sind herzlich eingeladen\, an unseren Wanderungen teilzunehmen. \nFür Tages- und Halbtagswanderungen erheben wir einen Kostenbeitrag von\n€ 4\,00 pro Person. Für Kurzwanderungen beträgt der Kostenbeitrag lediglich € 2\,00\npro Person.
URL:https://natur-und-heimat.de/event/eutin-ukleisee-tagesrundwanderung/
END:VEVENT
BEGIN:VEVENT
DTSTART;VALUE=DATE:20230705
DTEND;VALUE=DATE:20230706
DTSTAMP:20260425T135326
CREATED:20230701T123503Z
LAST-MODIFIED:20240309T173534Z
UID:2004-1688515200-1688601599@natur-und-heimat.de
SUMMARY:Halbtagswanderung | Um Wulfsdorf
DESCRIPTION:Streckenlänge: ca. 10 km \nTreffen: 09.06 Uhr \nTreffpunkt: Haltestelle „Grönauer Baum“\, Buslinie 6 (ZOB 08.49) \nTourleitung: Silvia Flinker – Tel. 7073576 \nMobilnummer: 0174/6513957 (Bitte nur während der Wanderung benutzen) \nAls Wanderverein freuen wir uns über Gäste\, die gemeinsam mit uns die Natur erkunden möchten.\nEgal\, ob Sie bereits Mitglied sind oder nicht\, Sie sind herzlich eingeladen\, an unseren Wanderungen teilzunehmen. \nFür Tages- und Halbtagswanderungen erheben wir einen Kostenbeitrag von\n€ 4\,00 pro Person. Für Kurzwanderungen beträgt der Kostenbeitrag lediglich € 2\,00\npro Person.
URL:https://natur-und-heimat.de/event/halbtagswanderung-um-wulfsdorf/
END:VEVENT
BEGIN:VEVENT
DTSTART;VALUE=DATE:20230708
DTEND;VALUE=DATE:20230709
DTSTAMP:20260425T135326
CREATED:20230701T124041Z
LAST-MODIFIED:20240309T173534Z
UID:2007-1688774400-1688860799@natur-und-heimat.de
SUMMARY:Tagesrundwanderung | Mölln - Pinnsee
DESCRIPTION:Streckeninformation: sehr schattig\, Bademöglichkeit\, Rucksackverpflegung\, evtl. Gruppenticket. \nStreckenlänge: ca. 15 km \nTreffen: 08.45 Uhr \nTreffpunkt: Bahnhofshalle/Hintereingang\, Zug 09.09 Uhr \nTourleitung: Silvia Flinker – Tel. 7073576 \nMobilnummer: 0174/6513957 (Bitte nur während der Wanderung benutzen) \nAls Wanderverein freuen wir uns über Gäste\, die gemeinsam mit uns die Natur erkunden möchten.\nEgal\, ob Sie bereits Mitglied sind oder nicht\, Sie sind herzlich eingeladen\, an unseren Wanderungen teilzunehmen. \nFür Tages- und Halbtagswanderungen erheben wir einen Kostenbeitrag von\n€ 4\,00 pro Person. Für Kurzwanderungen beträgt der Kostenbeitrag lediglich € 2\,00\npro Person.
URL:https://natur-und-heimat.de/event/tagesrundwanderung-moelln-pinnsee/
END:VEVENT
BEGIN:VEVENT
DTSTART;VALUE=DATE:20230712
DTEND;VALUE=DATE:20230713
DTSTAMP:20260425T135326
CREATED:20230701T124651Z
LAST-MODIFIED:20240309T173534Z
UID:2012-1689120000-1689206399@natur-und-heimat.de
SUMMARY:Halbtagswanderung | Blankensee - Hochschulstadtteil
DESCRIPTION:Streckeninformation: evtl. Gruppenfahrschein \nStreckenlänge: ca. 10 km \nTreffen: 08.50 Uhr \nTreffpunkt: Bahnhofshalle/Hintereingang\, Zug 09.10 Uhr \nTourleitung: Iris Toelle \nMobilnummer: 0151/58894910 (Bitte nur während der Wanderung benutzen) \nAls Wanderverein freuen wir uns über Gäste\, die gemeinsam mit uns die Natur erkunden möchten.\nEgal\, ob Sie bereits Mitglied sind oder nicht\, Sie sind herzlich eingeladen\, an unseren Wanderungen teilzunehmen. \nFür Tages- und Halbtagswanderungen erheben wir einen Kostenbeitrag von\n€ 4\,00 pro Person. Für Kurzwanderungen beträgt der Kostenbeitrag lediglich € 2\,00\npro Person.
URL:https://natur-und-heimat.de/event/halbtagswanderung-blankensee-hochschulstadtteil/
END:VEVENT
BEGIN:VEVENT
DTSTART;VALUE=DATE:20230713
DTEND;VALUE=DATE:20230714
DTSTAMP:20260425T135326
CREATED:20230701T125236Z
LAST-MODIFIED:20240309T173534Z
UID:2022-1689206400-1689292799@natur-und-heimat.de
SUMMARY:Kurzwanderung | Cleverbrück - Kuhholz - Bad Schwartau
DESCRIPTION:Streckeninformation: Kaffeeeinkehr „salz oase“ \nStreckenlänge: ca. 5 km \nTreffen: 14.00 Uhr \nTreffpunkt: Haltestelle „Cleverbrücker Str.“\, Buslinie 1 (ZOB-HL 13.43 Uhr) \nTourleitung: Heidi Schlichting – Tel. 497849 \nMobilnummer: 0176/34612097 (Bitte nur während der Wanderung benutzen) \nAls Wanderverein freuen wir uns über Gäste\, die gemeinsam mit uns die Natur erkunden möchten.\nEgal\, ob Sie bereits Mitglied sind oder nicht\, Sie sind herzlich eingeladen\, an unseren Wanderungen teilzunehmen. \nFür Tages- und Halbtagswanderungen erheben wir einen Kostenbeitrag von\n€ 4\,00 pro Person. Für Kurzwanderungen beträgt der Kostenbeitrag lediglich € 2\,00\npro Person.
URL:https://natur-und-heimat.de/event/kurzwanderung-cleverbrueck-kuhholz-bad-schwartau/
END:VEVENT
BEGIN:VEVENT
DTSTART;VALUE=DATE:20230715
DTEND;VALUE=DATE:20230716
DTSTAMP:20260425T135326
CREATED:20230701T130310Z
LAST-MODIFIED:20240309T173534Z
UID:2027-1689379200-1689465599@natur-und-heimat.de
SUMMARY:Tagesausflug | Arboretum Ellerhoop
DESCRIPTION:Streckeninformation: ca. 4 Std. Aufenthalt\, Rucksackverpflegung\, evtl. Kaffeetrinken\nim Baumpark\, evtl. Gruppenticket \nTreffen: 08.20 Uhr \nTreffpunkt: Bahnhofshalle/Hintereingang\, Zug 08.38 Uhr \nTourleitung: Hilde Veltman – Tel. 604700 \nMobilnummer: 0157/88293969 (Bitte nur während der Wanderung benutzen) \nAls Wanderverein freuen wir uns über Gäste\, die gemeinsam mit uns die Natur erkunden möchten.\nEgal\, ob Sie bereits Mitglied sind oder nicht\, Sie sind herzlich eingeladen\, an unseren Wanderungen teilzunehmen. \nFür Tages- und Halbtagswanderungen erheben wir einen Kostenbeitrag von\n€ 4\,00 pro Person. Für Kurzwanderungen beträgt der Kostenbeitrag lediglich € 2\,00\npro Person.
URL:https://natur-und-heimat.de/event/tagesausflug-arboretum-ellerhoop/
END:VEVENT
BEGIN:VEVENT
DTSTART;VALUE=DATE:20230719
DTEND;VALUE=DATE:20230720
DTSTAMP:20260425T135326
CREATED:20230701T130942Z
LAST-MODIFIED:20240309T173534Z
UID:2029-1689724800-1689811199@natur-und-heimat.de
SUMMARY:Nachmittagswanderung | Seerosen im Reinfelder Herrenteich
DESCRIPTION:Streckeninformation: evtl. Eis essen am Schluss\, evtl. Gruppenticket \nStreckenlänge: ca. 9 km \nTreffen: 13.50 Uhr \nTreffpunkt: Bahnhofshalle/Hintereingang\, Zug 14.08 Uhr \nTourleitung: Christa Neubeck – Tel. 495741 \nAls Wanderverein freuen wir uns über Gäste\, die gemeinsam mit uns die Natur erkunden möchten.\nEgal\, ob Sie bereits Mitglied sind oder nicht\, Sie sind herzlich eingeladen\, an unseren Wanderungen teilzunehmen. \nFür Tages- und Halbtagswanderungen erheben wir einen Kostenbeitrag von\n€ 4\,00 pro Person. Für Kurzwanderungen beträgt der Kostenbeitrag lediglich € 2\,00\npro Person.
URL:https://natur-und-heimat.de/event/nachmittagswanderung-seerosen-im-reinfelder-herrenteich/
END:VEVENT
BEGIN:VEVENT
DTSTART;VALUE=DATE:20230722
DTEND;VALUE=DATE:20230723
DTSTAMP:20260425T135326
CREATED:20230701T131615Z
LAST-MODIFIED:20240309T173534Z
UID:2031-1689984000-1690070399@natur-und-heimat.de
SUMMARY:Tagesrundwanderung | Schöhsee - Trammer see (Parnaß-Turm)
DESCRIPTION:Streckeninformation: Bademöglichkeit\, Rucksackverpflegung\, evtl. Gruppenticket \nStreckenlänge : ca. 17 km \nTreffen: 08.45 Uhr \nTreffpunkt: Bahnhofshalle/Hintereingang\, Zug 09.06 Uhr \nTourleitung: Marion Gillwald – Tel. 44890 \nMobilnummer: 0151/18788711 (Bitte nur während der Wanderung benutzen) \nAls Wanderverein freuen wir uns über Gäste\, die gemeinsam mit uns die Natur erkunden möchten.\nEgal\, ob Sie bereits Mitglied sind oder nicht\, Sie sind herzlich eingeladen\, an unseren Wanderungen teilzunehmen. \nFür Tages- und Halbtagswanderungen erheben wir einen Kostenbeitrag von\n€ 4\,00 pro Person. Für Kurzwanderungen beträgt der Kostenbeitrag lediglich € 2\,00\npro Person.
URL:https://natur-und-heimat.de/event/tagesrundwanderung-schoehsee-trammer-see-parnass-turm/
END:VEVENT
BEGIN:VEVENT
DTSTART;VALUE=DATE:20230726
DTEND;VALUE=DATE:20230727
DTSTAMP:20260425T135326
CREATED:20230701T133649Z
LAST-MODIFIED:20240309T173534Z
UID:2036-1690329600-1690415999@natur-und-heimat.de
SUMMARY:Kurzwanderung | Ratzeburg - Buchholz
DESCRIPTION:Streckeninformation: Himbeeressen in Lödings Bauerncafé\, Verlängerung nach Groß Sarau (10 km)\, Rothenhusen (13 km) oder Lübeck (20 km) möiglich.  \nStreckenlänge: ca. 5 km \nTreffen: 12.50 Uhr \nTreffpunkt: Bahnhofshalle/Hintereingang\, Zug 13.10 Uhr \nTourleitung: Friedel Mark – Tel. 7060274 \nMobilnummer: 0157/38401814 (Bitte nur während der Wanderung benutzen) \nAls Wanderverein freuen wir uns über Gäste\, die gemeinsam mit uns die Natur erkunden möchten.\nEgal\, ob Sie bereits Mitglied sind oder nicht\, Sie sind herzlich eingeladen\, an unseren Wanderungen teilzunehmen. \nFür Tages- und Halbtagswanderungen erheben wir einen Kostenbeitrag von\n€ 4\,00 pro Person. Für Kurzwanderungen beträgt der Kostenbeitrag lediglich € 2\,00\npro Person.
URL:https://natur-und-heimat.de/event/kurzwanderung-ratzeburg-buchholz/
END:VEVENT
BEGIN:VEVENT
DTSTART;VALUE=DATE:20230727
DTEND;VALUE=DATE:20230728
DTSTAMP:20260425T135326
CREATED:20230701T134351Z
LAST-MODIFIED:20240309T173534Z
UID:2040-1690416000-1690502399@natur-und-heimat.de
SUMMARY:Kurzwanderung | Falkenhusener Forst
DESCRIPTION:Streckeninformation: Mit der AWO \nStreckenlänge: ca. 5 km \nTreffen: 14.05 Uhr \nTreffpunkt: Haltestelle „Klein Grönau“\, Buslinie 4 (Ab Sandstr. 13.47 Uhr) \nTourleitung: Hilde Veltman – Tel. 604700 \nMobilnummer: 0157/88293969 (Bitte nur während der Wanderung benutzen) \nAls Wanderverein freuen wir uns über Gäste\, die gemeinsam mit uns die Natur erkunden möchten.\nEgal\, ob Sie bereits Mitglied sind oder nicht\, Sie sind herzlich eingeladen\, an unseren Wanderungen teilzunehmen. \nFür Tages- und Halbtagswanderungen erheben wir einen Kostenbeitrag von\n€ 4\,00 pro Person. Für Kurzwanderungen beträgt der Kostenbeitrag lediglich € 2\,00\npro Person.
URL:https://natur-und-heimat.de/event/kurzwanderung-falkenhusener-forst/
END:VEVENT
BEGIN:VEVENT
DTSTART;VALUE=DATE:20230729
DTEND;VALUE=DATE:20230730
DTSTAMP:20260425T135326
CREATED:20230701T134917Z
LAST-MODIFIED:20240309T173534Z
UID:2042-1690588800-1690675199@natur-und-heimat.de
SUMMARY:Tageswanderung | Alsterwanderweg - Ohlstedt - Ohlsdorf
DESCRIPTION:Streckeninformation: Rucksackverpflegung\, evtl. Einkehr „Zur Ratsmühle“\, evtl. Gruppenticket \nStreckenlänge: ca. 18 km \nTreffen: 08.50 Uhr \nTreffpunkt: Bahnhofshalle/Hintereingang\, Zug 09.10 Uhr \nTourleitung: Iris Toelle \nMobilnummer: 0151/58894910 (Bitte nur während der Wanderung benutzen) \nAls Wanderverein freuen wir uns über Gäste\, die gemeinsam mit uns die Natur erkunden möchten.\nEgal\, ob Sie bereits Mitglied sind oder nicht\, Sie sind herzlich eingeladen\, an unseren Wanderungen teilzunehmen. \nFür Tages- und Halbtagswanderungen erheben wir einen Kostenbeitrag von\n€ 4\,00 pro Person. Für Kurzwanderungen beträgt der Kostenbeitrag lediglich € 2\,00\npro Person.
URL:https://natur-und-heimat.de/event/tageswanderung-blankensee-hochschulstadtteil-copy/
END:VEVENT
END:VCALENDAR