BEGIN:VCALENDAR
VERSION:2.0
PRODID:-//Natur und Heimat e. V. - ECPv6.15.17.1//NONSGML v1.0//EN
CALSCALE:GREGORIAN
METHOD:PUBLISH
X-WR-CALNAME:Natur und Heimat e. V.
X-ORIGINAL-URL:https://natur-und-heimat.de
X-WR-CALDESC:Veranstaltungen für Natur und Heimat e. V.
REFRESH-INTERVAL;VALUE=DURATION:PT1H
X-Robots-Tag:noindex
X-PUBLISHED-TTL:PT1H
BEGIN:VTIMEZONE
TZID:UTC
BEGIN:STANDARD
TZOFFSETFROM:+0000
TZOFFSETTO:+0000
TZNAME:UTC
DTSTART:20250101T000000
END:STANDARD
END:VTIMEZONE
BEGIN:VEVENT
DTSTART;VALUE=DATE:20260617
DTEND;VALUE=DATE:20260618
DTSTAMP:20260421T132802
CREATED:20260317T133821Z
LAST-MODIFIED:20260317T133821Z
UID:4690-1781654400-1781740799@natur-und-heimat.de
SUMMARY:Halbtagswanderung / Gleschendorf Seeadlerstation
DESCRIPTION:Streckenformation: Ab Bahnhof Pönitz mit Anja Fingerhut-Fenner\, Initiatorin des\nNaturkundepfades Gleschendorf\, und Besichtigung der Beobachtungsstation;\nRucksackverpflegung\, Einkehrmöglichkeit am Ende bei Bäcker Brede \nTreffen: 09.10 Uhr \nTreffpunkt: Bahnhofshalle/Hintereingang\, Zug 09.28 Uhr \nAnmeldung (begrenzte Teilnehmerzahl) bei \nKarin Luther/Tel. 01706369298 oder E-Mail luther.karin@gmx.de
URL:https://natur-und-heimat.de/event/halbtagswanderung-gleschendorf-seeadlerstation/
CATEGORIES:Wanderungen
END:VEVENT
BEGIN:VEVENT
DTSTART;VALUE=DATE:20260620
DTEND;VALUE=DATE:20260621
DTSTAMP:20260421T132802
CREATED:20260317T134327Z
LAST-MODIFIED:20260317T134327Z
UID:4692-1781913600-1781999999@natur-und-heimat.de
SUMMARY:Tageswanderung / Kittlitz
DESCRIPTION:Streckeninformation: Salemer Moor – Schaalseegebiet – Café Kittlitz\nEinkehr Hofcafé Kittlitz\, anschließend Treckerfahrt zur Ratzeburger Vorstadt\,\nAnhänger für max. 22 Personen\, Kosten ca. 10\,–/Pers. \nStreckenlänge: ca. 19 km \nTreffen: 07.55 Uhr \nTreffpunkt: Bahnhofshalle/Hintereingang\, Zug 08.10 Uhr \nAnmeldung bis 13.06. bei Iris Toelle – Tel. 0151/58894910 \nAls Wanderverein freuen wir uns über Gäste\, die gemeinsam mit uns die Natur erkunden möchten.\nEgal\, ob Sie bereits Mitglied sind oder nicht\, Sie sind herzlich eingeladen\, an unseren Wanderungen teilzunehmen. \nFür Tages- und Halbtagswanderungen erheben wir einen Kostenbeitrag von\n€ 4\,00 pro Person. Für Kurzwanderungen beträgt der Kostenbeitrag lediglich € 2\,00\npro Person.
URL:https://natur-und-heimat.de/event/tageswanderung-kittlitz/
CATEGORIES:Wanderungen
END:VEVENT
BEGIN:VEVENT
DTSTART;VALUE=DATE:20260624
DTEND;VALUE=DATE:20260625
DTSTAMP:20260421T132802
CREATED:20260317T135619Z
LAST-MODIFIED:20260317T135619Z
UID:4700-1782259200-1782345599@natur-und-heimat.de
SUMMARY:Halbtagswanderung / Medebekwanderung
DESCRIPTION:Streckeninformation: Rucksackverpflegung \nStreckenlänge: ca. 12 km \nTreffen: 09.30 Uhr \nTreffpunkt: Haltestelle „Kirschenallee“ (ZOB 09.05 Uhr) \nTourleitung: Andreas Sassenhagen/Tel. 2034832 \nMobilnummer: 0162/8581577 (Bitte nur während der Wanderung benutzen) \nAls Wanderverein freuen wir uns über Gäste\, die gemeinsam mit uns die Natur erkunden möchten.\nEgal\, ob Sie bereits Mitglied sind oder nicht\, Sie sind herzlich eingeladen\, an unseren Wanderungen teilzunehmen. \nFür Tages- und Halbtagswanderungen erheben wir einen Kostenbeitrag von\n€ 4\,00 pro Person. Für Kurzwanderungen beträgt der Kostenbeitrag lediglich € 2\,00\npro Person.
URL:https://natur-und-heimat.de/event/halbtagswanderung-medebekwanderung/
CATEGORIES:Wanderungen
END:VEVENT
BEGIN:VEVENT
DTSTART;VALUE=DATE:20260626
DTEND;VALUE=DATE:20260627
DTSTAMP:20260421T132803
CREATED:20260317T134526Z
LAST-MODIFIED:20260317T134526Z
UID:4694-1782432000-1782518399@natur-und-heimat.de
SUMMARY:Kurzwanderung / Unterer Herrenteich Reinfeld
DESCRIPTION:Streckeninformation: Mit der AWO \nTreffen: 13.30 Uhr \nTreffpunkt: Bahnhofshalle/Hintereingang\, Zug 13.37 Uhr \nTourleitung: Hilde Veltman – Tel. 604700 \nMobilnummer: 0157/88293969 (Bitte nur während der Wanderung benutzen) \nAls Wanderverein freuen wir uns über Gäste\, die gemeinsam mit uns die Natur erkunden möchten.\nEgal\, ob Sie bereits Mitglied sind oder nicht\, Sie sind herzlich eingeladen\, an unseren Wanderungen teilzunehmen. \nFür Tages- und Halbtagswanderungen erheben wir einen Kostenbeitrag von\n€ 4\,00 pro Person. Für Kurzwanderungen beträgt der Kostenbeitrag lediglich € 2\,00\npro Person.
URL:https://natur-und-heimat.de/event/kurzwanderung-unterer-herrenteich-reinfeld/
CATEGORIES:Wanderungen
END:VEVENT
BEGIN:VEVENT
DTSTART;VALUE=DATE:20260627
DTEND;VALUE=DATE:20260628
DTSTAMP:20260421T132803
CREATED:20260317T134746Z
LAST-MODIFIED:20260317T134746Z
UID:4696-1782518400-1782604799@natur-und-heimat.de
SUMMARY:Tagesrundwanderung / Preetz - Lankersee
DESCRIPTION:Streckeninformation: Rucksackverpflegung\, Badegelegenheit \nStreckenlänge: ca. 17 km \nTreffen: 08.50 Uhr \nTreffpunkt: Bahnhofshalle/Hintereingang\, Zug 09.06 Uhr \nTourleitung: Andreas Sassenhagen/Tel. 2034832 \nMobilnummer: 0162/8581577 (Bitte nur während der Wanderung benutzen) \nAls Wanderverein freuen wir uns über Gäste\, die gemeinsam mit uns die Natur erkunden möchten.\nEgal\, ob Sie bereits Mitglied sind oder nicht\, Sie sind herzlich eingeladen\, an unseren Wanderungen teilzunehmen. \nFür Tages- und Halbtagswanderungen erheben wir einen Kostenbeitrag von\n€ 4\,00 pro Person. Für Kurzwanderungen beträgt der Kostenbeitrag lediglich € 2\,00\npro Person.
URL:https://natur-und-heimat.de/event/tagesrundwanderung-preetz-lankersee/
CATEGORIES:Wanderungen
END:VEVENT
BEGIN:VEVENT
DTSTART;VALUE=DATE:20261005
DTEND;VALUE=DATE:20261013
DTSTAMP:20260421T132803
CREATED:20251207T120517Z
LAST-MODIFIED:20251207T120517Z
UID:4586-1791158400-1791849599@natur-und-heimat.de
SUMMARY:Wanderreise Mosel
DESCRIPTION:Reiseinformation: \n7 Übernachtungen im Hotel mit Halbpension\nEZ 710\,– € / DZ 660\,– € incl. Bahnfahrt\, Führung Enkirch\nWeinprobe\, Führung Trier\nDeutschlandticket vor Ort empfehlenswert \nVerbindliche schriftliche Anmeldung bei\nIris Toelle\, Mönkhofer Weg 118\, 23562 Lübeck\nE-Mail: i.toelle@t-online.de \nMobilnummer: 0151/58894910
URL:https://natur-und-heimat.de/event/wanderreise-mosel/
CATEGORIES:Wanderreise
END:VEVENT
END:VCALENDAR